{"text_format":"1","workbook":"xlsx","n_sheets":19,"sheets":["Zeiterfassung","Übersicht","Auswertungsbasis","Pensendefinition","Pensenvereinbarung","Jahreskalender","Feiertage","Filter","Listen","Anleitung","A2","A3","A4","A5","A6","Kennzahlen","Leistungskatalog","Zeiterfassung Layout","Umstellung"],"not_rendered":{"charts":0,"images":14,"macros":1,"external_links":0,"defined_names":191,"comments":5,"pivot_tables":0},"unopened":[],"bounds":{"document_bytes":16777216,"sheet_cells":100000,"rows_first":2000,"rows_last":500,"rows_between":2000,"halvings":0,"cell_chars":16384,"cell_head_chars":4096},"cells_cut":0,"cells_raw":0,"read":"whole","date_system":"1900"}

{"sheet":"Zeiterfassung","index":0,"n_rows":373,"n_cols":28,"rows_kept":373,"cut":false,"hidden":false,"merged":[[342,1,372,1],[68,1,98,1],[99,1,128,1],[129,1,159,1],[160,1,190,1],[191,1,219,1],[220,1,250,1],[251,1,280,1],[281,1,311,1],[312,1,341,1],[2,4,2,7],[2,11,2,16],[2,23,2,27],[7,1,37,1],[38,1,67,1],[3,14,3,17]]}
[null,"Leistungs- und Arbeitszeiterfassung",null,null,null,null,null,null,null,null,null,null,null,null,null,null,null,null,null,null,null,null,null,null,null,{"$f":"IF(Z5<0,\"-\"&TEXT(ABS(Z5),\"[Rot][h]:mm\"),IF(Z5=0,\"0:00\",TEXT(Z5,\"[h]:mm\")))","v":"0:00"}]
[]
[null,"Lehrperson:",null,null,{"$f":"TRIM(Pensendefinition!D7 & \" \" & Pensendefinition!D5)","v":""},null,null,null,null,null,null,{"$f":"TRIM(Pensendefinition!D7 & \" \" & Pensendefinition!D5)","v":""},null,null,null,null,null,null,null,null,"Schule:",null,null,{"$f":"TRIM(Pensendefinition!D9)","v":""}]
[null,null,null,null,null,null,null,null,null,null,null,null,null,null,{"$f":"SUBSTITUTE(Titel_kurz_LG1,\"-\",\"\")","v":"Kernauftrag"}]
[null,null,null,null,null,{"$f":"SUM(F8:F373)","v":262},104,13,249,0,0,0,0,0,0,0,0,0,0,0,0,0,0,0,null,{"$f":"SUM(Z8:Z371)","v":0}]
[null,null,"Datum",null,null,null,null,null,null,"Feiertag","RAZ","Typ","Soll","Abw.",{"$f":"Titel_ULG1","v":"Unterricht"},{"$f":"Titel_ULG2","v":"Lernende"},{"$f":"Titel_ULG3","v":"Schule"},{"$f":"Titel_ULG4","v":"Lehrperson"},{"$f":"Titel_kurz_LG2","v":"Klassen-lehrperson"},{"$f":"Titel_kurz_LG3","v":"Besondere Aufgaben"},{"$f":"Titel_kurz_LG4","v":"Tages-strukturen"},{"$f":"Titel_kurz_LG5","v":"Weitere Funktionen"},"Gutschrift","Haben","Tagessaldo","Saldo calc","Saldo cumul","Jahressaldo"]
[null,null,"TG","M","KW","WT","WE","FT","AT","Feiertag","RAZ","Typ","Soll","Abwesend","Unterricht","Lernende","Schule","Lehrperson","KLP","BA","MT","KH","GSAbesend","Haben","Saldo","Saldo clac","Feld1"]
[null,{"$f":"C8","v":"2023-08-01"},{"$f":"Jahreskalender!C8","v":"2023-08-01"},{"$f":"MONTH(C8)","v":8},{"$f":"WEEKNUM(C8,2)","v":32},{"$f":"IF(WEEKDAY(C8,2)>5,0,1)","v":1},{"$f":"IF(WEEKDAY(C8,2)>5,1,0)","v":0},{"$f":"IF(ISERROR(VLOOKUP(C8,tabFeiertage,2,FALSE)),0,VLOOKUP(C8,tabFeiertage,3,FALSE))*F8","v":1},{"$f":"F8-H8","v":0},{"$f":"IF(ISERROR(VLOOKUP(C8,tabFeiertage,2,FALSE)),FALSE,TRUE)","v":true},{"$f":"INDIRECT(\"RAZ_\"& TEXT(WEEKDAY(C8,2),0) & \"WT\")*I8","v":0},{"$f":"Jahreskalender!S8","v":"SFZ"},{"$f":"Jahreskalender!V8","v":0},null,null,null,null,null,null,null,null,null,{"$f":"IF(ISERROR((SEARCH(N8,\"_KR_MI_UN_UR_UU\")*0)),0,IF(SEARCH(N8,\"_KR_MI_UN_UR_UU\")>1,K8,0))","v":0},{"$f":"SUM(O8:W8)","v":0},{"$f":"IF(Z8<0,\"-\"&TEXT(ABS(Z8),\"[Rot][h]:mm\"),IF(Z8=0,\"0:00\",TEXT(Z8,\"[h]:mm\")))","v":"0:00"},{"$f":"X8-M8","v":0},{"$f":"Z8","v":0},{"$f":"IF(AA8<0,\"-\"&TEXT(ABS(AA8),\"[Rot][h]:mm\"),IF(AA8=0,\"0:00\",TEXT(AA8,\"[h]:mm\")))","v":"0:00"}]
[null,null,{"$f":"Jahreskalender!C9","v":"2023-08-02"},8,32,1,0,0,1,false,0,{"$f":"Jahreskalender!S9","v":"SFZ"},{"$f":"Jahreskalender!V9","v":0},null,null,null,null,null,null,null,null,null,0,{"$f":"SUM(O9:W9)","v":0},{"$f":"IF(Z9<0,\"-\"&TEXT(ABS(Z9),\"[Rot][h]:mm\"),IF(Z9=0,\"0:00\",TEXT(Z9,\"[h]:mm\")))","v":"0:00"},0,{"$f":"AA8+Z9","v":0},{"$f":"IF(AA9<0,\"-\"&TEXT(ABS(AA9),\"[Rot][h]:mm\"),IF(AA9=0,\"0:00\",TEXT(AA9,\"[h]:mm\")))","v":"0:00"}]
[null,null,{"$f":"Jahreskalender!C10","v":"2023-08-03"},8,32,1,0,0,1,false,0,{"$f":"Jahreskalender!S10","v":"SFZ"},{"$f":"Jahreskalender!V10","v":0},null,null,null,null,null,null,null,null,null,0,0,"0:00",0,{"$f":"AA9+Z10","v":0},{"$f":"IF(AA10<0,\"-\"&TEXT(ABS(AA10),\"[Rot][h]:mm\"),IF(AA10=0,\"0:00\",TEXT(AA10,\"[h]:mm\")))","v":"0:00"}]
[null,null,{"$f":"Jahreskalender!C11","v":"2023-08-04"},8,32,1,0,0,1,false,0,{"$f":"Jahreskalender!S11","v":"SFZ"},{"$f":"Jahreskalender!V11","v":0},null,null,null,null,null,null,null,null,null,0,0,"0:00",0,0,"0:00"]
[null,null,{"$f":"Jahreskalender!C12","v":"2023-08-05"},8,32,0,1,0,0,false,0,{"$f":"Jahreskalender!S12","v":"SFZ"},{"$f":"Jahreskalender!V12","v":0},null,null,null,null,null,null,null,null,null,0,0,"0:00",0,0,"0:00"]
[null,null,{"$f":"Jahreskalender!C13","v":"2023-08-06"},8,32,0,1,0,0,false,0,{"$f":"Jahreskalender!S13","v":"SFZ"},{"$f":"Jahreskalender!V13","v":0},null,null,null,null,null,null,null,null,null,0,{"$f":"SUM(O13:W13)","v":0},"0:00",0,0,"0:00"]
[null,null,{"$f":"Jahreskalender!C14","v":"2023-08-07"},8,33,1,0,0,1,false,0,{"$f":"Jahreskalender!S14","v":"SFZ"},{"$f":"Jahreskalender!V14","v":0},null,null,null,null,null,null,null,null,null,0,0,"0:00",0,0,"0:00"]
[null,null,{"$f":"Jahreskalender!C15","v":"2023-08-08"},8,33,1,0,0,1,false,0,{"$f":"Jahreskalender!S15","v":"SFZ"},{"$f":"Jahreskalender!V15","v":0},null,null,null,null,null,null,null,null,null,0,0,"0:00",0,0,"0:00"]
[null,null,{"$f":"Jahreskalender!C16","v":"2023-08-09"},{"$f":"MONTH(C16)","v":8},{"$f":"WEEKNUM(C16,2)","v":33},{"$f":"IF(WEEKDAY(C16,2)>5,0,1)","v":1},{"$f":"IF(WEEKDAY(C16,2)>5,1,0)","v":0},{"$f":"IF(ISERROR(VLOOKUP(C16,tabFeiertage,2,FALSE)),0,VLOOKUP(C16,tabFeiertage,3,FALSE))*F16","v":0},{"$f":"F16-H16","v":1},{"$f":"IF(ISERROR(VLOOKUP(C16,tabFeiertage,2,FALSE)),FALSE,TRUE)","v":false},{"$f":"INDIRECT(\"RAZ_\"& TEXT(WEEKDAY(C16,2),0) & \"WT\")*I16","v":0},{"$f":"Jahreskalender!S16","v":"SFZ"},{"$f":"Jahreskalender!V16","v":0},null,null,null,null,null,null,null,null,null,0,{"$f":"SUM(O16:W16)","v":0},{"$f":"IF(Z16<0,\"-\"&TEXT(ABS(Z16),\"[Rot][h]:mm\"),IF(Z16=0,\"0:00\",TEXT(Z16,\"[h]:mm\")))","v":"0:00"},{"$f":"X16-M16","v":0},0,"0:00"]
[null,null,{"$f":"Jahreskalender!C17","v":"2023-08-10"},8,33,1,0,0,1,false,0,{"$f":"Jahreskalender!S17","v":"SFZ"},{"$f":"Jahreskalender!V17","v":0},null,null,null,null,null,null,null,null,null,{"$f":"IF(ISERROR((SEARCH(N17,\"_KR_MI_UN_UR_UU\")*0)),0,IF(SEARCH(N17,\"_KR_MI_UN_UR_UU\")>1,K17,0))","v":0},0,"0:00",0,{"$f":"AA16+Z17","v":0},{"$f":"IF(AA17<0,\"-\"&TEXT(ABS(AA17),\"[Rot][h]:mm\"),IF(AA17=0,\"0:00\",TEXT(AA17,\"[h]:mm\")))","v":"0:00"}]
[null,null,{"$f":"Jahreskalender!C18","v":"2023-08-11"},8,33,1,0,0,1,false,0,{"$f":"Jahreskalender!S18","v":"SFZ"},{"$f":"Jahreskalender!V18","v":0},null,null,null,null,null,null,null,null,null,{"$f":"IF(ISERROR((SEARCH(N18,\"_KR_MI_UN_UR_UU\")*0)),0,IF(SEARCH(N18,\"_KR_MI_UN_UR_UU\")>1,K18,0))","v":0},0,"0:00",0,0,"0:00"]
[null,null,{"$f":"Jahreskalender!C19","v":"2023-08-12"},8,33,0,1,0,0,false,0,{"$f":"Jahreskalender!S19","v":"SFZ"},{"$f":"Jahreskalender!V19","v":0},null,null,null,null,null,null,null,null,null,0,0,"0:00",0,0,"0:00"]
[null,null,{"$f":"Jahreskalender!C20","v":"2023-08-13"},8,33,0,1,0,0,false,0,{"$f":"Jahreskalender!S20","v":"SFZ"},{"$f":"Jahreskalender!V20","v":0},null,null,null,null,null,null,null,null,null,0,0,"0:00",0,0,"0:00"]
[null,null,{"$f":"Jahreskalender!C21","v":"2023-08-14"},8,34,1,0,0,1,false,0,{"$f":"Jahreskalender!S21","v":"SFZ"},{"$f":"Jahreskalender!V21","v":0},null,null,null,null,null,null,null,null,null,0,0,"0:00",0,0,"0:00"]
[null,null,{"$f":"Jahreskalender!C22","v":"2023-08-15"},8,34,1,0,1,0,true,0,{"$f":"Jahreskalender!S22","v":"SFZ"},{"$f":"Jahreskalender!V22","v":0},null,null,null,null,null,null,null,null,null,0,0,"0:00",0,0,"0:00"]
[null,null,{"$f":"Jahreskalender!C23","v":"2023-08-16"},8,34,1,0,0,1,false,0,{"$f":"Jahreskalender!S23","v":"SFZ"},{"$f":"Jahreskalender!V23","v":0},null,null,null,null,null,null,null,null,null,0,0,"0:00",0,0,"0:00"]
[null,null,{"$f":"Jahreskalender!C24","v":"2023-08-17"},8,34,1,0,0,1,false,0,{"$f":"Jahreskalender!S24","v":"SFZ"},{"$f":"Jahreskalender!V24","v":0},null,null,null,null,null,null,null,null,null,0,0,"0:00",0,0,"0:00"]
[null,null,{"$f":"Jahreskalender!C25","v":"2023-08-18"},8,34,1,0,0,1,false,0,{"$f":"Jahreskalender!S25","v":"SFZ"},{"$f":"Jahreskalender!V25","v":0},null,null,null,null,null,null,null,null,null,0,0,"0:00",0,0,"0:00"]
[null,null,{"$f":"Jahreskalender!C26","v":"2023-08-19"},8,34,0,1,0,0,false,0,{"$f":"Jahreskalender!S26","v":"SFZ"},{"$f":"Jahreskalender!V26","v":0},null,null,null,null,null,null,null,null,null,0,0,"0:00",0,0,"0:00"]
[null,null,{"$f":"Jahreskalender!C27","v":"2023-08-20"},8,34,0,1,0,0,false,0,{"$f":"Jahreskalender!S27","v":"SFZ"},{"$f":"Jahreskalender!V27","v":0},null,null,null,null,null,null,null,null,null,0,0,"0:00",0,0,"0:00"]
[null,null,{"$f":"Jahreskalender!C28","v":"2023-08-21"},8,35,1,0,0,1,false,0,{"$f":"Jahreskalender!S28","v":"SZ"},{"$f":"Jahreskalender!V28","v":0},null,null,null,null,null,null,null,null,null,0,0,"0:00",0,0,"0:00"]
[null,null,{"$f":"Jahreskalender!C29","v":"2023-08-22"},8,35,1,0,0,1,false,0,{"$f":"Jahreskalender!S29","v":"SZ"},{"$f":"Jahreskalender!V29","v":0},null,null,null,null,null,null,null,null,null,0,0,"0:00",0,0,"0:00"]
[null,null,{"$f":"Jahreskalender!C30","v":"2023-08-23"},8,35,1,0,0,1,false,0,{"$f":"Jahreskalender!S30","v":"SZ"},{"$f":"Jahreskalender!V30","v":0},null,null,null,null,null,null,null,null,null,0,0,"0:00",0,0,"0:00"]
[null,null,{"$f":"Jahreskalender!C31","v":"2023-08-24"},8,35,1,0,0,1,false,0,{"$f":"Jahreskalender!S31","v":"SZ"},{"$f":"Jahreskalender!V31","v":0},null,null,null,null,null,null,null,null,null,0,0,"0:00",0,0,"0:00"]
[null,null,{"$f":"Jahreskalender!C32","v":"2023-08-25"},8,35,1,0,0,1,false,0,{"$f":"Jahreskalender!S32","v":"SZ"},{"$f":"Jahreskalender!V32","v":0},null,null,null,null,null,null,null,null,null,0,0,"0:00",0,0,"0:00"]
[null,null,{"$f":"Jahreskalender!C33","v":"2023-08-26"},8,35,0,1,0,0,false,0,{"$f":"Jahreskalender!S33","v":"SZ"},{"$f":"Jahreskalender!V33","v":0},null,null,null,null,null,null,null,null,null,0,0,"0:00",0,0,"0:00"]
[null,null,{"$f":"Jahreskalender!C34","v":"2023-08-27"},8,35,0,1,0,0,false,0,{"$f":"Jahreskalender!S34","v":"SZ"},{"$f":"Jahreskalender!V34","v":0},null,null,null,null,null,null,null,null,null,0,0,"0:00",0,0,"0:00"]
[null,null,{"$f":"Jahreskalender!C35","v":"2023-08-28"},8,36,1,0,0,1,false,0,{"$f":"Jahreskalender!S35","v":"SZ"},{"$f":"Jahreskalender!V35","v":0},null,null,null,null,null,null,null,null,null,0,0,"0:00",0,0,"0:00"]
[null,null,{"$f":"Jahreskalender!C36","v":"2023-08-29"},8,36,1,0,0,1,false,0,{"$f":"Jahreskalender!S36","v":"SZ"},{"$f":"Jahreskalender!V36","v":0},null,null,null,null,null,null,null,null,null,0,0,"0:00",0,0,"0:00"]
[null,null,{"$f":"Jahreskalender!C37","v":"2023-08-30"},8,36,1,0,0,1,false,0,{"$f":"Jahreskalender!S37","v":"SZ"},{"$f":"Jahreskalender!V37","v":0},null,null,null,null,null,null,null,null,null,0,0,"0:00",0,0,"0:00"]
[null,null,{"$f":"Jahreskalender!C38","v":"2023-08-31"},8,36,1,0,0,1,false,0,{"$f":"Jahreskalender!S38","v":"SZ"},{"$f":"Jahreskalender!V38","v":0},null,null,null,null,null,null,null,null,null,0,0,"0:00",0,0,"0:00"]
[null,{"$f":"C39","v":"2023-09-01"},{"$f":"Jahreskalender!C39","v":"2023-09-01"},9,36,1,0,0,1,false,0,{"$f":"Jahreskalender!S39","v":"SZ"},{"$f":"Jahreskalender!V39","v":0},null,null,null,null,null,null,null,null,null,0,0,"0:00",0,0,"0:00"]
[null,null,{"$f":"Jahreskalender!C40","v":"2023-09-02"},9,36,0,1,0,0,false,0,{"$f":"Jahreskalender!S40","v":"SZ"},{"$f":"Jahreskalender!V40","v":0},null,null,null,null,null,null,null,null,null,0,0,"0:00",0,0,"0:00"]
[null,null,{"$f":"Jahreskalender!C41","v":"2023-09-03"},9,36,0,1,0,0,false,0,{"$f":"Jahreskalender!S41","v":"SZ"},{"$f":"Jahreskalender!V41","v":0},null,null,null,null,null,null,null,null,null,0,0,"0:00",0,0,"0:00"]
[null,null,{"$f":"Jahreskalender!C42","v":"2023-09-04"},9,37,1,0,0,1,false,0,{"$f":"Jahreskalender!S42","v":"SZ"},{"$f":"Jahreskalender!V42","v":0},null,null,null,null,null,null,null,null,null,0,0,"0:00",0,0,"0:00"]
[null,null,{"$f":"Jahreskalender!C43","v":"2023-09-05"},9,37,1,0,0,1,false,0,{"$f":"Jahreskalender!S43","v":"SZ"},{"$f":"Jahreskalender!V43","v":0},null,null,null,null,null,null,null,null,null,0,0,"0:00",0,0,"0:00"]
[null,null,{"$f":"Jahreskalender!C44","v":"2023-09-06"},9,37,1,0,0,1,false,0,{"$f":"Jahreskalender!S44","v":"SZ"},{"$f":"Jahreskalender!V44","v":0},null,null,null,null,null,null,null,null,null,0,0,"0:00",0,0,"0:00"]
[null,null,{"$f":"Jahreskalender!C45","v":"2023-09-07"},9,37,1,0,0,1,false,0,{"$f":"Jahreskalender!S45","v":"SZ"},{"$f":"Jahreskalender!V45","v":0},null,null,null,null,null,null,null,null,null,0,0,"0:00",0,0,"0:00"]
[null,null,{"$f":"Jahreskalender!C46","v":"2023-09-08"},9,37,1,0,0,1,false,0,{"$f":"Jahreskalender!S46","v":"SZ"},{"$f":"Jahreskalender!V46","v":0},null,null,null,null,null,null,null,null,null,0,0,"0:00",0,0,"0:00"]
[null,null,{"$f":"Jahreskalender!C47","v":"2023-09-09"},9,37,0,1,0,0,false,0,{"$f":"Jahreskalender!S47","v":"SZ"},{"$f":"Jahreskalender!V47","v":0},null,null,null,null,null,null,null,null,null,0,0,"0:00",0,0,"0:00"]
[null,null,{"$f":"Jahreskalender!C48","v":"2023-09-10"},9,37,0,1,0,0,false,0,{"$f":"Jahreskalender!S48","v":"SZ"},{"$f":"Jahreskalender!V48","v":0},null,null,null,null,null,null,null,null,null,0,0,"0:00",0,0,"0:00"]
[null,null,{"$f":"Jahreskalender!C49","v":"2023-09-11"},9,38,1,0,0,1,false,0,{"$f":"Jahreskalender!S49","v":"SZ"},{"$f":"Jahreskalender!V49","v":0},null,null,null,null,null,null,null,null,null,0,0,"0:00",0,0,"0:00"]
[null,null,{"$f":"Jahreskalender!C50","v":"2023-09-12"},9,38,1,0,0,1,false,0,{"$f":"Jahreskalender!S50","v":"SZ"},{"$f":"Jahreskalender!V50","v":0},null,null,null,null,null,null,null,null,null,0,0,"0:00",0,0,"0:00"]
[null,null,{"$f":"Jahreskalender!C51","v":"2023-09-13"},9,38,1,0,0,1,false,0,{"$f":"Jahreskalender!S51","v":"SZ"},{"$f":"Jahreskalender!V51","v":0},null,null,null,null,null,null,null,null,null,0,0,"0:00",0,0,"0:00"]
[null,null,{"$f":"Jahreskalender!C52","v":"2023-09-14"},9,38,1,0,0,1,false,0,{"$f":"Jahreskalender!S52","v":"SZ"},{"$f":"Jahreskalender!V52","v":0},null,null,null,null,null,null,null,null,null,0,0,"0:00",0,0,"0:00"]
[null,null,{"$f":"Jahreskalender!C53","v":"2023-09-15"},9,38,1,0,0,1,false,0,{"$f":"Jahreskalender!S53","v":"SZ"},{"$f":"Jahreskalender!V53","v":0},null,null,null,null,null,null,null,null,null,0,0,"0:00",0,0,"0:00"]
[null,null,{"$f":"Jahreskalender!C54","v":"2023-09-16"},9,38,0,1,0,0,false,0,{"$f":"Jahreskalender!S54","v":"SZ"},{"$f":"Jahreskalender!V54","v":0},null,null,null,null,null,null,null,null,null,0,0,"0:00",0,0,"0:00"]
[null,null,{"$f":"Jahreskalender!C55","v":"2023-09-17"},9,38,0,1,0,0,false,0,{"$f":"Jahreskalender!S55","v":"SZ"},{"$f":"Jahreskalender!V55","v":0},null,null,null,null,null,null,null,null,null,0,0,"0:00",0,0,"0:00"]
[null,null,{"$f":"Jahreskalender!C56","v":"2023-09-18"},9,39,1,0,0,1,false,0,{"$f":"Jahreskalender!S56","v":"SZ"},{"$f":"Jahreskalender!V56","v":0},null,null,null,null,null,null,null,null,null,0,0,"0:00",0,0,"0:00"]
[null,null,{"$f":"Jahreskalender!C57","v":"2023-09-19"},9,39,1,0,0,1,false,0,{"$f":"Jahreskalender!S57","v":"SZ"},{"$f":"Jahreskalender!V57","v":0},null,null,null,null,null,null,null,null,null,0,0,"0:00",0,0,"0:00"]
[null,null,{"$f":"Jahreskalender!C58","v":"2023-09-20"},9,39,1,0,0,1,false,0,{"$f":"Jahreskalender!S58","v":"SZ"},{"$f":"Jahreskalender!V58","v":0},null,null,null,null,null,null,null,null,null,0,0,"0:00",0,0,"0:00"]
[null,null,{"$f":"Jahreskalender!C59","v":"2023-09-21"},9,39,1,0,0,1,false,0,{"$f":"Jahreskalender!S59","v":"SZ"},{"$f":"Jahreskalender!V59","v":0},null,null,null,null,null,null,null,null,null,0,0,"0:00",0,0,"0:00"]
[null,null,{"$f":"Jahreskalender!C60","v":"2023-09-22"},9,39,1,0,0,1,false,0,{"$f":"Jahreskalender!S60","v":"SZ"},{"$f":"Jahreskalender!V60","v":0},null,null,null,null,null,null,null,null,null,0,0,"0:00",0,0,"0:00"]
[null,null,{"$f":"Jahreskalender!C61","v":"2023-09-23"},9,39,0,1,0,0,false,0,{"$f":"Jahreskalender!S61","v":"SZ"},{"$f":"Jahreskalender!V61","v":0},null,null,null,null,null,null,null,null,null,0,0,"0:00",0,0,"0:00"]
[null,null,{"$f":"Jahreskalender!C62","v":"2023-09-24"},9,39,0,1,0,0,false,0,{"$f":"Jahreskalender!S62","v":"SZ"},{"$f":"Jahreskalender!V62","v":0},null,null,null,null,null,null,null,null,null,0,0,"0:00",0,0,"0:00"]
[null,null,{"$f":"Jahreskalender!C63","v":"2023-09-25"},9,40,1,0,0,1,false,0,{"$f":"Jahreskalender!S63","v":"SZ"},{"$f":"Jahreskalender!V63","v":0},null,null,null,null,null,null,null,null,null,0,0,"0:00",0,0,"0:00"]
[null,null,{"$f":"Jahreskalender!C64","v":"2023-09-26"},9,40,1,0,0,1,false,0,{"$f":"Jahreskalender!S64","v":"SZ"},{"$f":"Jahreskalender!V64","v":0},null,null,null,null,null,null,null,null,null,0,{"$f":"SUM(O64:W64)","v":0},"0:00",0,0,"0:00"]
[null,null,{"$f":"Jahreskalender!C65","v":"2023-09-27"},9,40,1,0,0,1,false,0,{"$f":"Jahreskalender!S65","v":"SZ"},{"$f":"Jahreskalender!V65","v":0},null,null,null,null,null,null,null,null,null,0,{"$f":"SUM(O65:W65)","v":0},"0:00",0,0,"0:00"]
[null,null,{"$f":"Jahreskalender!C66","v":"2023-09-28"},9,40,1,0,0,1,false,0,{"$f":"Jahreskalender!S66","v":"SZ"},{"$f":"Jahreskalender!V66","v":0},null,null,null,null,null,null,null,null,null,0,{"$f":"SUM(O66:W66)","v":0},"0:00",0,0,"0:00"]
[null,null,{"$f":"Jahreskalender!C67","v":"2023-09-29"},9,40,1,0,0,1,false,0,{"$f":"Jahreskalender!S67","v":"SZ"},{"$f":"Jahreskalender!V67","v":0},null,null,null,null,null,null,null,null,null,0,{"$f":"SUM(O67:W67)","v":0},"0:00",0,0,"0:00"]
[null,null,{"$f":"Jahreskalender!C68","v":"2023-09-30"},9,40,0,1,0,0,false,0,{"$f":"Jahreskalender!S68","v":"SFZ"},{"$f":"Jahreskalender!V68","v":0},null,null,null,null,null,null,null,null,null,0,{"$f":"SUM(O68:W68)","v":0},"0:00",0,0,"0:00"]
[null,{"$f":"C69","v":"2023-10-01"},{"$f":"Jahreskalender!C69","v":"2023-10-01"},10,40,0,1,0,0,false,0,{"$f":"Jahreskalender!S69","v":"SFZ"},{"$f":"Jahreskalender!V69","v":0},null,null,null,null,null,null,null,null,null,0,0,"0:00",0,0,"0:00"]
[null,null,{"$f":"Jahreskalender!C70","v":"2023-10-02"},10,41,1,0,0,1,false,0,{"$f":"Jahreskalender!S70","v":"SFZ"},{"$f":"Jahreskalender!V70","v":0},null,null,null,null,null,null,null,null,null,0,0,"0:00",0,0,"0:00"]
[null,null,{"$f":"Jahreskalender!C71","v":"2023-10-03"},10,41,1,0,0,1,false,0,{"$f":"Jahreskalender!S71","v":"SFZ"},{"$f":"Jahreskalender!V71","v":0},null,null,null,null,null,null,null,null,null,0,0,"0:00",0,0,"0:00"]
[null,null,{"$f":"Jahreskalender!C72","v":"2023-10-04"},10,41,1,0,0,1,false,0,{"$f":"Jahreskalender!S72","v":"SFZ"},{"$f":"Jahreskalender!V72","v":0},null,null,null,null,null,null,null,null,null,0,0,"0:00",0,0,"0:00"]
[null,null,{"$f":"Jahreskalender!C73","v":"2023-10-05"},10,41,1,0,0,1,false,0,{"$f":"Jahreskalender!S73","v":"SFZ"},{"$f":"Jahreskalender!V73","v":0},null,null,null,null,null,null,null,null,null,0,0,"0:00",0,0,"0:00"]
[null,null,{"$f":"Jahreskalender!C74","v":"2023-10-06"},10,41,1,0,0,1,false,0,{"$f":"Jahreskalender!S74","v":"SFZ"},{"$f":"Jahreskalender!V74","v":0},null,null,null,null,null,null,null,null,null,0,0,"0:00",0,0,"0:00"]
[null,null,{"$f":"Jahreskalender!C75","v":"2023-10-07"},10,41,0,1,0,0,false,0,{"$f":"Jahreskalender!S75","v":"SFZ"},{"$f":"Jahreskalender!V75","v":0},null,null,null,null,null,null,null,null,null,0,0,"0:00",0,0,"0:00"]
[null,null,{"$f":"Jahreskalender!C76","v":"2023-10-08"},10,41,0,1,0,0,false,0,{"$f":"Jahreskalender!S76","v":"SFZ"},{"$f":"Jahreskalender!V76","v":0},null,null,null,null,null,null,null,null,null,0,0,"0:00",0,0,"0:00"]
[null,null,{"$f":"Jahreskalender!C77","v":"2023-10-09"},10,42,1,0,0,1,false,0,{"$f":"Jahreskalender!S77","v":"SFZ"},{"$f":"Jahreskalender!V77","v":0},null,null,null,null,null,null,null,null,null,0,0,"0:00",0,0,"0:00"]
[null,null,{"$f":"Jahreskalender!C78","v":"2023-10-10"},10,42,1,0,0,1,false,0,{"$f":"Jahreskalender!S78","v":"SFZ"},{"$f":"Jahreskalender!V78","v":0},null,null,null,null,null,null,null,null,null,0,0,"0:00",0,0,"0:00"]
[null,null,{"$f":"Jahreskalender!C79","v":"2023-10-11"},10,42,1,0,0,1,false,0,{"$f":"Jahreskalender!S79","v":"SFZ"},{"$f":"Jahreskalender!V79","v":0},null,null,null,null,null,null,null,null,null,0,0,"0:00",0,0,"0:00"]
[null,null,{"$f":"Jahreskalender!C80","v":"2023-10-12"},{"$f":"MONTH(C80)","v":10},{"$f":"WEEKNUM(C80,2)","v":42},{"$f":"IF(WEEKDAY(C80,2)>5,0,1)","v":1},{"$f":"IF(WEEKDAY(C80,2)>5,1,0)","v":0},{"$f":"IF(ISERROR(VLOOKUP(C80,tabFeiertage,2,FALSE)),0,VLOOKUP(C80,tabFeiertage,3,FALSE))*F80","v":0},{"$f":"F80-H80","v":1},{"$f":"IF(ISERROR(VLOOKUP(C80,tabFeiertage,2,FALSE)),FALSE,TRUE)","v":false},{"$f":"INDIRECT(\"RAZ_\"& TEXT(WEEKDAY(C80,2),0) & \"WT\")*I80","v":0},{"$f":"Jahreskalender!S80","v":"SFZ"},{"$f":"Jahreskalender!V80","v":0},null,null,null,null,null,null,null,null,null,0,{"$f":"SUM(O80:W80)","v":0},{"$f":"IF(Z80<0,\"-\"&TEXT(ABS(Z80),\"[Rot][h]:mm\"),IF(Z80=0,\"0:00\",TEXT(Z80,\"[h]:mm\")))","v":"0:00"},{"$f":"X80-M80","v":0},0,"0:00"]
[null,null,{"$f":"Jahreskalender!C81","v":"2023-10-13"},10,42,1,0,0,1,false,0,{"$f":"Jahreskalender!S81","v":"SFZ"},{"$f":"Jahreskalender!V81","v":0},null,null,null,null,null,null,null,null,null,0,0,"0:00",0,{"$f":"AA80+Z81","v":0},{"$f":"IF(AA81<0,\"-\"&TEXT(ABS(AA81),\"[Rot][h]:mm\"),IF(AA81=0,\"0:00\",TEXT(AA81,\"[h]:mm\")))","v":"0:00"}]
[null,null,{"$f":"Jahreskalender!C82","v":"2023-10-14"},10,42,0,1,0,0,false,0,{"$f":"Jahreskalender!S82","v":"SFZ"},{"$f":"Jahreskalender!V82","v":0},null,null,null,null,null,null,null,null,null,{"$f":"IF(ISERROR((SEARCH(N82,\"_KR_MI_UN_UR_UU\")*0)),0,IF(SEARCH(N82,\"_KR_MI_UN_UR_UU\")>1,K82,0))","v":0},0,"0:00",0,0,"0:00"]
[null,null,{"$f":"Jahreskalender!C83","v":"2023-10-15"},10,42,0,1,0,0,false,0,{"$f":"Jahreskalender!S83","v":"SFZ"},{"$f":"Jahreskalender!V83","v":0},null,null,null,null,null,null,null,null,null,0,0,"0:00",0,0,"0:00"]
[null,null,{"$f":"Jahreskalender!C84","v":"2023-10-16"},10,43,1,0,0,1,false,0,{"$f":"Jahreskalender!S84","v":"SZ"},{"$f":"Jahreskalender!V84","v":0},null,null,null,null,null,null,null,null,null,0,0,"0:00",0,0,"0:00"]
[null,null,{"$f":"Jahreskalender!C85","v":"2023-10-17"},10,43,1,0,0,1,false,0,{"$f":"Jahreskalender!S85","v":"SZ"},{"$f":"Jahreskalender!V85","v":0},null,null,null,null,null,null,null,null,null,0,0,"0:00",0,0,"0:00"]
[null,null,{"$f":"Jahreskalender!C86","v":"2023-10-18"},10,43,1,0,0,1,false,0,{"$f":"Jahreskalender!S86","v":"SZ"},{"$f":"Jahreskalender!V86","v":0},null,null,null,null,null,null,null,null,null,0,0,"0:00",0,0,"0:00"]
[null,null,{"$f":"Jahreskalender!C87","v":"2023-10-19"},10,43,1,0,0,1,false,0,{"$f":"Jahreskalender!S87","v":"SZ"},{"$f":"Jahreskalender!V87","v":0},null,null,null,null,null,null,null,null,null,0,0,"0:00",0,0,"0:00"]
[null,null,{"$f":"Jahreskalender!C88","v":"2023-10-20"},10,43,1,0,0,1,false,0,{"$f":"Jahreskalender!S88","v":"SZ"},{"$f":"Jahreskalender!V88","v":0},null,null,null,null,null,null,null,null,null,0,0,"0:00",0,0,"0:00"]
[null,null,{"$f":"Jahreskalender!C89","v":"2023-10-21"},10,43,0,1,0,0,false,0,{"$f":"Jahreskalender!S89","v":"SZ"},{"$f":"Jahreskalender!V89","v":0},null,null,null,null,null,null,null,null,null,0,0,"0:00",0,0,"0:00"]
[null,null,{"$f":"Jahreskalender!C90","v":"2023-10-22"},10,43,0,1,0,0,false,0,{"$f":"Jahreskalender!S90","v":"SZ"},{"$f":"Jahreskalender!V90","v":0},null,null,null,null,null,null,null,null,null,0,0,"0:00",0,0,"0:00"]
[null,null,{"$f":"Jahreskalender!C91","v":"2023-10-23"},10,44,1,0,0,1,false,0,{"$f":"Jahreskalender!S91","v":"SZ"},{"$f":"Jahreskalender!V91","v":0},null,null,null,null,null,null,null,null,null,0,0,"0:00",0,0,"0:00"]
[null,null,{"$f":"Jahreskalender!C92","v":"2023-10-24"},10,44,1,0,0,1,false,0,{"$f":"Jahreskalender!S92","v":"SZ"},{"$f":"Jahreskalender!V92","v":0},null,null,null,null,null,null,null,null,null,0,0,"0:00",0,0,"0:00"]
[null,null,{"$f":"Jahreskalender!C93","v":"2023-10-25"},10,44,1,0,0,1,false,0,{"$f":"Jahreskalender!S93","v":"SZ"},{"$f":"Jahreskalender!V93","v":0},null,null,null,null,null,null,null,null,null,0,0,"0:00",0,0,"0:00"]
[null,null,{"$f":"Jahreskalender!C94","v":"2023-10-26"},10,44,1,0,0,1,false,0,{"$f":"Jahreskalender!S94","v":"SZ"},{"$f":"Jahreskalender!V94","v":0},null,null,null,null,null,null,null,null,null,0,0,"0:00",0,0,"0:00"]
[null,null,{"$f":"Jahreskalender!C95","v":"2023-10-27"},10,44,1,0,0,1,false,0,{"$f":"Jahreskalender!S95","v":"SZ"},{"$f":"Jahreskalender!V95","v":0},null,null,null,null,null,null,null,null,null,0,0,"0:00",0,0,"0:00"]
[null,null,{"$f":"Jahreskalender!C96","v":"2023-10-28"},10,44,0,1,0,0,false,0,{"$f":"Jahreskalender!S96","v":"SZ"},{"$f":"Jahreskalender!V96","v":0},null,null,null,null,null,null,null,null,null,0,0,"0:00",0,0,"0:00"]
[null,null,{"$f":"Jahreskalender!C97","v":"2023-10-29"},10,44,0,1,0,0,false,0,{"$f":"Jahreskalender!S97","v":"SZ"},{"$f":"Jahreskalender!V97","v":0},null,null,null,null,null,null,null,null,null,0,0,"0:00",0,0,"0:00"]
[null,null,{"$f":"Jahreskalender!C98","v":"2023-10-30"},10,45,1,0,0,1,false,0,{"$f":"Jahreskalender!S98","v":"SZ"},{"$f":"Jahreskalender!V98","v":0},null,null,null,null,null,null,null,null,null,0,0,"0:00",0,0,"0:00"]
[null,null,{"$f":"Jahreskalender!C99","v":"2023-10-31"},10,45,1,0,0,1,false,0,{"$f":"Jahreskalender!S99","v":"SZ"},{"$f":"Jahreskalender!V99","v":0},null,null,null,null,null,null,null,null,null,0,0,"0:00",0,0,"0:00"]
[null,{"$f":"C100","v":"2023-11-01"},{"$f":"Jahreskalender!C100","v":"2023-11-01"},11,45,1,0,1,0,true,0,{"$f":"Jahreskalender!S100","v":"SZ"},{"$f":"Jahreskalender!V100","v":0},null,null,null,null,null,null,null,null,null,0,0,"0:00",0,0,"0:00"]
[null,null,{"$f":"Jahreskalender!C101","v":"2023-11-02"},11,45,1,0,0,1,false,0,{"$f":"Jahreskalender!S101","v":"SZ"},{"$f":"Jahreskalender!V101","v":0},null,null,null,null,null,null,null,null,null,0,0,"0:00",0,0,"0:00"]
[null,null,{"$f":"Jahreskalender!C102","v":"2023-11-03"},11,45,1,0,0,1,false,0,{"$f":"Jahreskalender!S102","v":"SZ"},{"$f":"Jahreskalender!V102","v":0},null,null,null,null,null,null,null,null,null,0,0,"0:00",0,0,"0:00"]
[null,null,{"$f":"Jahreskalender!C103","v":"2023-11-04"},11,45,0,1,0,0,false,0,{"$f":"Jahreskalender!S103","v":"SZ"},{"$f":"Jahreskalender!V103","v":0},null,null,null,null,null,null,null,null,null,0,0,"0:00",0,0,"0:00"]
[null,null,{"$f":"Jahreskalender!C104","v":"2023-11-05"},11,45,0,1,0,0,false,0,{"$f":"Jahreskalender!S104","v":"SZ"},{"$f":"Jahreskalender!V104","v":0},null,null,null,null,null,null,null,null,null,0,0,"0:00",0,0,"0:00"]
[null,null,{"$f":"Jahreskalender!C105","v":"2023-11-06"},11,46,1,0,0,1,false,0,{"$f":"Jahreskalender!S105","v":"SZ"},{"$f":"Jahreskalender!V105","v":0},null,null,null,null,null,null,null,null,null,0,0,"0:00",0,0,"0:00"]
[null,null,{"$f":"Jahreskalender!C106","v":"2023-11-07"},11,46,1,0,0,1,false,0,{"$f":"Jahreskalender!S106","v":"SZ"},{"$f":"Jahreskalender!V106","v":0},null,null,null,null,null,null,null,null,null,0,0,"0:00",0,0,"0:00"]
[null,null,{"$f":"Jahreskalender!C107","v":"2023-11-08"},11,46,1,0,0,1,false,0,{"$f":"Jahreskalender!S107","v":"SZ"},{"$f":"Jahreskalender!V107","v":0},null,null,null,null,null,null,null,null,null,0,0,"0:00",0,0,"0:00"]
[null,null,{"$f":"Jahreskalender!C108","v":"2023-11-09"},11,46,1,0,0,1,false,0,{"$f":"Jahreskalender!S108","v":"SZ"},{"$f":"Jahreskalender!V108","v":0},null,null,null,null,null,null,null,null,null,0,0,"0:00",0,0,"0:00"]
[null,null,{"$f":"Jahreskalender!C109","v":"2023-11-10"},11,46,1,0,0,1,false,0,{"$f":"Jahreskalender!S109","v":"SZ"},{"$f":"Jahreskalender!V109","v":0},null,null,null,null,null,null,null,null,null,0,0,"0:00",0,0,"0:00"]
[null,null,{"$f":"Jahreskalender!C110","v":"2023-11-11"},11,46,0,1,0,0,false,0,{"$f":"Jahreskalender!S110","v":"SZ"},{"$f":"Jahreskalender!V110","v":0},null,null,null,null,null,null,null,null,null,0,0,"0:00",0,0,"0:00"]
[null,null,{"$f":"Jahreskalender!C111","v":"2023-11-12"},11,46,0,1,0,0,false,0,{"$f":"Jahreskalender!S111","v":"SZ"},{"$f":"Jahreskalender!V111","v":0},null,null,null,null,null,null,null,null,null,0,0,"0:00",0,0,"0:00"]
[null,null,{"$f":"Jahreskalender!C112","v":"2023-11-13"},11,47,1,0,0,1,false,0,{"$f":"Jahreskalender!S112","v":"SZ"},{"$f":"Jahreskalender!V112","v":0},null,null,null,null,null,null,null,null,null,0,0,"0:00",0,0,"0:00"]
[null,null,{"$f":"Jahreskalender!C113","v":"2023-11-14"},11,47,1,0,0,1,false,0,{"$f":"Jahreskalender!S113","v":"SZ"},{"$f":"Jahreskalender!V113","v":0},null,null,null,null,null,null,null,null,null,0,0,"0:00",0,0,"0:00"]
[null,null,{"$f":"Jahreskalender!C114","v":"2023-11-15"},11,47,1,0,0,1,false,0,{"$f":"Jahreskalender!S114","v":"SZ"},{"$f":"Jahreskalender!V114","v":0},null,null,null,null,null,null,null,null,null,0,0,"0:00",0,0,"0:00"]
[null,null,{"$f":"Jahreskalender!C115","v":"2023-11-16"},11,47,1,0,0,1,false,0,{"$f":"Jahreskalender!S115","v":"SZ"},{"$f":"Jahreskalender!V115","v":0},null,null,null,null,null,null,null,null,null,0,0,"0:00",0,0,"0:00"]
[null,null,{"$f":"Jahreskalender!C116","v":"2023-11-17"},11,47,1,0,0,1,false,0,{"$f":"Jahreskalender!S116","v":"SZ"},{"$f":"Jahreskalender!V116","v":0},null,null,null,null,null,null,null,null,null,0,0,"0:00",0,0,"0:00"]
[null,null,{"$f":"Jahreskalender!C117","v":"2023-11-18"},11,47,0,1,0,0,false,0,{"$f":"Jahreskalender!S117","v":"SZ"},{"$f":"Jahreskalender!V117","v":0},null,null,null,null,null,null,null,null,null,0,0,"0:00",0,0,"0:00"]
[null,null,{"$f":"Jahreskalender!C118","v":"2023-11-19"},11,47,0,1,0,0,false,0,{"$f":"Jahreskalender!S118","v":"SZ"},{"$f":"Jahreskalender!V118","v":0},null,null,null,null,null,null,null,null,null,0,0,"0:00",0,0,"0:00"]
[null,null,{"$f":"Jahreskalender!C119","v":"2023-11-20"},11,48,1,0,0,1,false,0,{"$f":"Jahreskalender!S119","v":"SZ"},{"$f":"Jahreskalender!V119","v":0},null,null,null,null,null,null,null,null,null,0,0,"0:00",0,0,"0:00"]
[null,null,{"$f":"Jahreskalender!C120","v":"2023-11-21"},11,48,1,0,0,1,false,0,{"$f":"Jahreskalender!S120","v":"SZ"},{"$f":"Jahreskalender!V120","v":0},null,null,null,null,null,null,null,null,null,0,0,"0:00",0,0,"0:00"]
[null,null,{"$f":"Jahreskalender!C121","v":"2023-11-22"},11,48,1,0,0,1,false,0,{"$f":"Jahreskalender!S121","v":"SZ"},{"$f":"Jahreskalender!V121","v":0},null,null,null,null,null,null,null,null,null,0,0,"0:00",0,0,"0:00"]
[null,null,{"$f":"Jahreskalender!C122","v":"2023-11-23"},11,48,1,0,0,1,false,0,{"$f":"Jahreskalender!S122","v":"SZ"},{"$f":"Jahreskalender!V122","v":0},null,null,null,null,null,null,null,null,null,0,0,"0:00",0,0,"0:00"]
[null,null,{"$f":"Jahreskalender!C123","v":"2023-11-24"},11,48,1,0,0,1,false,0,{"$f":"Jahreskalender!S123","v":"SZ"},{"$f":"Jahreskalender!V123","v":0},null,null,null,null,null,null,null,null,null,0,0,"0:00",0,0,"0:00"]
[null,null,{"$f":"Jahreskalender!C124","v":"2023-11-25"},11,48,0,1,0,0,false,0,{"$f":"Jahreskalender!S124","v":"SZ"},{"$f":"Jahreskalender!V124","v":0},null,null,null,null,null,null,null,null,null,0,0,"0:00",0,0,"0:00"]
[null,null,{"$f":"Jahreskalender!C125","v":"2023-11-26"},11,48,0,1,0,0,false,0,{"$f":"Jahreskalender!S125","v":"SZ"},{"$f":"Jahreskalender!V125","v":0},null,null,null,null,null,null,null,null,null,0,0,"0:00",0,0,"0:00"]
[null,null,{"$f":"Jahreskalender!C126","v":"2023-11-27"},11,49,1,0,0,1,false,0,{"$f":"Jahreskalender!S126","v":"SZ"},{"$f":"Jahreskalender!V126","v":0},null,null,null,null,null,null,null,null,null,0,0,"0:00",0,0,"0:00"]
[null,null,{"$f":"Jahreskalender!C127","v":"2023-11-28"},11,49,1,0,0,1,false,0,{"$f":"Jahreskalender!S127","v":"SZ"},{"$f":"Jahreskalender!V127","v":0},null,null,null,null,null,null,null,null,null,0,0,"0:00",0,0,"0:00"]
[null,null,{"$f":"Jahreskalender!C128","v":"2023-11-29"},11,49,1,0,0,1,false,0,{"$f":"Jahreskalender!S128","v":"SZ"},{"$f":"Jahreskalender!V128","v":0},null,null,null,null,null,null,null,null,null,0,0,"0:00",0,0,"0:00"]
[null,null,{"$f":"Jahreskalender!C129","v":"2023-11-30"},11,49,1,0,0,1,false,0,{"$f":"Jahreskalender!S129","v":"SZ"},{"$f":"Jahreskalender!V129","v":0},null,null,null,null,null,null,null,null,null,0,0,"0:00",0,0,"0:00"]
[null,{"$f":"C130","v":"2023-12-01"},{"$f":"Jahreskalender!C130","v":"2023-12-01"},12,49,1,0,0,1,false,0,{"$f":"Jahreskalender!S130","v":"SZ"},{"$f":"Jahreskalender!V130","v":0},null,null,null,null,null,null,null,null,null,0,0,"0:00",0,0,"0:00"]
[null,null,{"$f":"Jahreskalender!C131","v":"2023-12-02"},12,49,0,1,0,0,false,0,{"$f":"Jahreskalender!S131","v":"SZ"},{"$f":"Jahreskalender!V131","v":0},null,null,null,null,null,null,null,null,null,0,0,"0:00",0,0,"0:00"]
[null,null,{"$f":"Jahreskalender!C132","v":"2023-12-03"},12,49,0,1,0,0,false,0,{"$f":"Jahreskalender!S132","v":"SZ"},{"$f":"Jahreskalender!V132","v":0},null,null,null,null,null,null,null,null,null,0,0,"0:00",0,0,"0:00"]
[null,null,{"$f":"Jahreskalender!C133","v":"2023-12-04"},12,50,1,0,0,1,false,0,{"$f":"Jahreskalender!S133","v":"SZ"},{"$f":"Jahreskalender!V133","v":0},null,null,null,null,null,null,null,null,null,0,0,"0:00",0,0,"0:00"]
[null,null,{"$f":"Jahreskalender!C134","v":"2023-12-05"},12,50,1,0,0,1,false,0,{"$f":"Jahreskalender!S134","v":"SZ"},{"$f":"Jahreskalender!V134","v":0},null,null,null,null,null,null,null,null,null,0,0,"0:00",0,0,"0:00"]
[null,null,{"$f":"Jahreskalender!C135","v":"2023-12-06"},12,50,1,0,0,1,false,0,{"$f":"Jahreskalender!S135","v":"SZ"},{"$f":"Jahreskalender!V135","v":0},null,null,null,null,null,null,null,null,null,0,0,"0:00",0,0,"0:00"]
[null,null,{"$f":"Jahreskalender!C136","v":"2023-12-07"},12,50,1,0,0,1,false,0,{"$f":"Jahreskalender!S136","v":"SZ"},{"$f":"Jahreskalender!V136","v":0},null,null,null,null,null,null,null,null,null,0,0,"0:00",0,0,"0:00"]
[null,null,{"$f":"Jahreskalender!C137","v":"2023-12-08"},12,50,1,0,1,0,true,0,{"$f":"Jahreskalender!S137","v":"SZ"},{"$f":"Jahreskalender!V137","v":0},null,null,null,null,null,null,null,null,null,0,0,"0:00",0,0,"0:00"]
[null,null,{"$f":"Jahreskalender!C138","v":"2023-12-09"},12,50,0,1,0,0,false,0,{"$f":"Jahreskalender!S138","v":"SZ"},{"$f":"Jahreskalender!V138","v":0},null,null,null,null,null,null,null,null,null,0,0,"0:00",0,0,"0:00"]
[null,null,{"$f":"Jahreskalender!C139","v":"2023-12-10"},12,50,0,1,0,0,false,0,{"$f":"Jahreskalender!S139","v":"SZ"},{"$f":"Jahreskalender!V139","v":0},null,null,null,null,null,null,null,null,null,0,0,"0:00",0,0,"0:00"]
[null,null,{"$f":"Jahreskalender!C140","v":"2023-12-11"},12,51,1,0,0,1,false,0,{"$f":"Jahreskalender!S140","v":"SZ"},{"$f":"Jahreskalender!V140","v":0},null,null,null,null,null,null,null,null,null,0,0,"0:00",0,0,"0:00"]
[null,null,{"$f":"Jahreskalender!C141","v":"2023-12-12"},12,51,1,0,0,1,false,0,{"$f":"Jahreskalender!S141","v":"SZ"},{"$f":"Jahreskalender!V141","v":0},null,null,null,null,null,null,null,null,null,0,0,"0:00",0,0,"0:00"]
[null,null,{"$f":"Jahreskalender!C142","v":"2023-12-13"},12,51,1,0,0,1,false,0,{"$f":"Jahreskalender!S142","v":"SZ"},{"$f":"Jahreskalender!V142","v":0},null,null,null,null,null,null,null,null,null,0,0,"0:00",0,0,"0:00"]
[null,null,{"$f":"Jahreskalender!C143","v":"2023-12-14"},12,51,1,0,0,1,false,0,{"$f":"Jahreskalender!S143","v":"SZ"},{"$f":"Jahreskalender!V143","v":0},null,null,null,null,null,null,null,null,null,0,0,"0:00",0,0,"0:00"]
[null,null,{"$f":"Jahreskalender!C144","v":"2023-12-15"},{"$f":"MONTH(C144)","v":12},{"$f":"WEEKNUM(C144,2)","v":51},{"$f":"IF(WEEKDAY(C144,2)>5,0,1)","v":1},{"$f":"IF(WEEKDAY(C144,2)>5,1,0)","v":0},{"$f":"IF(ISERROR(VLOOKUP(C144,tabFeiertage,2,FALSE)),0,VLOOKUP(C144,tabFeiertage,3,FALSE))*F144","v":0},{"$f":"F144-H144","v":1},{"$f":"IF(ISERROR(VLOOKUP(C144,tabFeiertage,2,FALSE)),FALSE,TRUE)","v":false},{"$f":"INDIRECT(\"RAZ_\"& TEXT(WEEKDAY(C144,2),0) & \"WT\")*I144","v":0},{"$f":"Jahreskalender!S144","v":"SZ"},{"$f":"Jahreskalender!V144","v":0},null,null,null,null,null,null,null,null,null,0,{"$f":"SUM(O144:W144)","v":0},{"$f":"IF(Z144<0,\"-\"&TEXT(ABS(Z144),\"[Rot][h]:mm\"),IF(Z144=0,\"0:00\",TEXT(Z144,\"[h]:mm\")))","v":"0:00"},{"$f":"X144-M144","v":0},0,"0:00"]
[null,null,{"$f":"Jahreskalender!C145","v":"2023-12-16"},12,51,0,1,0,0,false,0,{"$f":"Jahreskalender!S145","v":"SZ"},{"$f":"Jahreskalender!V145","v":0},null,null,null,null,null,null,null,null,null,0,0,"0:00",0,{"$f":"AA144+Z145","v":0},{"$f":"IF(AA145<0,\"-\"&TEXT(ABS(AA145),\"[Rot][h]:mm\"),IF(AA145=0,\"0:00\",TEXT(AA145,\"[h]:mm\")))","v":"0:00"}]
[null,null,{"$f":"Jahreskalender!C146","v":"2023-12-17"},12,51,0,1,0,0,false,0,{"$f":"Jahreskalender!S146","v":"SZ"},{"$f":"Jahreskalender!V146","v":0},null,null,null,null,null,null,null,null,null,{"$f":"IF(ISERROR((SEARCH(N146,\"_KR_MI_UN_UR_UU\")*0)),0,IF(SEARCH(N146,\"_KR_MI_UN_UR_UU\")>1,K146,0))","v":0},0,"0:00",0,0,"0:00"]
[null,null,{"$f":"Jahreskalender!C147","v":"2023-12-18"},12,52,1,0,0,1,false,0,{"$f":"Jahreskalender!S147","v":"SZ"},{"$f":"Jahreskalender!V147","v":0},null,null,null,null,null,null,null,null,null,0,0,"0:00",0,0,"0:00"]
[null,null,{"$f":"Jahreskalender!C148","v":"2023-12-19"},12,52,1,0,0,1,false,0,{"$f":"Jahreskalender!S148","v":"SZ"},{"$f":"Jahreskalender!V148","v":0},null,null,null,null,null,null,null,null,null,0,0,"0:00",0,0,"0:00"]
[null,null,{"$f":"Jahreskalender!C149","v":"2023-12-20"},12,52,1,0,0,1,false,0,{"$f":"Jahreskalender!S149","v":"SZ"},{"$f":"Jahreskalender!V149","v":0},null,null,null,null,null,null,null,null,null,0,0,"0:00",0,0,"0:00"]
[null,null,{"$f":"Jahreskalender!C150","v":"2023-12-21"},12,52,1,0,0,1,false,0,{"$f":"Jahreskalender!S150","v":"SZ"},{"$f":"Jahreskalender!V150","v":0},null,null,null,null,null,null,null,null,null,0,0,"0:00",0,0,"0:00"]
[null,null,{"$f":"Jahreskalender!C151","v":"2023-12-22"},12,52,1,0,0,1,false,0,{"$f":"Jahreskalender!S151","v":"SZ"},{"$f":"Jahreskalender!V151","v":0},null,null,null,null,null,null,null,null,null,0,0,"0:00",0,0,"0:00"]
[null,null,{"$f":"Jahreskalender!C152","v":"2023-12-23"},12,52,0,1,0,0,false,0,{"$f":"Jahreskalender!S152","v":"SFZ"},{"$f":"Jahreskalender!V152","v":0},null,null,null,null,null,null,null,null,null,0,0,"0:00",0,0,"0:00"]
[null,null,{"$f":"Jahreskalender!C153","v":"2023-12-24"},12,52,0,1,0,0,true,0,{"$f":"Jahreskalender!S153","v":"SFZ"},{"$f":"Jahreskalender!V153","v":0},null,null,null,null,null,null,null,null,null,0,0,"0:00",0,0,"0:00"]
[null,null,{"$f":"Jahreskalender!C154","v":"2023-12-25"},12,53,1,0,1,0,true,0,{"$f":"Jahreskalender!S154","v":"SFZ"},{"$f":"Jahreskalender!V154","v":0},null,null,null,null,null,null,null,null,null,0,0,"0:00",0,0,"0:00"]
[null,null,{"$f":"Jahreskalender!C155","v":"2023-12-26"},12,53,1,0,1,0,true,0,{"$f":"Jahreskalender!S155","v":"SFZ"},{"$f":"Jahreskalender!V155","v":0},null,null,null,null,null,null,null,null,null,0,0,"0:00",0,0,"0:00"]
[null,null,{"$f":"Jahreskalender!C156","v":"2023-12-27"},12,53,1,0,0,1,false,0,{"$f":"Jahreskalender!S156","v":"SFZ"},{"$f":"Jahreskalender!V156","v":0},null,null,null,null,null,null,null,null,null,0,0,"0:00",0,0,"0:00"]
[null,null,{"$f":"Jahreskalender!C157","v":"2023-12-28"},12,53,1,0,0,1,false,0,{"$f":"Jahreskalender!S157","v":"SFZ"},{"$f":"Jahreskalender!V157","v":0},null,null,null,null,null,null,null,null,null,0,0,"0:00",0,0,"0:00"]
[null,null,{"$f":"Jahreskalender!C158","v":"2023-12-29"},12,53,1,0,0,1,false,0,{"$f":"Jahreskalender!S158","v":"SFZ"},{"$f":"Jahreskalender!V158","v":0},null,null,null,null,null,null,null,null,null,0,0,"0:00",0,0,"0:00"]
[null,null,{"$f":"Jahreskalender!C159","v":"2023-12-30"},12,53,0,1,0,0,false,0,{"$f":"Jahreskalender!S159","v":"SFZ"},{"$f":"Jahreskalender!V159","v":0},null,null,null,null,null,null,null,null,null,0,0,"0:00",0,0,"0:00"]
[null,null,{"$f":"Jahreskalender!C160","v":"2023-12-31"},12,53,0,1,0,0,true,0,{"$f":"Jahreskalender!S160","v":"SFZ"},{"$f":"Jahreskalender!V160","v":0},null,null,null,null,null,null,null,null,null,0,0,"0:00",0,0,"0:00"]
[null,{"$f":"C161","v":"2024-01-01"},{"$f":"Jahreskalender!C161","v":"2024-01-01"},1,1,1,0,1,0,true,0,{"$f":"Jahreskalender!S161","v":"SFZ"},{"$f":"Jahreskalender!V161","v":0},null,null,null,null,null,null,null,null,null,0,0,"0:00",0,0,"0:00"]
[null,null,{"$f":"Jahreskalender!C162","v":"2024-01-02"},1,1,1,0,1,0,true,0,{"$f":"Jahreskalender!S162","v":"SFZ"},{"$f":"Jahreskalender!V162","v":0},null,null,null,null,null,null,null,null,null,0,0,"0:00",0,0,"0:00"]
[null,null,{"$f":"Jahreskalender!C163","v":"2024-01-03"},1,1,1,0,0,1,false,0,{"$f":"Jahreskalender!S163","v":"SFZ"},{"$f":"Jahreskalender!V163","v":0},null,null,null,null,null,null,null,null,null,0,0,"0:00",0,0,"0:00"]
[null,null,{"$f":"Jahreskalender!C164","v":"2024-01-04"},1,1,1,0,0,1,false,0,{"$f":"Jahreskalender!S164","v":"SFZ"},{"$f":"Jahreskalender!V164","v":0},null,null,null,null,null,null,null,null,null,0,0,"0:00",0,0,"0:00"]
[null,null,{"$f":"Jahreskalender!C165","v":"2024-01-05"},1,1,1,0,0,1,false,0,{"$f":"Jahreskalender!S165","v":"SFZ"},{"$f":"Jahreskalender!V165","v":0},null,null,null,null,null,null,null,null,null,0,0,"0:00",0,0,"0:00"]
[null,null,{"$f":"Jahreskalender!C166","v":"2024-01-06"},1,1,0,1,0,0,false,0,{"$f":"Jahreskalender!S166","v":"SFZ"},{"$f":"Jahreskalender!V166","v":0},null,null,null,null,null,null,null,null,null,0,0,"0:00",0,0,"0:00"]
[null,null,{"$f":"Jahreskalender!C167","v":"2024-01-07"},1,1,0,1,0,0,false,0,{"$f":"Jahreskalender!S167","v":"SFZ"},{"$f":"Jahreskalender!V167","v":0},null,null,null,null,null,null,null,null,null,0,0,"0:00",0,0,"0:00"]
[null,null,{"$f":"Jahreskalender!C168","v":"2024-01-08"},1,2,1,0,0,1,false,0,{"$f":"Jahreskalender!S168","v":"SZ"},{"$f":"Jahreskalender!V168","v":0},null,null,null,null,null,null,null,null,null,0,0,"0:00",0,0,"0:00"]
[null,null,{"$f":"Jahreskalender!C169","v":"2024-01-09"},1,2,1,0,0,1,false,0,{"$f":"Jahreskalender!S169","v":"SZ"},{"$f":"Jahreskalender!V169","v":0},null,null,null,null,null,null,null,null,null,0,0,"0:00",0,0,"0:00"]
[null,null,{"$f":"Jahreskalender!C170","v":"2024-01-10"},1,2,1,0,0,1,false,0,{"$f":"Jahreskalender!S170","v":"SZ"},{"$f":"Jahreskalender!V170","v":0},null,null,null,null,null,null,null,null,null,0,0,"0:00",0,0,"0:00"]
[null,null,{"$f":"Jahreskalender!C171","v":"2024-01-11"},1,2,1,0,0,1,false,0,{"$f":"Jahreskalender!S171","v":"SZ"},{"$f":"Jahreskalender!V171","v":0},null,null,null,null,null,null,null,null,null,0,0,"0:00",0,0,"0:00"]
[null,null,{"$f":"Jahreskalender!C172","v":"2024-01-12"},1,2,1,0,0,1,false,0,{"$f":"Jahreskalender!S172","v":"SZ"},{"$f":"Jahreskalender!V172","v":0},null,null,null,null,null,null,null,null,null,0,0,"0:00",0,0,"0:00"]
[null,null,{"$f":"Jahreskalender!C173","v":"2024-01-13"},1,2,0,1,0,0,false,0,{"$f":"Jahreskalender!S173","v":"SZ"},{"$f":"Jahreskalender!V173","v":0},null,null,null,null,null,null,null,null,null,0,0,"0:00",0,0,"0:00"]
[null,null,{"$f":"Jahreskalender!C174","v":"2024-01-14"},1,2,0,1,0,0,false,0,{"$f":"Jahreskalender!S174","v":"SZ"},{"$f":"Jahreskalender!V174","v":0},null,null,null,null,null,null,null,null,null,0,0,"0:00",0,0,"0:00"]
[null,null,{"$f":"Jahreskalender!C175","v":"2024-01-15"},1,3,1,0,0,1,false,0,{"$f":"Jahreskalender!S175","v":"SZ"},{"$f":"Jahreskalender!V175","v":0},null,null,null,null,null,null,null,null,null,0,0,"0:00",0,0,"0:00"]
[null,null,{"$f":"Jahreskalender!C176","v":"2024-01-16"},1,3,1,0,0,1,false,0,{"$f":"Jahreskalender!S176","v":"SZ"},{"$f":"Jahreskalender!V176","v":0},null,null,null,null,null,null,null,null,null,0,0,"0:00",0,0,"0:00"]
[null,null,{"$f":"Jahreskalender!C177","v":"2024-01-17"},1,3,1,0,0,1,false,0,{"$f":"Jahreskalender!S177","v":"SZ"},{"$f":"Jahreskalender!V177","v":0},null,null,null,null,null,null,null,null,null,0,0,"0:00",0,0,"0:00"]
[null,null,{"$f":"Jahreskalender!C178","v":"2024-01-18"},1,3,1,0,0,1,false,0,{"$f":"Jahreskalender!S178","v":"SZ"},{"$f":"Jahreskalender!V178","v":0},null,null,null,null,null,null,null,null,null,0,0,"0:00",0,0,"0:00"]
[null,null,{"$f":"Jahreskalender!C179","v":"2024-01-19"},1,3,1,0,0,1,false,0,{"$f":"Jahreskalender!S179","v":"SZ"},{"$f":"Jahreskalender!V179","v":0},null,null,null,null,null,null,null,null,null,0,0,"0:00",0,0,"0:00"]
[null,null,{"$f":"Jahreskalender!C180","v":"2024-01-20"},1,3,0,1,0,0,false,0,{"$f":"Jahreskalender!S180","v":"SZ"},{"$f":"Jahreskalender!V180","v":0},null,null,null,null,null,null,null,null,null,0,0,"0:00",0,0,"0:00"]
[null,null,{"$f":"Jahreskalender!C181","v":"2024-01-21"},1,3,0,1,0,0,false,0,{"$f":"Jahreskalender!S181","v":"SZ"},{"$f":"Jahreskalender!V181","v":0},null,null,null,null,null,null,null,null,null,0,0,"0:00",0,0,"0:00"]
[null,null,{"$f":"Jahreskalender!C182","v":"2024-01-22"},1,4,1,0,0,1,false,0,{"$f":"Jahreskalender!S182","v":"SZ"},{"$f":"Jahreskalender!V182","v":0},null,null,null,null,null,null,null,null,null,0,0,"0:00",0,0,"0:00"]
[null,null,{"$f":"Jahreskalender!C183","v":"2024-01-23"},1,4,1,0,0,1,false,0,{"$f":"Jahreskalender!S183","v":"SZ"},{"$f":"Jahreskalender!V183","v":0},null,null,null,null,null,null,null,null,null,0,0,"0:00",0,0,"0:00"]
[null,null,{"$f":"Jahreskalender!C184","v":"2024-01-24"},1,4,1,0,0,1,false,0,{"$f":"Jahreskalender!S184","v":"SZ"},{"$f":"Jahreskalender!V184","v":0},null,null,null,null,null,null,null,null,null,0,0,"0:00",0,0,"0:00"]
[null,null,{"$f":"Jahreskalender!C185","v":"2024-01-25"},1,4,1,0,0,1,false,0,{"$f":"Jahreskalender!S185","v":"SZ"},{"$f":"Jahreskalender!V185","v":0},null,null,null,null,null,null,null,null,null,0,0,"0:00",0,0,"0:00"]
[null,null,{"$f":"Jahreskalender!C186","v":"2024-01-26"},1,4,1,0,0,1,false,0,{"$f":"Jahreskalender!S186","v":"SZ"},{"$f":"Jahreskalender!V186","v":0},null,null,null,null,null,null,null,null,null,0,0,"0:00",0,0,"0:00"]
[null,null,{"$f":"Jahreskalender!C187","v":"2024-01-27"},1,4,0,1,0,0,false,0,{"$f":"Jahreskalender!S187","v":"SZ"},{"$f":"Jahreskalender!V187","v":0},null,null,null,null,null,null,null,null,null,0,0,"0:00",0,0,"0:00"]
[null,null,{"$f":"Jahreskalender!C188","v":"2024-01-28"},1,4,0,1,0,0,false,0,{"$f":"Jahreskalender!S188","v":"SZ"},{"$f":"Jahreskalender!V188","v":0},null,null,null,null,null,null,null,null,null,0,0,"0:00",0,0,"0:00"]
[null,null,{"$f":"Jahreskalender!C189","v":"2024-01-29"},1,5,1,0,0,1,false,0,{"$f":"Jahreskalender!S189","v":"SZ"},{"$f":"Jahreskalender!V189","v":0},null,null,null,null,null,null,null,null,null,0,0,"0:00",0,0,"0:00"]
[null,null,{"$f":"Jahreskalender!C190","v":"2024-01-30"},1,5,1,0,0,1,false,0,{"$f":"Jahreskalender!S190","v":"SZ"},{"$f":"Jahreskalender!V190","v":0},null,null,null,null,null,null,null,null,null,0,0,"0:00",0,0,"0:00"]
[null,null,{"$f":"Jahreskalender!C191","v":"2024-01-31"},1,5,1,0,0,1,false,0,{"$f":"Jahreskalender!S191","v":"SZ"},{"$f":"Jahreskalender!V191","v":0},null,null,null,null,null,null,null,null,null,0,0,"0:00",0,0,"0:00"]
[null,{"$f":"C192","v":"2024-02-01"},{"$f":"Jahreskalender!C192","v":"2024-02-01"},2,5,1,0,0,1,false,0,{"$f":"Jahreskalender!S192","v":"SZ"},{"$f":"Jahreskalender!V192","v":0},null,null,null,null,null,null,null,null,null,0,0,"0:00",0,0,"0:00"]
[null,null,{"$f":"Jahreskalender!C193","v":"2024-02-02"},2,5,1,0,0,1,false,0,{"$f":"Jahreskalender!S193","v":"SZ"},{"$f":"Jahreskalender!V193","v":0},null,null,null,null,null,null,null,null,null,0,0,"0:00",0,0,"0:00"]
[null,null,{"$f":"Jahreskalender!C194","v":"2024-02-03"},2,5,0,1,0,0,false,0,{"$f":"Jahreskalender!S194","v":"SFZ"},{"$f":"Jahreskalender!V194","v":0},null,null,null,null,null,null,null,null,null,0,0,"0:00",0,0,"0:00"]
[null,null,{"$f":"Jahreskalender!C195","v":"2024-02-04"},2,5,0,1,0,0,false,0,{"$f":"Jahreskalender!S195","v":"SFZ"},{"$f":"Jahreskalender!V195","v":0},null,null,null,null,null,null,null,null,null,0,0,"0:00",0,0,"0:00"]
[null,null,{"$f":"Jahreskalender!C196","v":"2024-02-05"},2,6,1,0,0,1,false,0,{"$f":"Jahreskalender!S196","v":"SFZ"},{"$f":"Jahreskalender!V196","v":0},null,null,null,null,null,null,null,null,null,0,0,"0:00",0,0,"0:00"]
[null,null,{"$f":"Jahreskalender!C197","v":"2024-02-06"},2,6,1,0,0,1,false,0,{"$f":"Jahreskalender!S197","v":"SFZ"},{"$f":"Jahreskalender!V197","v":0},null,null,null,null,null,null,null,null,null,0,0,"0:00",0,0,"0:00"]
[null,null,{"$f":"Jahreskalender!C198","v":"2024-02-07"},2,6,1,0,0,1,false,0,{"$f":"Jahreskalender!S198","v":"SFZ"},{"$f":"Jahreskalender!V198","v":0},null,null,null,null,null,null,null,null,null,0,0,"0:00",0,0,"0:00"]
[null,null,{"$f":"Jahreskalender!C199","v":"2024-02-08"},2,6,1,0,0,1,false,0,{"$f":"Jahreskalender!S199","v":"SFZ"},{"$f":"Jahreskalender!V199","v":0},null,null,null,null,null,null,null,null,null,0,0,"0:00",0,0,"0:00"]
[null,null,{"$f":"Jahreskalender!C200","v":"2024-02-09"},2,6,1,0,0,1,false,0,{"$f":"Jahreskalender!S200","v":"SFZ"},{"$f":"Jahreskalender!V200","v":0},null,null,null,null,null,null,null,null,null,0,0,"0:00",0,0,"0:00"]
[null,null,{"$f":"Jahreskalender!C201","v":"2024-02-10"},2,6,0,1,0,0,false,0,{"$f":"Jahreskalender!S201","v":"SFZ"},{"$f":"Jahreskalender!V201","v":0},null,null,null,null,null,null,null,null,null,0,0,"0:00",0,0,"0:00"]
[null,null,{"$f":"Jahreskalender!C202","v":"2024-02-11"},2,6,0,1,0,0,false,0,{"$f":"Jahreskalender!S202","v":"SFZ"},{"$f":"Jahreskalender!V202","v":0},null,null,null,null,null,null,null,null,null,0,0,"0:00",0,0,"0:00"]
[null,null,{"$f":"Jahreskalender!C203","v":"2024-02-12"},2,7,1,0,0,1,false,0,{"$f":"Jahreskalender!S203","v":"SFZ"},{"$f":"Jahreskalender!V203","v":0},null,null,null,null,null,null,null,null,null,0,0,"0:00",0,0,"0:00"]
[null,null,{"$f":"Jahreskalender!C204","v":"2024-02-13"},2,7,1,0,0,1,false,0,{"$f":"Jahreskalender!S204","v":"SFZ"},{"$f":"Jahreskalender!V204","v":0},null,null,null,null,null,null,null,null,null,0,0,"0:00",0,0,"0:00"]
[null,null,{"$f":"Jahreskalender!C205","v":"2024-02-14"},2,7,1,0,0,1,false,0,{"$f":"Jahreskalender!S205","v":"SFZ"},{"$f":"Jahreskalender!V205","v":0},null,null,null,null,null,null,null,null,null,0,0,"0:00",0,0,"0:00"]
[null,null,{"$f":"Jahreskalender!C206","v":"2024-02-15"},2,7,1,0,0,1,false,0,{"$f":"Jahreskalender!S206","v":"SFZ"},{"$f":"Jahreskalender!V206","v":0},null,null,null,null,null,null,null,null,null,0,0,"0:00",0,0,"0:00"]
[null,null,{"$f":"Jahreskalender!C207","v":"2024-02-16"},2,7,1,0,0,1,false,0,{"$f":"Jahreskalender!S207","v":"SFZ"},{"$f":"Jahreskalender!V207","v":0},null,null,null,null,null,null,null,null,null,0,0,"0:00",0,0,"0:00"]
[null,null,{"$f":"Jahreskalender!C208","v":"2024-02-17"},{"$f":"MONTH(C208)","v":2},{"$f":"WEEKNUM(C208,2)","v":7},{"$f":"IF(WEEKDAY(C208,2)>5,0,1)","v":0},{"$f":"IF(WEEKDAY(C208,2)>5,1,0)","v":1},{"$f":"IF(ISERROR(VLOOKUP(C208,tabFeiertage,2,FALSE)),0,VLOOKUP(C208,tabFeiertage,3,FALSE))*F208","v":0},{"$f":"F208-H208","v":0},{"$f":"IF(ISERROR(VLOOKUP(C208,tabFeiertage,2,FALSE)),FALSE,TRUE)","v":false},{"$f":"INDIRECT(\"RAZ_\"& TEXT(WEEKDAY(C208,2),0) & \"WT\")*I208","v":0},{"$f":"Jahreskalender!S208","v":"SFZ"},{"$f":"Jahreskalender!V208","v":0},null,null,null,null,null,null,null,null,null,0,{"$f":"SUM(O208:W208)","v":0},{"$f":"IF(Z208<0,\"-\"&TEXT(ABS(Z208),\"[Rot][h]:mm\"),IF(Z208=0,\"0:00\",TEXT(Z208,\"[h]:mm\")))","v":"0:00"},{"$f":"X208-M208","v":0},0,"0:00"]
[null,null,{"$f":"Jahreskalender!C209","v":"2024-02-18"},2,7,0,1,0,0,false,0,{"$f":"Jahreskalender!S209","v":"SFZ"},{"$f":"Jahreskalender!V209","v":0},null,null,null,null,null,null,null,null,null,0,0,"0:00",0,{"$f":"AA208+Z209","v":0},{"$f":"IF(AA209<0,\"-\"&TEXT(ABS(AA209),\"[Rot][h]:mm\"),IF(AA209=0,\"0:00\",TEXT(AA209,\"[h]:mm\")))","v":"0:00"}]
[null,null,{"$f":"Jahreskalender!C210","v":"2024-02-19"},2,8,1,0,0,1,false,0,{"$f":"Jahreskalender!S210","v":"SZ"},{"$f":"Jahreskalender!V210","v":0},null,null,null,null,null,null,null,null,null,{"$f":"IF(ISERROR((SEARCH(N210,\"_KR_MI_UN_UR_UU\")*0)),0,IF(SEARCH(N210,\"_KR_MI_UN_UR_UU\")>1,K210,0))","v":0},0,"0:00",0,0,"0:00"]
[null,null,{"$f":"Jahreskalender!C211","v":"2024-02-20"},2,8,1,0,0,1,false,0,{"$f":"Jahreskalender!S211","v":"SZ"},{"$f":"Jahreskalender!V211","v":0},null,null,null,null,null,null,null,null,null,0,0,"0:00",0,0,"0:00"]
[null,null,{"$f":"Jahreskalender!C212","v":"2024-02-21"},2,8,1,0,0,1,false,0,{"$f":"Jahreskalender!S212","v":"SZ"},{"$f":"Jahreskalender!V212","v":0},null,null,null,null,null,null,null,null,null,0,0,"0:00",0,0,"0:00"]
[null,null,{"$f":"Jahreskalender!C213","v":"2024-02-22"},2,8,1,0,0,1,false,0,{"$f":"Jahreskalender!S213","v":"SZ"},{"$f":"Jahreskalender!V213","v":0},null,null,null,null,null,null,null,null,null,0,0,"0:00",0,0,"0:00"]
[null,null,{"$f":"Jahreskalender!C214","v":"2024-02-23"},2,8,1,0,0,1,false,0,{"$f":"Jahreskalender!S214","v":"SZ"},{"$f":"Jahreskalender!V214","v":0},null,null,null,null,null,null,null,null,null,0,0,"0:00",0,0,"0:00"]
[null,null,{"$f":"Jahreskalender!C215","v":"2024-02-24"},{"$f":"MONTH(C215)","v":2},{"$f":"WEEKNUM(C215,2)","v":8},{"$f":"IF(WEEKDAY(C215,2)>5,0,1)","v":0},{"$f":"IF(WEEKDAY(C215,2)>5,1,0)","v":1},{"$f":"IF(ISERROR(VLOOKUP(C215,tabFeiertage,2,FALSE)),0,VLOOKUP(C215,tabFeiertage,3,FALSE))*F215","v":0},{"$f":"F215-H215","v":0},{"$f":"IF(ISERROR(VLOOKUP(C215,tabFeiertage,2,FALSE)),FALSE,TRUE)","v":false},{"$f":"INDIRECT(\"RAZ_\"& TEXT(WEEKDAY(C215,2),0) & \"WT\")*I215","v":0},{"$f":"Jahreskalender!S215","v":"SZ"},{"$f":"Jahreskalender!V215","v":0},null,null,null,null,null,null,null,null,null,0,{"$f":"SUM(O215:W215)","v":0},{"$f":"IF(Z215<0,\"-\"&TEXT(ABS(Z215),\"[Rot][h]:mm\"),IF(Z215=0,\"0:00\",TEXT(Z215,\"[h]:mm\")))","v":"0:00"},{"$f":"X215-M215","v":0},0,"0:00"]
[null,null,{"$f":"Jahreskalender!C216","v":"2024-02-25"},2,8,0,1,0,0,false,0,{"$f":"Jahreskalender!S216","v":"SZ"},{"$f":"Jahreskalender!V216","v":0},null,null,null,null,null,null,null,null,null,0,0,"0:00",0,{"$f":"AA215+Z216","v":0},{"$f":"IF(AA216<0,\"-\"&TEXT(ABS(AA216),\"[Rot][h]:mm\"),IF(AA216=0,\"0:00\",TEXT(AA216,\"[h]:mm\")))","v":"0:00"}]
[null,null,{"$f":"Jahreskalender!C217","v":"2024-02-26"},2,9,1,0,0,1,false,0,{"$f":"Jahreskalender!S217","v":"SZ"},{"$f":"Jahreskalender!V217","v":0},null,null,null,null,null,null,null,null,null,0,0,"0:00",0,0,"0:00"]
[null,null,{"$f":"Jahreskalender!C218","v":"2024-02-27"},2,9,1,0,0,1,false,0,{"$f":"Jahreskalender!S218","v":"SZ"},{"$f":"Jahreskalender!V218","v":0},null,null,null,null,null,null,null,null,null,0,0,"0:00",0,0,"0:00"]
[null,null,{"$f":"Jahreskalender!C219","v":"2024-02-28"},2,9,1,0,0,1,false,0,{"$f":"Jahreskalender!S219","v":"SZ"},{"$f":"Jahreskalender!V219","v":0},null,null,null,null,null,null,null,null,null,0,0,"0:00",0,0,"0:00"]
[null,null,{"$f":"Jahreskalender!C220","v":"2024-02-29"},2,9,1,0,0,1,false,0,{"$f":"Jahreskalender!S220","v":"SZ"},{"$f":"Jahreskalender!V220","v":0},null,null,null,null,null,null,null,null,null,0,0,"0:00",0,{"$f":"AA219+Z220","v":0},{"$f":"IF(AA220<0,\"-\"&TEXT(ABS(AA220),\"[Rot][h]:mm\"),IF(AA220=0,\"0:00\",TEXT(AA220,\"[h]:mm\")))","v":"0:00"}]
[null,{"$f":"C221","v":"2024-03-01"},{"$f":"Jahreskalender!C221","v":"2024-03-01"},{"$f":"MONTH(C221)","v":3},{"$f":"WEEKNUM(C221,2)","v":9},{"$f":"IF(WEEKDAY(C221,2)>5,0,1)","v":1},{"$f":"IF(WEEKDAY(C221,2)>5,1,0)","v":0},{"$f":"IF(ISERROR(VLOOKUP(C221,tabFeiertage,2,FALSE)),0,VLOOKUP(C221,tabFeiertage,3,FALSE))*F221","v":0},{"$f":"F221-H221","v":1},{"$f":"IF(ISERROR(VLOOKUP(C221,tabFeiertage,2,FALSE)),FALSE,TRUE)","v":false},{"$f":"INDIRECT(\"RAZ_\"& TEXT(WEEKDAY(C221,2),0) & \"WT\")*I221","v":0},{"$f":"Jahreskalender!S221","v":"SZ"},{"$f":"Jahreskalender!V221","v":0},null,null,null,null,null,null,null,null,null,0,{"$f":"SUM(O221:W221)","v":0},{"$f":"IF(Z221<0,\"-\"&TEXT(ABS(Z221),\"[Rot][h]:mm\"),IF(Z221=0,\"0:00\",TEXT(Z221,\"[h]:mm\")))","v":"0:00"},{"$f":"X221-M221","v":0},0,"0:00"]
[null,null,{"$f":"Jahreskalender!C222","v":"2024-03-02"},3,9,0,1,0,0,false,0,{"$f":"Jahreskalender!S222","v":"SZ"},{"$f":"Jahreskalender!V222","v":0},null,null,null,null,null,null,null,null,null,0,0,"0:00",0,{"$f":"AA221+Z222","v":0},{"$f":"IF(AA222<0,\"-\"&TEXT(ABS(AA222),\"[Rot][h]:mm\"),IF(AA222=0,\"0:00\",TEXT(AA222,\"[h]:mm\")))","v":"0:00"}]
[null,null,{"$f":"Jahreskalender!C223","v":"2024-03-03"},3,9,0,1,0,0,false,0,{"$f":"Jahreskalender!S223","v":"SZ"},{"$f":"Jahreskalender!V223","v":0},null,null,null,null,null,null,null,null,null,0,0,"0:00",0,0,"0:00"]
[null,null,{"$f":"Jahreskalender!C224","v":"2024-03-04"},3,10,1,0,0,1,false,0,{"$f":"Jahreskalender!S224","v":"SZ"},{"$f":"Jahreskalender!V224","v":0},null,null,null,null,null,null,null,null,null,0,0,"0:00",0,0,"0:00"]
[null,null,{"$f":"Jahreskalender!C225","v":"2024-03-05"},3,10,1,0,0,1,false,0,{"$f":"Jahreskalender!S225","v":"SZ"},{"$f":"Jahreskalender!V225","v":0},null,null,null,null,null,null,null,null,null,0,0,"0:00",0,0,"0:00"]
[null,null,{"$f":"Jahreskalender!C226","v":"2024-03-06"},3,10,1,0,0,1,false,0,{"$f":"Jahreskalender!S226","v":"SZ"},{"$f":"Jahreskalender!V226","v":0},null,null,null,null,null,null,null,null,null,0,0,"0:00",0,0,"0:00"]
[null,null,{"$f":"Jahreskalender!C227","v":"2024-03-07"},3,10,1,0,0,1,false,0,{"$f":"Jahreskalender!S227","v":"SZ"},{"$f":"Jahreskalender!V227","v":0},null,null,null,null,null,null,null,null,null,0,0,"0:00",0,0,"0:00"]
[null,null,{"$f":"Jahreskalender!C228","v":"2024-03-08"},3,10,1,0,0,1,false,0,{"$f":"Jahreskalender!S228","v":"SZ"},{"$f":"Jahreskalender!V228","v":0},null,null,null,null,null,null,null,null,null,0,0,"0:00",0,0,"0:00"]
[null,null,{"$f":"Jahreskalender!C229","v":"2024-03-09"},3,10,0,1,0,0,false,0,{"$f":"Jahreskalender!S229","v":"SZ"},{"$f":"Jahreskalender!V229","v":0},null,null,null,null,null,null,null,null,null,0,0,"0:00",0,0,"0:00"]
[null,null,{"$f":"Jahreskalender!C230","v":"2024-03-10"},3,10,0,1,0,0,false,0,{"$f":"Jahreskalender!S230","v":"SZ"},{"$f":"Jahreskalender!V230","v":0},null,null,null,null,null,null,null,null,null,0,0,"0:00",0,0,"0:00"]
[null,null,{"$f":"Jahreskalender!C231","v":"2024-03-11"},3,11,1,0,0,1,false,0,{"$f":"Jahreskalender!S231","v":"SZ"},{"$f":"Jahreskalender!V231","v":0},null,null,null,null,null,null,null,null,null,0,0,"0:00",0,0,"0:00"]
[null,null,{"$f":"Jahreskalender!C232","v":"2024-03-12"},3,11,1,0,0,1,false,0,{"$f":"Jahreskalender!S232","v":"SZ"},{"$f":"Jahreskalender!V232","v":0},null,null,null,null,null,null,null,null,null,0,0,"0:00",0,0,"0:00"]
[null,null,{"$f":"Jahreskalender!C233","v":"2024-03-13"},3,11,1,0,0,1,false,0,{"$f":"Jahreskalender!S233","v":"SZ"},{"$f":"Jahreskalender!V233","v":0},null,null,null,null,null,null,null,null,null,0,0,"0:00",0,0,"0:00"]
[null,null,{"$f":"Jahreskalender!C234","v":"2024-03-14"},3,11,1,0,0,1,false,0,{"$f":"Jahreskalender!S234","v":"SZ"},{"$f":"Jahreskalender!V234","v":0},null,null,null,null,null,null,null,null,null,0,0,"0:00",0,0,"0:00"]
[null,null,{"$f":"Jahreskalender!C235","v":"2024-03-15"},3,11,1,0,0,1,false,0,{"$f":"Jahreskalender!S235","v":"SZ"},{"$f":"Jahreskalender!V235","v":0},null,null,null,null,null,null,null,null,null,0,0,"0:00",0,0,"0:00"]
[null,null,{"$f":"Jahreskalender!C236","v":"2024-03-16"},3,11,0,1,0,0,false,0,{"$f":"Jahreskalender!S236","v":"SZ"},{"$f":"Jahreskalender!V236","v":0},null,null,null,null,null,null,null,null,null,0,0,"0:00",0,0,"0:00"]
[null,null,{"$f":"Jahreskalender!C237","v":"2024-03-17"},3,11,0,1,0,0,false,0,{"$f":"Jahreskalender!S237","v":"SZ"},{"$f":"Jahreskalender!V237","v":0},null,null,null,null,null,null,null,null,null,0,0,"0:00",0,0,"0:00"]
[null,null,{"$f":"Jahreskalender!C238","v":"2024-03-18"},3,12,1,0,0,1,false,0,{"$f":"Jahreskalender!S238","v":"SZ"},{"$f":"Jahreskalender!V238","v":0},null,null,null,null,null,null,null,null,null,0,0,"0:00",0,0,"0:00"]
[null,null,{"$f":"Jahreskalender!C239","v":"2024-03-19"},3,12,1,0,0,1,false,0,{"$f":"Jahreskalender!S239","v":"SZ"},{"$f":"Jahreskalender!V239","v":0},null,null,null,null,null,null,null,null,null,0,0,"0:00",0,0,"0:00"]
[null,null,{"$f":"Jahreskalender!C240","v":"2024-03-20"},3,12,1,0,0,1,false,0,{"$f":"Jahreskalender!S240","v":"SZ"},{"$f":"Jahreskalender!V240","v":0},null,null,null,null,null,null,null,null,null,0,0,"0:00",0,0,"0:00"]
[null,null,{"$f":"Jahreskalender!C241","v":"2024-03-21"},3,12,1,0,0,1,false,0,{"$f":"Jahreskalender!S241","v":"SZ"},{"$f":"Jahreskalender!V241","v":0},null,null,null,null,null,null,null,null,null,0,0,"0:00",0,0,"0:00"]
[null,null,{"$f":"Jahreskalender!C242","v":"2024-03-22"},3,12,1,0,0,1,false,0,{"$f":"Jahreskalender!S242","v":"SZ"},{"$f":"Jahreskalender!V242","v":0},null,null,null,null,null,null,null,null,null,0,0,"0:00",0,0,"0:00"]
[null,null,{"$f":"Jahreskalender!C243","v":"2024-03-23"},3,12,0,1,0,0,false,0,{"$f":"Jahreskalender!S243","v":"SZ"},{"$f":"Jahreskalender!V243","v":0},null,null,null,null,null,null,null,null,null,0,0,"0:00",0,0,"0:00"]
[null,null,{"$f":"Jahreskalender!C244","v":"2024-03-24"},3,12,0,1,0,0,false,0,{"$f":"Jahreskalender!S244","v":"SZ"},{"$f":"Jahreskalender!V244","v":0},null,null,null,null,null,null,null,null,null,0,0,"0:00",0,0,"0:00"]
[null,null,{"$f":"Jahreskalender!C245","v":"2024-03-25"},3,13,1,0,0,1,false,0,{"$f":"Jahreskalender!S245","v":"SZ"},{"$f":"Jahreskalender!V245","v":0},null,null,null,null,null,null,null,null,null,0,0,"0:00",0,0,"0:00"]
[null,null,{"$f":"Jahreskalender!C246","v":"2024-03-26"},3,13,1,0,0,1,false,0,{"$f":"Jahreskalender!S246","v":"SZ"},{"$f":"Jahreskalender!V246","v":0},null,null,null,null,null,null,null,null,null,0,0,"0:00",0,0,"0:00"]
[null,null,{"$f":"Jahreskalender!C247","v":"2024-03-27"},3,13,1,0,0,1,false,0,{"$f":"Jahreskalender!S247","v":"SZ"},{"$f":"Jahreskalender!V247","v":0},null,null,null,null,null,null,null,null,null,0,0,"0:00",0,0,"0:00"]
[null,null,{"$f":"Jahreskalender!C248","v":"2024-03-28"},3,13,1,0,0,1,false,0,{"$f":"Jahreskalender!S248","v":"SZ"},{"$f":"Jahreskalender!V248","v":0},null,null,null,null,null,null,null,null,null,0,0,"0:00",0,0,"0:00"]
[null,null,{"$f":"Jahreskalender!C249","v":"2024-03-29"},3,13,1,0,1,0,true,0,{"$f":"Jahreskalender!S249","v":"SFZ"},{"$f":"Jahreskalender!V249","v":0},null,null,null,null,null,null,null,null,null,0,0,"0:00",0,0,"0:00"]
[null,null,{"$f":"Jahreskalender!C250","v":"2024-03-30"},3,13,0,1,0,0,false,0,{"$f":"Jahreskalender!S250","v":"SFZ"},{"$f":"Jahreskalender!V250","v":0},null,null,null,null,null,null,null,null,null,0,0,"0:00",0,0,"0:00"]
[null,null,{"$f":"Jahreskalender!C251","v":"2024-03-31"},3,13,0,1,0,0,false,0,{"$f":"Jahreskalender!S251","v":"SFZ"},{"$f":"Jahreskalender!V251","v":0},null,null,null,null,null,null,null,null,null,0,0,"0:00",0,0,"0:00"]
[null,{"$f":"C252","v":"2024-04-01"},{"$f":"Jahreskalender!C252","v":"2024-04-01"},4,14,1,0,1,0,true,0,{"$f":"Jahreskalender!S252","v":"SFZ"},{"$f":"Jahreskalender!V252","v":0},null,null,null,null,null,null,null,null,null,0,0,"0:00",0,0,"0:00"]
[null,null,{"$f":"Jahreskalender!C253","v":"2024-04-02"},4,14,1,0,0,1,false,0,{"$f":"Jahreskalender!S253","v":"SFZ"},{"$f":"Jahreskalender!V253","v":0},null,null,null,null,null,null,null,null,null,0,0,"0:00",0,0,"0:00"]
[null,null,{"$f":"Jahreskalender!C254","v":"2024-04-03"},4,14,1,0,0,1,false,0,{"$f":"Jahreskalender!S254","v":"SFZ"},{"$f":"Jahreskalender!V254","v":0},null,null,null,null,null,null,null,null,null,0,0,"0:00",0,0,"0:00"]
[null,null,{"$f":"Jahreskalender!C255","v":"2024-04-04"},4,14,1,0,0,1,false,0,{"$f":"Jahreskalender!S255","v":"SFZ"},{"$f":"Jahreskalender!V255","v":0},null,null,null,null,null,null,null,null,null,0,0,"0:00",0,0,"0:00"]
[null,null,{"$f":"Jahreskalender!C256","v":"2024-04-05"},4,14,1,0,0,1,false,0,{"$f":"Jahreskalender!S256","v":"SFZ"},{"$f":"Jahreskalender!V256","v":0},null,null,null,null,null,null,null,null,null,0,0,"0:00",0,0,"0:00"]
[null,null,{"$f":"Jahreskalender!C257","v":"2024-04-06"},4,14,0,1,0,0,false,0,{"$f":"Jahreskalender!S257","v":"SFZ"},{"$f":"Jahreskalender!V257","v":0},null,null,null,null,null,null,null,null,null,0,0,"0:00",0,0,"0:00"]
[null,null,{"$f":"Jahreskalender!C258","v":"2024-04-07"},4,14,0,1,0,0,false,0,{"$f":"Jahreskalender!S258","v":"SFZ"},{"$f":"Jahreskalender!V258","v":0},null,null,null,null,null,null,null,null,null,0,0,"0:00",0,0,"0:00"]
[null,null,{"$f":"Jahreskalender!C259","v":"2024-04-08"},4,15,1,0,0,1,false,0,{"$f":"Jahreskalender!S259","v":"SFZ"},{"$f":"Jahreskalender!V259","v":0},null,null,null,null,null,null,null,null,null,0,0,"0:00",0,0,"0:00"]
[null,null,{"$f":"Jahreskalender!C260","v":"2024-04-09"},4,15,1,0,0,1,false,0,{"$f":"Jahreskalender!S260","v":"SFZ"},{"$f":"Jahreskalender!V260","v":0},null,null,null,null,null,null,null,null,null,0,0,"0:00",0,0,"0:00"]
[null,null,{"$f":"Jahreskalender!C261","v":"2024-04-10"},4,15,1,0,0,1,false,0,{"$f":"Jahreskalender!S261","v":"SFZ"},{"$f":"Jahreskalender!V261","v":0},null,null,null,null,null,null,null,null,null,0,0,"0:00",0,0,"0:00"]
[null,null,{"$f":"Jahreskalender!C262","v":"2024-04-11"},4,15,1,0,0,1,false,0,{"$f":"Jahreskalender!S262","v":"SFZ"},{"$f":"Jahreskalender!V262","v":0},null,null,null,null,null,null,null,null,null,0,0,"0:00",0,0,"0:00"]
[null,null,{"$f":"Jahreskalender!C263","v":"2024-04-12"},4,15,1,0,0,1,false,0,{"$f":"Jahreskalender!S263","v":"SFZ"},{"$f":"Jahreskalender!V263","v":0},null,null,null,null,null,null,null,null,null,0,0,"0:00",0,0,"0:00"]
[null,null,{"$f":"Jahreskalender!C264","v":"2024-04-13"},4,15,0,1,0,0,false,0,{"$f":"Jahreskalender!S264","v":"SFZ"},{"$f":"Jahreskalender!V264","v":0},null,null,null,null,null,null,null,null,null,0,0,"0:00",0,0,"0:00"]
[null,null,{"$f":"Jahreskalender!C265","v":"2024-04-14"},4,15,0,1,0,0,false,0,{"$f":"Jahreskalender!S265","v":"SFZ"},{"$f":"Jahreskalender!V265","v":0},null,null,null,null,null,null,null,null,null,0,0,"0:00",0,0,"0:00"]
[null,null,{"$f":"Jahreskalender!C266","v":"2024-04-15"},4,16,1,0,0,1,false,0,{"$f":"Jahreskalender!S266","v":"SZ"},{"$f":"Jahreskalender!V266","v":0},null,null,null,null,null,null,null,null,null,0,0,"0:00",0,0,"0:00"]
[null,null,{"$f":"Jahreskalender!C267","v":"2024-04-16"},4,16,1,0,0,1,false,0,{"$f":"Jahreskalender!S267","v":"SZ"},{"$f":"Jahreskalender!V267","v":0},null,null,null,null,null,null,null,null,null,0,0,"0:00",0,0,"0:00"]
[null,null,{"$f":"Jahreskalender!C268","v":"2024-04-17"},4,16,1,0,0,1,false,0,{"$f":"Jahreskalender!S268","v":"SZ"},{"$f":"Jahreskalender!V268","v":0},null,null,null,null,null,null,null,null,null,0,0,"0:00",0,0,"0:00"]
[null,null,{"$f":"Jahreskalender!C269","v":"2024-04-18"},4,16,1,0,0,1,false,0,{"$f":"Jahreskalender!S269","v":"SZ"},{"$f":"Jahreskalender!V269","v":0},null,null,null,null,null,null,null,null,null,0,0,"0:00",0,0,"0:00"]
[null,null,{"$f":"Jahreskalender!C270","v":"2024-04-19"},4,16,1,0,0,1,false,0,{"$f":"Jahreskalender!S270","v":"SZ"},{"$f":"Jahreskalender!V270","v":0},null,null,null,null,null,null,null,null,null,0,0,"0:00",0,0,"0:00"]
[null,null,{"$f":"Jahreskalender!C271","v":"2024-04-20"},4,16,0,1,0,0,false,0,{"$f":"Jahreskalender!S271","v":"SZ"},{"$f":"Jahreskalender!V271","v":0},null,null,null,null,null,null,null,null,null,0,0,"0:00",0,0,"0:00"]
[null,null,{"$f":"Jahreskalender!C272","v":"2024-04-21"},4,16,0,1,0,0,false,0,{"$f":"Jahreskalender!S272","v":"SZ"},{"$f":"Jahreskalender!V272","v":0},null,null,null,null,null,null,null,null,null,0,0,"0:00",0,0,"0:00"]
[null,null,{"$f":"Jahreskalender!C273","v":"2024-04-22"},4,17,1,0,0,1,false,0,{"$f":"Jahreskalender!S273","v":"SZ"},{"$f":"Jahreskalender!V273","v":0},null,null,null,null,null,null,null,null,null,0,0,"0:00",0,0,"0:00"]
[null,null,{"$f":"Jahreskalender!C274","v":"2024-04-23"},4,17,1,0,0,1,false,0,{"$f":"Jahreskalender!S274","v":"SZ"},{"$f":"Jahreskalender!V274","v":0},null,null,null,null,null,null,null,null,null,{"$f":"IF(ISERROR((SEARCH(N274,\"_KR_MI_UN_UR_UU\")*0)),0,IF(SEARCH(N274,\"_KR_MI_UN_UR_UU\")>1,K274,0))","v":0},0,"0:00",0,0,"0:00"]
[null,null,{"$f":"Jahreskalender!C275","v":"2024-04-24"},4,17,1,0,0,1,false,0,{"$f":"Jahreskalender!S275","v":"SZ"},{"$f":"Jahreskalender!V275","v":0},null,null,null,null,null,null,null,null,null,0,0,"0:00",0,0,"0:00"]
[null,null,{"$f":"Jahreskalender!C276","v":"2024-04-25"},4,17,1,0,0,1,false,0,{"$f":"Jahreskalender!S276","v":"SZ"},{"$f":"Jahreskalender!V276","v":0},null,null,null,null,null,null,null,null,null,0,0,"0:00",0,0,"0:00"]
[null,null,{"$f":"Jahreskalender!C277","v":"2024-04-26"},4,17,1,0,0,1,false,0,{"$f":"Jahreskalender!S277","v":"SZ"},{"$f":"Jahreskalender!V277","v":0},null,null,null,null,null,null,null,null,null,0,0,"0:00",0,0,"0:00"]
[null,null,{"$f":"Jahreskalender!C278","v":"2024-04-27"},{"$f":"MONTH(C278)","v":4},{"$f":"WEEKNUM(C278,2)","v":17},{"$f":"IF(WEEKDAY(C278,2)>5,0,1)","v":0},{"$f":"IF(WEEKDAY(C278,2)>5,1,0)","v":1},{"$f":"IF(ISERROR(VLOOKUP(C278,tabFeiertage,2,FALSE)),0,VLOOKUP(C278,tabFeiertage,3,FALSE))*F278","v":0},{"$f":"F278-H278","v":0},{"$f":"IF(ISERROR(VLOOKUP(C278,tabFeiertage,2,FALSE)),FALSE,TRUE)","v":false},{"$f":"INDIRECT(\"RAZ_\"& TEXT(WEEKDAY(C278,2),0) & \"WT\")*I278","v":0},{"$f":"Jahreskalender!S278","v":"SZ"},{"$f":"Jahreskalender!V278","v":0},null,null,null,null,null,null,null,null,null,0,{"$f":"SUM(O278:W278)","v":0},{"$f":"IF(Z278<0,\"-\"&TEXT(ABS(Z278),\"[Rot][h]:mm\"),IF(Z278=0,\"0:00\",TEXT(Z278,\"[h]:mm\")))","v":"0:00"},{"$f":"X278-M278","v":0},0,"0:00"]
[null,null,{"$f":"Jahreskalender!C279","v":"2024-04-28"},4,17,0,1,0,0,false,0,{"$f":"Jahreskalender!S279","v":"SZ"},{"$f":"Jahreskalender!V279","v":0},null,null,null,null,null,null,null,null,null,0,0,"0:00",0,{"$f":"AA278+Z279","v":0},{"$f":"IF(AA279<0,\"-\"&TEXT(ABS(AA279),\"[Rot][h]:mm\"),IF(AA279=0,\"0:00\",TEXT(AA279,\"[h]:mm\")))","v":"0:00"}]
[null,null,{"$f":"Jahreskalender!C280","v":"2024-04-29"},4,18,1,0,0,1,false,0,{"$f":"Jahreskalender!S280","v":"SZ"},{"$f":"Jahreskalender!V280","v":0},null,null,null,null,null,null,null,null,null,0,0,"0:00",0,0,"0:00"]
[null,null,{"$f":"Jahreskalender!C281","v":"2024-04-30"},4,18,1,0,0,1,false,0,{"$f":"Jahreskalender!S281","v":"SZ"},{"$f":"Jahreskalender!V281","v":0},null,null,null,null,null,null,null,null,null,0,0,"0:00",0,0,"0:00"]
[null,{"$f":"C282","v":"2024-05-01"},{"$f":"Jahreskalender!C282","v":"2024-05-01"},5,18,1,0,0,1,false,0,{"$f":"Jahreskalender!S282","v":"SZ"},{"$f":"Jahreskalender!V282","v":0},null,null,null,null,null,null,null,null,null,0,0,"0:00",0,0,"0:00"]
[null,null,{"$f":"Jahreskalender!C283","v":"2024-05-02"},5,18,1,0,0,1,false,0,{"$f":"Jahreskalender!S283","v":"SZ"},{"$f":"Jahreskalender!V283","v":0},null,null,null,null,null,null,null,null,null,0,0,"0:00",0,0,"0:00"]
[null,null,{"$f":"Jahreskalender!C284","v":"2024-05-03"},5,18,1,0,0,1,false,0,{"$f":"Jahreskalender!S284","v":"SZ"},{"$f":"Jahreskalender!V284","v":0},null,null,null,null,null,null,null,null,null,0,0,"0:00",0,0,"0:00"]
[null,null,{"$f":"Jahreskalender!C285","v":"2024-05-04"},5,18,0,1,0,0,false,0,{"$f":"Jahreskalender!S285","v":"SZ"},{"$f":"Jahreskalender!V285","v":0},null,null,null,null,null,null,null,null,null,0,0,"0:00",0,0,"0:00"]
[null,null,{"$f":"Jahreskalender!C286","v":"2024-05-05"},5,18,0,1,0,0,false,0,{"$f":"Jahreskalender!S286","v":"SZ"},{"$f":"Jahreskalender!V286","v":0},null,null,null,null,null,null,null,null,null,0,{"$f":"SUM(O286:W286)","v":0},"0:00",0,0,"0:00"]
[null,null,{"$f":"Jahreskalender!C287","v":"2024-05-06"},5,19,1,0,0,1,false,0,{"$f":"Jahreskalender!S287","v":"SZ"},{"$f":"Jahreskalender!V287","v":0},null,null,null,null,null,null,null,null,null,0,{"$f":"SUM(O287:W287)","v":0},"0:00",0,0,"0:00"]
[null,null,{"$f":"Jahreskalender!C288","v":"2024-05-07"},5,19,1,0,0,1,false,0,{"$f":"Jahreskalender!S288","v":"SZ"},{"$f":"Jahreskalender!V288","v":0},null,null,null,null,null,null,null,null,null,0,{"$f":"SUM(O288:W288)","v":0},"0:00",0,0,"0:00"]
[null,null,{"$f":"Jahreskalender!C289","v":"2024-05-08"},5,19,1,0,0,1,false,0,{"$f":"Jahreskalender!S289","v":"SZ"},{"$f":"Jahreskalender!V289","v":0},null,null,null,null,null,null,null,null,null,0,{"$f":"SUM(O289:W289)","v":0},"0:00",0,0,"0:00"]
[null,null,{"$f":"Jahreskalender!C290","v":"2024-05-09"},5,19,1,0,1,0,true,0,{"$f":"Jahreskalender!S290","v":"SZ"},{"$f":"Jahreskalender!V290","v":0},null,null,null,null,null,null,null,null,null,0,{"$f":"SUM(O290:W290)","v":0},"0:00",0,0,"0:00"]
[null,null,{"$f":"Jahreskalender!C291","v":"2024-05-10"},5,19,1,0,0,1,false,0,{"$f":"Jahreskalender!S291","v":"SZ"},{"$f":"Jahreskalender!V291","v":0},null,null,null,null,null,null,null,null,null,0,0,"0:00",0,0,"0:00"]
[null,null,{"$f":"Jahreskalender!C292","v":"2024-05-11"},5,19,0,1,0,0,false,0,{"$f":"Jahreskalender!S292","v":"SZ"},{"$f":"Jahreskalender!V292","v":0},null,null,null,null,null,null,null,null,null,0,0,"0:00",0,0,"0:00"]
[null,null,{"$f":"Jahreskalender!C293","v":"2024-05-12"},5,19,0,1,0,0,false,0,{"$f":"Jahreskalender!S293","v":"SZ"},{"$f":"Jahreskalender!V293","v":0},null,null,null,null,null,null,null,null,null,0,0,"0:00",0,0,"0:00"]
[null,null,{"$f":"Jahreskalender!C294","v":"2024-05-13"},5,20,1,0,0,1,false,0,{"$f":"Jahreskalender!S294","v":"SZ"},{"$f":"Jahreskalender!V294","v":0},null,null,null,null,null,null,null,null,null,0,0,"0:00",0,0,"0:00"]
[null,null,{"$f":"Jahreskalender!C295","v":"2024-05-14"},5,20,1,0,0,1,false,0,{"$f":"Jahreskalender!S295","v":"SZ"},{"$f":"Jahreskalender!V295","v":0},null,null,null,null,null,null,null,null,null,0,0,"0:00",0,0,"0:00"]
[null,null,{"$f":"Jahreskalender!C296","v":"2024-05-15"},5,20,1,0,0,1,false,0,{"$f":"Jahreskalender!S296","v":"SZ"},{"$f":"Jahreskalender!V296","v":0},null,null,null,null,null,null,null,null,null,0,0,"0:00",0,0,"0:00"]
[null,null,{"$f":"Jahreskalender!C297","v":"2024-05-16"},5,20,1,0,0,1,false,0,{"$f":"Jahreskalender!S297","v":"SZ"},{"$f":"Jahreskalender!V297","v":0},null,null,null,null,null,null,null,null,null,0,0,"0:00",0,0,"0:00"]
[null,null,{"$f":"Jahreskalender!C298","v":"2024-05-17"},5,20,1,0,0,1,false,0,{"$f":"Jahreskalender!S298","v":"SZ"},{"$f":"Jahreskalender!V298","v":0},null,null,null,null,null,null,null,null,null,0,0,"0:00",0,0,"0:00"]
[null,null,{"$f":"Jahreskalender!C299","v":"2024-05-18"},5,20,0,1,0,0,false,0,{"$f":"Jahreskalender!S299","v":"SZ"},{"$f":"Jahreskalender!V299","v":0},null,null,null,null,null,null,null,null,null,0,0,"0:00",0,0,"0:00"]
[null,null,{"$f":"Jahreskalender!C300","v":"2024-05-19"},5,20,0,1,0,0,false,0,{"$f":"Jahreskalender!S300","v":"SZ"},{"$f":"Jahreskalender!V300","v":0},null,null,null,null,null,null,null,null,null,0,0,"0:00",0,0,"0:00"]
[null,null,{"$f":"Jahreskalender!C301","v":"2024-05-20"},5,21,1,0,1,0,true,0,{"$f":"Jahreskalender!S301","v":"SZ"},{"$f":"Jahreskalender!V301","v":0},null,null,null,null,null,null,null,null,null,0,0,"0:00",0,0,"0:00"]
[null,null,{"$f":"Jahreskalender!C302","v":"2024-05-21"},5,21,1,0,0,1,false,0,{"$f":"Jahreskalender!S302","v":"SZ"},{"$f":"Jahreskalender!V302","v":0},null,null,null,null,null,null,null,null,null,0,0,"0:00",0,0,"0:00"]
[null,null,{"$f":"Jahreskalender!C303","v":"2024-05-22"},5,21,1,0,0,1,false,0,{"$f":"Jahreskalender!S303","v":"SZ"},{"$f":"Jahreskalender!V303","v":0},null,null,null,null,null,null,null,null,null,0,0,"0:00",0,0,"0:00"]
[null,null,{"$f":"Jahreskalender!C304","v":"2024-05-23"},5,21,1,0,0,1,false,0,{"$f":"Jahreskalender!S304","v":"SZ"},{"$f":"Jahreskalender!V304","v":0},null,null,null,null,null,null,null,null,null,0,0,"0:00",0,0,"0:00"]
[null,null,{"$f":"Jahreskalender!C305","v":"2024-05-24"},5,21,1,0,0,1,false,0,{"$f":"Jahreskalender!S305","v":"SZ"},{"$f":"Jahreskalender!V305","v":0},null,null,null,null,null,null,null,null,null,0,0,"0:00",0,0,"0:00"]
[null,null,{"$f":"Jahreskalender!C306","v":"2024-05-25"},5,21,0,1,0,0,false,0,{"$f":"Jahreskalender!S306","v":"SZ"},{"$f":"Jahreskalender!V306","v":0},null,null,null,null,null,null,null,null,null,0,0,"0:00",0,0,"0:00"]
[null,null,{"$f":"Jahreskalender!C307","v":"2024-05-26"},5,21,0,1,0,0,false,0,{"$f":"Jahreskalender!S307","v":"SZ"},{"$f":"Jahreskalender!V307","v":0},null,null,null,null,null,null,null,null,null,0,0,"0:00",0,0,"0:00"]
[null,null,{"$f":"Jahreskalender!C308","v":"2024-05-27"},5,22,1,0,0,1,false,0,{"$f":"Jahreskalender!S308","v":"SZ"},{"$f":"Jahreskalender!V308","v":0},null,null,null,null,null,null,null,null,null,0,0,"0:00",0,0,"0:00"]
[null,null,{"$f":"Jahreskalender!C309","v":"2024-05-28"},5,22,1,0,0,1,false,0,{"$f":"Jahreskalender!S309","v":"SZ"},{"$f":"Jahreskalender!V309","v":0},null,null,null,null,null,null,null,null,null,0,0,"0:00",0,0,"0:00"]
[null,null,{"$f":"Jahreskalender!C310","v":"2024-05-29"},5,22,1,0,0,1,false,0,{"$f":"Jahreskalender!S310","v":"SZ"},{"$f":"Jahreskalender!V310","v":0},null,null,null,null,null,null,null,null,null,0,0,"0:00",0,0,"0:00"]
[null,null,{"$f":"Jahreskalender!C311","v":"2024-05-30"},5,22,1,0,1,0,true,0,{"$f":"Jahreskalender!S311","v":"SZ"},{"$f":"Jahreskalender!V311","v":0},null,null,null,null,null,null,null,null,null,0,0,"0:00",0,0,"0:00"]
[null,null,{"$f":"Jahreskalender!C312","v":"2024-05-31"},5,22,1,0,0,1,false,0,{"$f":"Jahreskalender!S312","v":"SZ"},{"$f":"Jahreskalender!V312","v":0},null,null,null,null,null,null,null,null,null,0,0,"0:00",0,0,"0:00"]
[null,{"$f":"C313","v":"2024-06-01"},{"$f":"Jahreskalender!C313","v":"2024-06-01"},6,22,0,1,0,0,false,0,{"$f":"Jahreskalender!S313","v":"SZ"},{"$f":"Jahreskalender!V313","v":0},null,null,null,null,null,null,null,null,null,0,0,"0:00",0,0,"0:00"]
[null,null,{"$f":"Jahreskalender!C314","v":"2024-06-02"},6,22,0,1,0,0,false,0,{"$f":"Jahreskalender!S314","v":"SZ"},{"$f":"Jahreskalender!V314","v":0},null,null,null,null,null,null,null,null,null,0,0,"0:00",0,0,"0:00"]
[null,null,{"$f":"Jahreskalender!C315","v":"2024-06-03"},6,23,1,0,0,1,false,0,{"$f":"Jahreskalender!S315","v":"SZ"},{"$f":"Jahreskalender!V315","v":0},null,null,null,null,null,null,null,null,null,0,0,"0:00",0,0,"0:00"]
[null,null,{"$f":"Jahreskalender!C316","v":"2024-06-04"},6,23,1,0,0,1,false,0,{"$f":"Jahreskalender!S316","v":"SZ"},{"$f":"Jahreskalender!V316","v":0},null,null,null,null,null,null,null,null,null,0,0,"0:00",0,0,"0:00"]
[null,null,{"$f":"Jahreskalender!C317","v":"2024-06-05"},6,23,1,0,0,1,false,0,{"$f":"Jahreskalender!S317","v":"SZ"},{"$f":"Jahreskalender!V317","v":0},null,null,null,null,null,null,null,null,null,0,0,"0:00",0,0,"0:00"]
[null,null,{"$f":"Jahreskalender!C318","v":"2024-06-06"},6,23,1,0,0,1,false,0,{"$f":"Jahreskalender!S318","v":"SZ"},{"$f":"Jahreskalender!V318","v":0},null,null,null,null,null,null,null,null,null,0,0,"0:00",0,0,"0:00"]
[null,null,{"$f":"Jahreskalender!C319","v":"2024-06-07"},6,23,1,0,0,1,false,0,{"$f":"Jahreskalender!S319","v":"SZ"},{"$f":"Jahreskalender!V319","v":0},null,null,null,null,null,null,null,null,null,0,0,"0:00",0,0,"0:00"]
[null,null,{"$f":"Jahreskalender!C320","v":"2024-06-08"},6,23,0,1,0,0,false,0,{"$f":"Jahreskalender!S320","v":"SZ"},{"$f":"Jahreskalender!V320","v":0},null,null,null,null,null,null,null,null,null,0,0,"0:00",0,0,"0:00"]
[null,null,{"$f":"Jahreskalender!C321","v":"2024-06-09"},6,23,0,1,0,0,false,0,{"$f":"Jahreskalender!S321","v":"SZ"},{"$f":"Jahreskalender!V321","v":0},null,null,null,null,null,null,null,null,null,0,0,"0:00",0,0,"0:00"]
[null,null,{"$f":"Jahreskalender!C322","v":"2024-06-10"},6,24,1,0,0,1,false,0,{"$f":"Jahreskalender!S322","v":"SZ"},{"$f":"Jahreskalender!V322","v":0},null,null,null,null,null,null,null,null,null,0,0,"0:00",0,0,"0:00"]
[null,null,{"$f":"Jahreskalender!C323","v":"2024-06-11"},6,24,1,0,0,1,false,0,{"$f":"Jahreskalender!S323","v":"SZ"},{"$f":"Jahreskalender!V323","v":0},null,null,null,null,null,null,null,null,null,0,0,"0:00",0,0,"0:00"]
[null,null,{"$f":"Jahreskalender!C324","v":"2024-06-12"},6,24,1,0,0,1,false,0,{"$f":"Jahreskalender!S324","v":"SZ"},{"$f":"Jahreskalender!V324","v":0},null,null,null,null,null,null,null,null,null,0,0,"0:00",0,0,"0:00"]
[null,null,{"$f":"Jahreskalender!C325","v":"2024-06-13"},6,24,1,0,0,1,false,0,{"$f":"Jahreskalender!S325","v":"SZ"},{"$f":"Jahreskalender!V325","v":0},null,null,null,null,null,null,null,null,null,0,0,"0:00",0,0,"0:00"]
[null,null,{"$f":"Jahreskalender!C326","v":"2024-06-14"},6,24,1,0,0,1,false,0,{"$f":"Jahreskalender!S326","v":"SZ"},{"$f":"Jahreskalender!V326","v":0},null,null,null,null,null,null,null,null,null,0,0,"0:00",0,0,"0:00"]
[null,null,{"$f":"Jahreskalender!C327","v":"2024-06-15"},6,24,0,1,0,0,false,0,{"$f":"Jahreskalender!S327","v":"SZ"},{"$f":"Jahreskalender!V327","v":0},null,null,null,null,null,null,null,null,null,0,0,"0:00",0,0,"0:00"]
[null,null,{"$f":"Jahreskalender!C328","v":"2024-06-16"},6,24,0,1,0,0,false,0,{"$f":"Jahreskalender!S328","v":"SZ"},{"$f":"Jahreskalender!V328","v":0},null,null,null,null,null,null,null,null,null,0,0,"0:00",0,0,"0:00"]
[null,null,{"$f":"Jahreskalender!C329","v":"2024-06-17"},6,25,1,0,0,1,false,0,{"$f":"Jahreskalender!S329","v":"SZ"},{"$f":"Jahreskalender!V329","v":0},null,null,null,null,null,null,null,null,null,0,0,"0:00",0,0,"0:00"]
[null,null,{"$f":"Jahreskalender!C330","v":"2024-06-18"},6,25,1,0,0,1,false,0,{"$f":"Jahreskalender!S330","v":"SZ"},{"$f":"Jahreskalender!V330","v":0},null,null,null,null,null,null,null,null,null,0,0,"0:00",0,0,"0:00"]
[null,null,{"$f":"Jahreskalender!C331","v":"2024-06-19"},6,25,1,0,0,1,false,0,{"$f":"Jahreskalender!S331","v":"SZ"},{"$f":"Jahreskalender!V331","v":0},null,null,null,null,null,null,null,null,null,0,0,"0:00",0,0,"0:00"]
[null,null,{"$f":"Jahreskalender!C332","v":"2024-06-20"},6,25,1,0,0,1,false,0,{"$f":"Jahreskalender!S332","v":"SZ"},{"$f":"Jahreskalender!V332","v":0},null,null,null,null,null,null,null,null,null,0,0,"0:00",0,0,"0:00"]
[null,null,{"$f":"Jahreskalender!C333","v":"2024-06-21"},6,25,1,0,0,1,false,0,{"$f":"Jahreskalender!S333","v":"SZ"},{"$f":"Jahreskalender!V333","v":0},null,null,null,null,null,null,null,null,null,0,0,"0:00",0,0,"0:00"]
[null,null,{"$f":"Jahreskalender!C334","v":"2024-06-22"},6,25,0,1,0,0,false,0,{"$f":"Jahreskalender!S334","v":"SZ"},{"$f":"Jahreskalender!V334","v":0},null,null,null,null,null,null,null,null,null,0,0,"0:00",0,0,"0:00"]
[null,null,{"$f":"Jahreskalender!C335","v":"2024-06-23"},6,25,0,1,0,0,false,0,{"$f":"Jahreskalender!S335","v":"SZ"},{"$f":"Jahreskalender!V335","v":0},null,null,null,null,null,null,null,null,null,0,0,"0:00",0,0,"0:00"]
[null,null,{"$f":"Jahreskalender!C336","v":"2024-06-24"},6,26,1,0,0,1,false,0,{"$f":"Jahreskalender!S336","v":"SZ"},{"$f":"Jahreskalender!V336","v":0},null,null,null,null,null,null,null,null,null,0,0,"0:00",0,0,"0:00"]
[null,null,{"$f":"Jahreskalender!C337","v":"2024-06-25"},6,26,1,0,0,1,false,0,{"$f":"Jahreskalender!S337","v":"SZ"},{"$f":"Jahreskalender!V337","v":0},null,null,null,null,null,null,null,null,null,0,0,"0:00",0,0,"0:00"]
[null,null,{"$f":"Jahreskalender!C338","v":"2024-06-26"},6,26,1,0,0,1,false,0,{"$f":"Jahreskalender!S338","v":"SZ"},{"$f":"Jahreskalender!V338","v":0},null,null,null,null,null,null,null,null,null,{"$f":"IF(ISERROR((SEARCH(N338,\"_KR_MI_UN_UR_UU\")*0)),0,IF(SEARCH(N338,\"_KR_MI_UN_UR_UU\")>1,K338,0))","v":0},0,"0:00",0,0,"0:00"]
[null,null,{"$f":"Jahreskalender!C339","v":"2024-06-27"},6,26,1,0,0,1,false,0,{"$f":"Jahreskalender!S339","v":"SZ"},{"$f":"Jahreskalender!V339","v":0},null,null,null,null,null,null,null,null,null,0,0,"0:00",0,0,"0:00"]
[null,null,{"$f":"Jahreskalender!C340","v":"2024-06-28"},6,26,1,0,0,1,false,0,{"$f":"Jahreskalender!S340","v":"SZ"},{"$f":"Jahreskalender!V340","v":0},null,null,null,null,null,null,null,null,null,0,0,"0:00",0,0,"0:00"]
[null,null,{"$f":"Jahreskalender!C341","v":"2024-06-29"},6,26,0,1,0,0,false,0,{"$f":"Jahreskalender!S341","v":"SZ"},{"$f":"Jahreskalender!V341","v":0},null,null,null,null,null,null,null,null,null,0,0,"0:00",0,0,"0:00"]
[null,null,{"$f":"Jahreskalender!C342","v":"2024-06-30"},{"$f":"MONTH(C342)","v":6},{"$f":"WEEKNUM(C342,2)","v":26},{"$f":"IF(WEEKDAY(C342,2)>5,0,1)","v":0},{"$f":"IF(WEEKDAY(C342,2)>5,1,0)","v":1},{"$f":"IF(ISERROR(VLOOKUP(C342,tabFeiertage,2,FALSE)),0,VLOOKUP(C342,tabFeiertage,3,FALSE))*F342","v":0},{"$f":"F342-H342","v":0},{"$f":"IF(ISERROR(VLOOKUP(C342,tabFeiertage,2,FALSE)),FALSE,TRUE)","v":false},{"$f":"INDIRECT(\"RAZ_\"& TEXT(WEEKDAY(C342,2),0) & \"WT\")*I342","v":0},{"$f":"Jahreskalender!S342","v":"SZ"},{"$f":"Jahreskalender!V342","v":0},null,null,null,null,null,null,null,null,null,0,{"$f":"SUM(O342:W342)","v":0},{"$f":"IF(Z342<0,\"-\"&TEXT(ABS(Z342),\"[Rot][h]:mm\"),IF(Z342=0,\"0:00\",TEXT(Z342,\"[h]:mm\")))","v":"0:00"},{"$f":"X342-M342","v":0},0,"0:00"]
[null,{"$f":"C343","v":"2024-07-01"},{"$f":"Jahreskalender!C343","v":"2024-07-01"},7,27,1,0,0,1,false,0,{"$f":"Jahreskalender!S343","v":"SZ"},{"$f":"Jahreskalender!V343","v":0},null,null,null,null,null,null,null,null,null,0,0,"0:00",0,{"$f":"AA342+Z343","v":0},{"$f":"IF(AA343<0,\"-\"&TEXT(ABS(AA343),\"[Rot][h]:mm\"),IF(AA343=0,\"0:00\",TEXT(AA343,\"[h]:mm\")))","v":"0:00"}]
[null,null,{"$f":"Jahreskalender!C344","v":"2024-07-02"},7,27,1,0,0,1,false,0,{"$f":"Jahreskalender!S344","v":"SZ"},{"$f":"Jahreskalender!V344","v":0},null,null,null,null,null,null,null,null,null,0,0,"0:00",0,0,"0:00"]
[null,null,{"$f":"Jahreskalender!C345","v":"2024-07-03"},7,27,1,0,0,1,false,0,{"$f":"Jahreskalender!S345","v":"SZ"},{"$f":"Jahreskalender!V345","v":0},null,null,null,null,null,null,null,null,null,0,0,"0:00",0,0,"0:00"]
[null,null,{"$f":"Jahreskalender!C346","v":"2024-07-04"},7,27,1,0,0,1,false,0,{"$f":"Jahreskalender!S346","v":"SZ"},{"$f":"Jahreskalender!V346","v":0},null,null,null,null,null,null,null,null,null,0,0,"0:00",0,0,"0:00"]
[null,null,{"$f":"Jahreskalender!C347","v":"2024-07-05"},7,27,1,0,0,1,false,0,{"$f":"Jahreskalender!S347","v":"SZ"},{"$f":"Jahreskalender!V347","v":0},null,null,null,null,null,null,null,null,null,0,0,"0:00",0,0,"0:00"]
[null,null,{"$f":"Jahreskalender!C348","v":"2024-07-06"},7,27,0,1,0,0,false,0,{"$f":"Jahreskalender!S348","v":"SFZ"},{"$f":"Jahreskalender!V348","v":0},null,null,null,null,null,null,null,null,null,0,0,"0:00",0,0,"0:00"]
[null,null,{"$f":"Jahreskalender!C349","v":"2024-07-07"},7,27,0,1,0,0,false,0,{"$f":"Jahreskalender!S349","v":"SFZ"},{"$f":"Jahreskalender!V349","v":0},null,null,null,null,null,null,null,null,null,0,0,"0:00",0,0,"0:00"]
[null,null,{"$f":"Jahreskalender!C350","v":"2024-07-08"},7,28,1,0,0,1,false,0,{"$f":"Jahreskalender!S350","v":"SFZ"},{"$f":"Jahreskalender!V350","v":0},null,null,null,null,null,null,null,null,null,0,0,"0:00",0,0,"0:00"]
[null,null,{"$f":"Jahreskalender!C351","v":"2024-07-09"},7,28,1,0,0,1,false,0,{"$f":"Jahreskalender!S351","v":"SFZ"},{"$f":"Jahreskalender!V351","v":0},null,null,null,null,null,null,null,null,null,0,0,"0:00",0,0,"0:00"]
[null,null,{"$f":"Jahreskalender!C352","v":"2024-07-10"},7,28,1,0,0,1,false,0,{"$f":"Jahreskalender!S352","v":"SFZ"},{"$f":"Jahreskalender!V352","v":0},null,null,null,null,null,null,null,null,null,0,0,"0:00",0,0,"0:00"]
[null,null,{"$f":"Jahreskalender!C353","v":"2024-07-11"},7,28,1,0,0,1,false,0,{"$f":"Jahreskalender!S353","v":"SFZ"},{"$f":"Jahreskalender!V353","v":0},null,null,null,null,null,null,null,null,null,0,0,"0:00",0,0,"0:00"]
[null,null,{"$f":"Jahreskalender!C354","v":"2024-07-12"},7,28,1,0,0,1,false,0,{"$f":"Jahreskalender!S354","v":"SFZ"},{"$f":"Jahreskalender!V354","v":0},null,null,null,null,null,null,null,null,null,0,0,"0:00",0,0,"0:00"]
[null,null,{"$f":"Jahreskalender!C355","v":"2024-07-13"},7,28,0,1,0,0,false,0,{"$f":"Jahreskalender!S355","v":"SFZ"},{"$f":"Jahreskalender!V355","v":0},null,null,null,null,null,null,null,null,null,0,0,"0:00",0,0,"0:00"]
[null,null,{"$f":"Jahreskalender!C356","v":"2024-07-14"},7,28,0,1,0,0,false,0,{"$f":"Jahreskalender!S356","v":"SFZ"},{"$f":"Jahreskalender!V356","v":0},null,null,null,null,null,null,null,null,null,0,0,"0:00",0,0,"0:00"]
[null,null,{"$f":"Jahreskalender!C357","v":"2024-07-15"},7,29,1,0,0,1,false,0,{"$f":"Jahreskalender!S357","v":"SFZ"},{"$f":"Jahreskalender!V357","v":0},null,null,null,null,null,null,null,null,null,0,0,"0:00",0,0,"0:00"]
[null,null,{"$f":"Jahreskalender!C358","v":"2024-07-16"},7,29,1,0,0,1,false,0,{"$f":"Jahreskalender!S358","v":"SFZ"},{"$f":"Jahreskalender!V358","v":0},null,null,null,null,null,null,null,null,null,0,0,"0:00",0,0,"0:00"]
[null,null,{"$f":"Jahreskalender!C359","v":"2024-07-17"},7,29,1,0,0,1,false,0,{"$f":"Jahreskalender!S359","v":"SFZ"},{"$f":"Jahreskalender!V359","v":0},null,null,null,null,null,null,null,null,null,0,{"$f":"SUM(O359:W359)","v":0},"0:00",0,0,"0:00"]
[null,null,{"$f":"Jahreskalender!C360","v":"2024-07-18"},7,29,1,0,0,1,false,0,{"$f":"Jahreskalender!S360","v":"SFZ"},{"$f":"Jahreskalender!V360","v":0},null,null,null,null,null,null,null,null,null,0,{"$f":"SUM(O360:W360)","v":0},"0:00",0,0,"0:00"]
[null,null,{"$f":"Jahreskalender!C361","v":"2024-07-19"},7,29,1,0,0,1,false,0,{"$f":"Jahreskalender!S361","v":"SFZ"},{"$f":"Jahreskalender!V361","v":0},null,null,null,null,null,null,null,null,null,0,0,"0:00",0,0,"0:00"]
[null,null,{"$f":"Jahreskalender!C362","v":"2024-07-20"},7,29,0,1,0,0,false,0,{"$f":"Jahreskalender!S362","v":"SFZ"},{"$f":"Jahreskalender!V362","v":0},null,null,null,null,null,null,null,null,null,0,0,"0:00",0,0,"0:00"]
[null,null,{"$f":"Jahreskalender!C363","v":"2024-07-21"},7,29,0,1,0,0,false,0,{"$f":"Jahreskalender!S363","v":"SFZ"},{"$f":"Jahreskalender!V363","v":0},null,null,null,null,null,null,null,null,null,0,0,"0:00",0,0,"0:00"]
[null,null,{"$f":"Jahreskalender!C364","v":"2024-07-22"},7,30,1,0,0,1,false,0,{"$f":"Jahreskalender!S364","v":"SFZ"},{"$f":"Jahreskalender!V364","v":0},null,null,null,null,null,null,null,null,null,0,0,"0:00",0,0,"0:00"]
[null,null,{"$f":"Jahreskalender!C365","v":"2024-07-23"},7,30,1,0,0,1,false,0,{"$f":"Jahreskalender!S365","v":"SFZ"},{"$f":"Jahreskalender!V365","v":0},null,null,null,null,null,null,null,null,null,0,0,"0:00",0,0,"0:00"]
[null,null,{"$f":"Jahreskalender!C366","v":"2024-07-24"},7,30,1,0,0,1,false,0,{"$f":"Jahreskalender!S366","v":"SFZ"},{"$f":"Jahreskalender!V366","v":0},null,null,null,null,null,null,null,null,null,0,0,"0:00",0,0,"0:00"]
[null,null,{"$f":"Jahreskalender!C367","v":"2024-07-25"},7,30,1,0,0,1,false,0,{"$f":"Jahreskalender!S367","v":"SFZ"},{"$f":"Jahreskalender!V367","v":0},null,null,null,null,null,null,null,null,null,0,0,"0:00",0,0,"0:00"]
[null,null,{"$f":"Jahreskalender!C368","v":"2024-07-26"},7,30,1,0,0,1,false,0,{"$f":"Jahreskalender!S368","v":"SFZ"},{"$f":"Jahreskalender!V368","v":0},null,null,null,null,null,null,null,null,null,0,0,"0:00",0,0,"0:00"]
[null,null,{"$f":"Jahreskalender!C369","v":"2024-07-27"},7,30,0,1,0,0,false,0,{"$f":"Jahreskalender!S369","v":"SFZ"},{"$f":"Jahreskalender!V369","v":0},null,null,null,null,null,null,null,null,null,0,0,"0:00",0,0,"0:00"]
[null,null,{"$f":"Jahreskalender!C370","v":"2024-07-28"},7,30,0,1,0,0,false,0,{"$f":"Jahreskalender!S370","v":"SFZ"},{"$f":"Jahreskalender!V370","v":0},null,null,null,null,null,null,null,null,null,0,0,"0:00",0,0,"0:00"]
[null,null,{"$f":"Jahreskalender!C371","v":"2024-07-29"},7,31,1,0,0,1,false,0,{"$f":"Jahreskalender!S371","v":"SFZ"},{"$f":"Jahreskalender!V371","v":0},null,null,null,null,null,null,null,null,null,0,0,"0:00",0,0,"0:00"]
[null,null,{"$f":"Jahreskalender!C372","v":"2024-07-30"},{"$f":"MONTH(C372)","v":7},{"$f":"WEEKNUM(C372,2)","v":31},{"$f":"IF(WEEKDAY(C372,2)>5,0,1)","v":1},{"$f":"IF(WEEKDAY(C372,2)>5,1,0)","v":0},{"$f":"IF(ISERROR(VLOOKUP(C372,tabFeiertage,2,FALSE)),0,VLOOKUP(C372,tabFeiertage,3,FALSE))*F372","v":0},{"$f":"F372-H372","v":1},{"$f":"IF(ISERROR(VLOOKUP(C372,tabFeiertage,2,FALSE)),FALSE,TRUE)","v":false},{"$f":"INDIRECT(\"RAZ_\"& TEXT(WEEKDAY(C372,2),0) & \"WT\")*I372","v":0},{"$f":"Jahreskalender!S372","v":"SFZ"},{"$f":"Jahreskalender!V372","v":0},null,null,null,null,null,null,null,null,null,{"$f":"IF(ISERROR((SEARCH(N372,\"_KR_MI_UN_UR_UU\")*0)),0,IF(SEARCH(N372,\"_KR_MI_UN_UR_UU\")>1,K372,0))","v":0},{"$f":"SUM(O372:W372)","v":0},{"$f":"IF(Z372<0,\"-\"&TEXT(ABS(Z372),\"[Rot][h]:mm\"),IF(Z372=0,\"0:00\",TEXT(Z372,\"[h]:mm\")))","v":"0:00"},{"$f":"X372-M372","v":0},{"$f":"AA371+Z372","v":0},{"$f":"IF(AA372<0,\"-\"&TEXT(ABS(AA372),\"[Rot][h]:mm\"),IF(AA372=0,\"0:00\",TEXT(AA372,\"[h]:mm\")))","v":"0:00"}]
[null,null,{"$f":"Jahreskalender!C373","v":"2024-07-31"},7,31,1,0,0,1,false,0,{"$f":"Jahreskalender!S373","v":"SFZ"},{"$f":"Jahreskalender!V373","v":0},null,null,null,null,null,null,null,null,null,0,0,"0:00",0,0,"0:00"]

{"sheet":"Übersicht","index":1,"n_rows":79,"n_cols":20,"rows_kept":79,"cut":false,"hidden":false,"merged":[[55,1,55,7],[61,1,61,7],[65,1,65,7],[67,1,67,7],[69,1,69,7],[56,1,56,4],[57,1,57,4],[58,1,58,4],[59,1,59,4],[11,16,11,17],[34,16,34,17],[28,14,28,15],[28,16,28,17],[34,12,34,13],[34,14,34,15],[25,16,25,17],[28,12,28,13],[2,13,2,15],[25,4,25,5],[25,6,25,7],[25,8,25,9],[25,10,25,11],[25,12,25,13],[25,14,25,15],[11,14,11,15],[11,4,11,5],[11,6,11,7],[11,8,11,9],[11,10,11,11],[11,12,11,13],[2,4,2,7],[28,4,28,5],[28,6,28,7],[28,8,28,9],[28,10,28,11],[51,14,51,15],[48,12,48,13],[51,16,51,17],[48,14,48,15],[48,4,48,5],[34,4,34,5],[51,4,51,5],[51,6,51,7],[51,8,51,9],[51,10,51,11],[51,12,51,13],[34,6,34,7],[34,8,34,9],[34,10,34,11],[48,6,48,7],[48,8,48,9],[48,10,48,11],[48,16,48,17]]}
[null,{"$f":"\"Übersicht \" &TEXT(Jahresbezeichnung,\"\")","v":"Übersicht 2023/2024"}]
[]
[null,"Lehrperson:",null,null,{"$f":"TRIM(Pensendefinition!D7 & \" \" & Pensendefinition!D5)","v":""},null,null,null,null,null,null,null,"Schule:",{"$f":"TRIM(Pensendefinition!D9)","v":""}]
[]
[]
[null,"Monatsübersicht"]
[]
[null,"1. Halbjahr"]
[]
[]
[null,"Sollstunden",{"$f":"JAZ","v":0},null,{"$f":"DSUM(_xlnm.Database,\"Soll\",INDIRECT(\"Filterkriterium_\"&TEXT(E$12,)))","v":0},null,{"$f":"DSUM(_xlnm.Database,\"Soll\",INDIRECT(\"Filterkriterium_\"&TEXT(G$12,)))","v":0},null,{"$f":"DSUM(_xlnm.Database,\"Soll\",INDIRECT(\"Filterkriterium_\"&TEXT(I$12,)))","v":0},null,{"$f":"DSUM(_xlnm.Database,\"Soll\",INDIRECT(\"Filterkriterium_\"&TEXT(K$12,)))","v":0},null,{"$f":"DSUM(_xlnm.Database,\"Soll\",INDIRECT(\"Filterkriterium_\"&TEXT(M$12,)))","v":0},null,{"$f":"DSUM(_xlnm.Database,\"Soll\",INDIRECT(\"Filterkriterium_\"&TEXT(O$12,)))","v":0}]
[null,null,null,null,"August",null,"September",null,"Oktober",null,"November",null,"Dezember",null,"Januar",null,"1. Halbjahr"]
[null,null,null,null,"Soll","Haben","Soll","Haben","Soll","Haben","Soll","Haben","Soll","Haben","Soll","Haben","Soll","Haben"]
[null,{"$f":"SUBSTITUTE(Titel_kurz_LG1,\"-\",\"\")","v":"Kernauftrag"},{"$f":"IF(ISERROR(GesamtAnteil_A),0,GesamtAnteil_A)","v":0},"Kernauftrag",{"$f":"E$11*C14","v":0},{"$f":"SUM(F15:F18)","v":0},{"$f":"C14*G$11","v":0},{"$f":"SUM(H15:H18)","v":0},{"$f":"C14*I$11","v":0},{"$f":"SUM(J15:J18)","v":0},{"$f":"C14*K$11","v":0},{"$f":"SUM(L15:L18)","v":0},{"$f":"C14*M$11","v":0},{"$f":"SUM(N15:N18)","v":0},{"$f":"C14*O$11","v":0},{"$f":"SUM(P15:P18)","v":0},{"$f":"SUM(E14,G14,I14,K14,M14,O14)","v":0},0]
[null,"Unterricht",{"$f":"IF(ISERROR(GesamtAnteil_A1),0,GesamtAnteil_A1)","v":0},"Unterricht",0,{"$f":"DSUM(_xlnm.Database,$D15,INDIRECT(\"Filterkriterium_\"&TEXT(E$12,)))","v":0},0,{"$f":"DSUM(_xlnm.Database,$D15,INDIRECT(\"Filterkriterium_\"&TEXT(G$12,)))","v":0},0,{"$f":"DSUM(_xlnm.Database,$D15,INDIRECT(\"Filterkriterium_\"&TEXT(I$12,)))","v":0},0,{"$f":"DSUM(_xlnm.Database,$D15,INDIRECT(\"Filterkriterium_\"&TEXT(K$12,)))","v":0},0,{"$f":"DSUM(_xlnm.Database,$D15,INDIRECT(\"Filterkriterium_\"&TEXT(M$12,)))","v":0},0,0,0,0]
[null,"Lernende",{"$f":"IF(ISERROR(GesamtAnteil_A2),0,GesamtAnteil_A2)","v":0},"Lernende",0,0,0,0,0,0,0,0,0,0,0,0,0,0]
[null,"Schule",{"$f":"IF(ISERROR(GesamtAnteil_A3),0,GesamtAnteil_A3)","v":0},"Schule",0,0,0,0,0,0,0,0,0,0,0,0,0,0]
[null,"Lehrperson",{"$f":"IF(ISERROR(GesamtAnteil_A4),0,GesamtAnteil_A4)","v":0},"Lehrperson",0,0,0,0,0,0,0,0,0,0,0,0,0,0]
[null,{"$f":"SUBSTITUTE(Titel_kurz_LG2,\"-\",\"\")","v":"Klassenlehrperson"},{"$f":"IF(ISERROR(GesamtAnteil_B),0,GesamtAnteil_B)","v":0},"KLP",0,0,0,0,0,0,0,0,0,0,0,0,0,0]
[null,{"$f":"SUBSTITUTE(Titel_kurz_LG3,\"-\",\"\")","v":"Besondere Aufgaben"},{"$f":"IF(ISERROR(GesamtAnteil_C),0,GesamtAnteil_C)","v":0},"BA",0,0,0,0,0,0,0,0,0,0,0,0,0,0]
[null,{"$f":"SUBSTITUTE(Titel_kurz_LG4,\"-\",\"\")","v":"Tagesstrukturen"},{"$f":"IF(ISERROR(GesamtAnteil_D),0,GesamtAnteil_D)","v":0},"MT",{"$f":"E$11*C21","v":0},0,0,0,0,0,0,0,0,0,0,0,0,0]
[null,{"$f":"SUBSTITUTE(Titel_kurz_LG5,\"-\",\"\")","v":"Weitere Funktionen"},{"$f":"IF(ISERROR(GesamtAnteil_E),0,GesamtAnteil_E)","v":0},"KH",{"$f":"E$11*C22","v":0},0,0,0,0,0,0,0,0,0,0,0]
[null,"Abwesenheiten",null,null,null,{"$f":"DSUM(_xlnm.Database,\"GSAbesend\",INDIRECT(\"Filterkriterium_\"&TEXT(E$12,)))","v":0},null,{"$f":"DSUM(_xlnm.Database,\"GSAbesend\",INDIRECT(\"Filterkriterium_\"&TEXT(G$12,)))","v":0},null,{"$f":"DSUM(_xlnm.Database,\"GSAbesend\",INDIRECT(\"Filterkriterium_\"&TEXT(I$12,)))","v":0},null,{"$f":"DSUM(_xlnm.Database,\"GSAbesend\",INDIRECT(\"Filterkriterium_\"&TEXT(K$12,)))","v":0},null,{"$f":"DSUM(_xlnm.Database,\"GSAbesend\",INDIRECT(\"Filterkriterium_\"&TEXT(M$12,)))","v":0},null,{"$f":"DSUM(_xlnm.Database,\"GSAbesend\",INDIRECT(\"Filterkriterium_\"&TEXT(O$12,)))","v":0},null,{"$f":"SUM(F23,H23,J23,L23,N23,P23)","v":0}]
[null,"Total",null,null,{"$f":"SUM(E15:E23)","v":0},0,0,0,0,0,0,0,0,0,{"$f":"SUM(O15:O23)","v":0},{"$f":"SUM(P15:P23)","v":0},{"$f":"SUM(Q15:Q23)","v":0},{"$f":"SUM(R15:R23)","v":0}]
[null,null,null,null,{"$f":"F24-E24","v":0},null,{"$f":"H24-G24","v":0},null,{"$f":"J24-I24","v":0},null,{"$f":"L24-K24","v":0},null,{"$f":"N24-M24","v":0},null,{"$f":"P24-O24","v":0},null,{"$f":"R24-Q24","v":0}]
[null,"Monatssaldo",null,null,{"$f":"IF(E25>=0,\"+\" & TEXT(E25,\"[h]:mm\"),\"-\"& TEXT(ABS(E25), \"[h]:mm\"))","v":"+0:00"},null,{"$f":"IF(G25>=0,\"+\" & TEXT(G25,\"[h]:mm\"),\"-\"& TEXT(ABS(G25), \"[h]:mm\"))","v":"+0:00"},null,{"$f":"IF(I25>=0,\"+\" & TEXT(I25,\"[h]:mm\"),\"-\"& TEXT(ABS(I25), \"[h]:mm\"))","v":"+0:00"},null,{"$f":"IF(K25>=0,\"+\" & TEXT(K25,\"[h]:mm\"),\"-\"& TEXT(ABS(K25), \"[h]:mm\"))","v":"+0:00"},null,{"$f":"IF(M25>=0,\"+\" & TEXT(M25,\"[h]:mm\"),\"-\"& TEXT(ABS(M25), \"[h]:mm\"))","v":"+0:00"},null,{"$f":"IF(O25>=0,\"+\" & TEXT(O25,\"[h]:mm\"),\"-\"& TEXT(ABS(O25), \"[h]:mm\"))","v":"+0:00"},null,{"$f":"IF(Q25>0,\"+\" & TEXT(Q25,\"[h]:mm\"),\"-\"& TEXT(ABS(Q25), \"[h]:mm\"))","v":"-0:00"}]
[null,null,null,null,null,null,{"$f":"E25+G25","v":0}]
[null,null,null,null,null,null,{"$f":"E25+G25","v":0},null,{"$f":"G28+I25","v":0},null,{"$f":"I28+K25","v":0},null,{"$f":"K28+M25","v":0},null,{"$f":"M28+O25","v":0}]
[null,"Jahressaldo",null,null,{"$f":"E26","v":"+0:00"},null,{"$f":"IF(G28>=0,\"+\" & TEXT(G28,\"[h]:mm\"),\"-\"& TEXT(ABS(G28), \"[h]:mm\"))","v":"+0:00"},null,{"$f":"IF(I28>=0,\"+\" & TEXT(I28,\"[h]:mm\"),\"-\"& TEXT(ABS(I28), \"[h]:mm\"))","v":"+0:00"},null,{"$f":"IF(K28>=0,\"+\" & TEXT(K28,\"[h]:mm\"),\"-\"& TEXT(ABS(K28), \"[h]:mm\"))","v":"+0:00"},null,{"$f":"IF(M28>=0,\"+\" & TEXT(M28,\"[h]:mm\"),\"-\"& TEXT(ABS(M28), \"[h]:mm\"))","v":"+0:00"},null,{"$f":"IF(O28>=0,\"+\" & TEXT(O28,\"[h]:mm\"),\"-\"& TEXT(ABS(O28), \"[h]:mm\"))","v":"+0:00"}]
[]
[null,"2. Halbjahr"]
[]
[]
[null,"Sollstunden",{"$f":"JAZ","v":0},null,{"$f":"DSUM(_xlnm.Database,\"Soll\",INDIRECT(\"Filterkriterium_\"&TEXT(E35,)))","v":0},null,{"$f":"DSUM(_xlnm.Database,\"Soll\",INDIRECT(\"Filterkriterium_\"&TEXT(G35,)))","v":0},null,{"$f":"DSUM(_xlnm.Database,\"Soll\",INDIRECT(\"Filterkriterium_\"&TEXT(I35,)))","v":0},null,{"$f":"DSUM(_xlnm.Database,\"Soll\",INDIRECT(\"Filterkriterium_\"&TEXT(K35,)))","v":0},null,{"$f":"DSUM(_xlnm.Database,\"Soll\",INDIRECT(\"Filterkriterium_\"&TEXT(M35,)))","v":0},null,{"$f":"DSUM(_xlnm.Database,\"Soll\",INDIRECT(\"Filterkriterium_\"&TEXT(O35,)))","v":0}]
[null,null,null,null,"Februar",null,"März",null,"April",null,"Mai",null,"Juni",null,"Juli",null,"2. Halbjahr"]
[null,null,null,null,"Soll","Haben","Soll","Haben","Soll","Haben","Soll","Haben","Soll","Haben","Soll","Haben","Soll","Haben"]
[null,{"$f":"SUBSTITUTE(Titel_kurz_LG1,\"-\",\"\")","v":"Kernauftrag"},{"$f":"IF(ISERROR(GesamtAnteil_A),0,GesamtAnteil_A)","v":0},"Kernauftrag",{"$f":"E$34*C37","v":0},{"$f":"SUM(F38:F41)","v":0},{"$f":"G$34*C37","v":0},{"$f":"SUM(H38:H41)","v":0},{"$f":"C37*I$34","v":0},{"$f":"SUM(J38:J41)","v":0},{"$f":"C37*K$34","v":0},{"$f":"SUM(L38:L41)","v":0},{"$f":"C37*M$34","v":0},{"$f":"SUM(N38:N41)","v":0},{"$f":"C37*O$34","v":0},{"$f":"SUM(P38:P41)","v":0},{"$f":"SUM(E37,G37,I37,K37,M37,O37)","v":0},{"$f":"SUM(F37,H37,J37,L37,N37,P37)","v":0}]
[null,"Unterricht",{"$f":"IF(ISERROR(GesamtAnteil_A1),0,GesamtAnteil_A1)","v":0},"Unterricht",0,{"$f":"DSUM(_xlnm.Database,$D38,INDIRECT(\"Filterkriterium_\"&TEXT(E$35,)))","v":0},0,{"$f":"DSUM(_xlnm.Database,$D38,INDIRECT(\"Filterkriterium_\"&TEXT(G$35,)))","v":0},0,{"$f":"DSUM(_xlnm.Database,$D38,INDIRECT(\"Filterkriterium_\"&TEXT(I$35,)))","v":0},0,{"$f":"DSUM(_xlnm.Database,$D38,INDIRECT(\"Filterkriterium_\"&TEXT(K$35,)))","v":0},0,{"$f":"DSUM(_xlnm.Database,$D38,INDIRECT(\"Filterkriterium_\"&TEXT(M$35,)))","v":0},0,0,0,0]
[null,"Lernende",{"$f":"IF(ISERROR(GesamtAnteil_A2),0,GesamtAnteil_A2)","v":0},"Lernende",0,0,0,0,0,0,0,0,0,0,0,0,0,0]
[null,"Schule",{"$f":"IF(ISERROR(GesamtAnteil_A3),0,GesamtAnteil_A3)","v":0},"Schule",0,0,0,0,0,0,0,0,0,0,0,0,0,0]
[null,"Lehrperson",{"$f":"IF(ISERROR(GesamtAnteil_A4),0,GesamtAnteil_A4)","v":0},"Lehrperson",0,0,0,0,0,0,0,0,0,0,0,0,0,0]
[null,{"$f":"SUBSTITUTE(Titel_kurz_LG2,\"-\",\"\")","v":"Klassenlehrperson"},{"$f":"IF(ISERROR(GesamtAnteil_B),0,GesamtAnteil_B)","v":0},"KLP",0,0,0,0,0,0,0,0,0,0,0,0,0,0]
[null,{"$f":"SUBSTITUTE(Titel_kurz_LG3,\"-\",\"\")","v":"Besondere Aufgaben"},{"$f":"IF(ISERROR(GesamtAnteil_C),0,GesamtAnteil_C)","v":0},"BA",0,0,0,0,0,0,0,0,0,0,0,0,0,0]
[null,{"$f":"SUBSTITUTE(Titel_kurz_LG4,\"-\",\"\")","v":"Tagesstrukturen"},{"$f":"IF(ISERROR(GesamtAnteil_D),0,GesamtAnteil_D)","v":0},"MT",0,0,0,0,0,0,0,0,0,0,0,0,0,0]
[null,{"$f":"SUBSTITUTE(Titel_kurz_LG5,\"-\",\"\")","v":"Weitere Funktionen"},{"$f":"IF(ISERROR(GesamtAnteil_E),0,GesamtAnteil_E)","v":0},"KH",0,0,0,0,0,0,0,0,0,0,0,0]
[null,"Abwesenheiten",null,null,null,{"$f":"DSUM(_xlnm.Database,\"GSAbesend\",INDIRECT(\"Filterkriterium_\"&TEXT(E$35,)))","v":0},null,{"$f":"DSUM(_xlnm.Database,\"GSAbesend\",INDIRECT(\"Filterkriterium_\"&TEXT(G$35,)))","v":0},null,{"$f":"DSUM(_xlnm.Database,\"GSAbesend\",INDIRECT(\"Filterkriterium_\"&TEXT(I$35,)))","v":0},null,{"$f":"DSUM(_xlnm.Database,\"GSAbesend\",INDIRECT(\"Filterkriterium_\"&TEXT(K$35,)))","v":0},null,{"$f":"DSUM(_xlnm.Database,\"GSAbesend\",INDIRECT(\"Filterkriterium_\"&TEXT(M$35,)))","v":0},null,{"$f":"DSUM(_xlnm.Database,\"GSAbesend\",INDIRECT(\"Filterkriterium_\"&TEXT(O$35,)))","v":0},null,0]
[null,"Total",null,null,{"$f":"SUM(E38:E46)","v":0},{"$f":"SUM(F38:F46)","v":0},0,0,0,0,0,0,0,0,0,0,0,0]
[null,null,null,null,{"$f":"F47-E47","v":0},null,{"$f":"H47-G47","v":0},null,{"$f":"J47-I47","v":0},null,{"$f":"L47-K47","v":0},null,{"$f":"N47-M47","v":0},null,{"$f":"P47-O47","v":0},null,{"$f":"R47-Q47","v":0}]
[null,"Monatssaldo",null,null,{"$f":"IF(E48>=0,\"+\" & TEXT(E48,\"[h]:mm\"),\"-\"& TEXT(ABS(E48), \"[h]:mm\"))","v":"+0:00"},null,{"$f":"IF(G48>=0,\"+\" & TEXT(G48,\"[h]:mm\"),\"-\"& TEXT(ABS(G48), \"[h]:mm\"))","v":"+0:00"},null,{"$f":"IF(I48>=0,\"+\" & TEXT(I48,\"[h]:mm\"),\"-\"& TEXT(ABS(I48), \"[h]:mm\"))","v":"+0:00"},null,{"$f":"IF(K48>=0,\"+\" & TEXT(K48,\"[h]:mm\"),\"-\"& TEXT(ABS(K48), \"[h]:mm\"))","v":"+0:00"},null,{"$f":"IF(M48>=0,\"+\" & TEXT(M48,\"[h]:mm\"),\"-\"& TEXT(ABS(M48), \"[h]:mm\"))","v":"+0:00"},null,{"$f":"IF(O48>=0,\"+\" & TEXT(O48,\"[h]:mm\"),\"-\"& TEXT(ABS(O48), \"[h]:mm\"))","v":"+0:00"},null,{"$f":"IF(Q48>0,\"+\" & TEXT(Q48,\"[h]:mm\"),\"-\"& TEXT(ABS(Q48), \"[h]:mm\"))","v":"-0:00"}]
[null,null,null,null,null,null,{"$f":"E48+G48","v":0}]
[null,null,null,null,{"$f":"O28+E48","v":0},null,{"$f":"E51+G48","v":0},null,{"$f":"G51+I48","v":0},null,{"$f":"I51+K48","v":0},null,{"$f":"K51+M48","v":0},null,{"$f":"M51+O48","v":0}]
[null,"Jahressaldo",null,null,{"$f":"IF(E51>=0,\"+\" & TEXT(E51,\"[h]:mm\"),\"-\"& TEXT(ABS(E51), \"[h]:mm\"))","v":"+0:00"},null,{"$f":"IF(G51>=0,\"+\" & TEXT(G51,\"[h]:mm\"),\"-\"& TEXT(ABS(G51), \"[h]:mm\"))","v":"+0:00"},null,{"$f":"IF(I51>=0,\"+\" & TEXT(I51,\"[h]:mm\"),\"-\"& TEXT(ABS(I51), \"[h]:mm\"))","v":"+0:00"},null,{"$f":"IF(K51>=0,\"+\" & TEXT(K51,\"[h]:mm\"),\"-\"& TEXT(ABS(K51), \"[h]:mm\"))","v":"+0:00"},null,{"$f":"IF(M51>=0,\"+\" & TEXT(M51,\"[h]:mm\"),\"-\"& TEXT(ABS(M51), \"[h]:mm\"))","v":"+0:00"},null,{"$f":"IF(O51>=0,\"+\" & TEXT(O51,\"[h]:mm\"),\"-\"& TEXT(ABS(O51), \"[h]:mm\"))","v":"+0:00"}]
[]
[null,"Jahresübersicht",null,null,null,null,null,null,null,null,null,"Soll","Soll%","Haben","Haben%","Differenz"]
[null,null,null,null,null,null,null,null,null,null,null,null,null,null,null,null,null,null,null,"Dezimal"]
[null,{"$f":"Code_LG1 & \" \" & Titel_LG1","v":"A) Ressourcen für Kernauftrag (4 Arbeitsfelder)"},null,null,null,null,null,null,null,null,"Stunden",{"$f":"Pensendefinition!N85","v":0},{"$f":"SUM(M57:M60)","v":1},{"$f":"SUM(N57:N60)","v":0},{"$f":"SUM(O57:O60)","v":0},{"$f":"IF(T56>=0,\"+\" & TEXT(T56,\"[h]:mm\"),\"-\"& TEXT(ABS(T56), \"[h]:mm\"))","v":"+0:00"},null,null,null,{"$f":"N56-L56","v":0}]
[null,"davon im Arbeitsfeld 1:",null,null,null,{"$f":"Titel_ULG1","v":"Unterricht"},null,null,null,null,"Stunden",{"$f":"Pensendefinition!N86","v":0},{"$f":"Pensendefinition!J86","v":0.875},{"$f":"SUM_HABEN_A1","v":0},{"$f":"IF($N$56>0,N57/$N$56,0)","v":0},{"$f":"IF(T57>=0,\"+\" & TEXT(T57,\"[h]:mm\"),\"-\"& TEXT(ABS(T57), \"[h]:mm\"))","v":"+0:00"},null,null,null,{"$f":"N57-L57","v":0}]
[null,"davon im Arbeitsfeld 2:",null,null,null,{"$f":"Titel_ULG2","v":"Lernende"},null,null,null,null,"Stunden",{"$f":"Pensendefinition!N87","v":0},{"$f":"Pensendefinition!J87","v":0.05},{"$f":"SUM_HABEN_A2","v":0},{"$f":"IF($N$56>0,N58/$N$56,0)","v":0},{"$f":"IF(T58>=0,\"+\" & TEXT(T58,\"[h]:mm\"),\"-\"& TEXT(ABS(T58), \"[h]:mm\"))","v":"+0:00"},null,null,null,{"$f":"N58-L58","v":0}]
[null,"davon im Arbeitsfeld 3:",null,null,null,{"$f":"Titel_ULG3","v":"Schule"},null,null,null,null,"Stunden",{"$f":"Pensendefinition!N88","v":0},{"$f":"Pensendefinition!J88","v":0.05},{"$f":"SUM_HABEN_A3","v":0},{"$f":"IF($N$56>0,N59/$N$56,0)","v":0},{"$f":"IF(T59>=0,\"+\" & TEXT(T59,\"[h]:mm\"),\"-\"& TEXT(ABS(T59), \"[h]:mm\"))","v":"+0:00"},null,null,null,{"$f":"N59-L59","v":0}]
[null,"davon im Arbeitsfeld 4:",null,null,null,{"$f":"Titel_ULG4","v":"Lehrperson"},null,null,null,null,"Stunden",{"$f":"Pensendefinition!N89","v":0},{"$f":"Pensendefinition!J89","v":2.5000000000000001E-2},{"$f":"SUM_HABEN_A4","v":0},{"$f":"IF($N$56>0,N60/$N$56,0)","v":0},{"$f":"IF(T60>=0,\"+\" & TEXT(T60,\"[h]:mm\"),\"-\"& TEXT(ABS(T60), \"[h]:mm\"))","v":"+0:00"},null,null,null,{"$f":"N60-L60","v":0}]
[]
[null,{"$f":"Code_LG2 & \" \" & Titel_LG2","v":"B) Ressourcen für die Klassenlehrperson"},null,null,null,null,null,null,null,null,"Stunden",{"$f":"Pensendefinition!N91","v":0},null,{"$f":"SUM_HABEN_B","v":0},null,{"$f":"IF(T62>=0,\"+\" & TEXT(T62,\"[h]:mm\"),\"-\"& TEXT(ABS(T62), \"[h]:mm\"))","v":"+0:00"},null,null,null,{"$f":"N62-L62","v":0}]
[null,"davon Funktion Klassenlehrperson",null,null,null,null,null,null,null,null,"Stunden",{"$f":"Pensendefinition!N92","v":0},null,null,null,{"$f":"IF(T63>=0,\"+\" & TEXT(T63,\"[h]:mm\"),\"-\"& TEXT(ABS(T63), \"[h]:mm\"))","v":"+0:00"},null,null,null,{"$f":"N63-L63","v":0}]
[null,"davon Entlastung Integrative Sonderschulung",null,null,null,null,null,null,null,null,"Stunden",{"$f":"Pensendefinition!N93","v":0},null,null,null,{"$f":"IF(T64>=0,\"+\" & TEXT(T64,\"[h]:mm\"),\"-\"& TEXT(ABS(T64), \"[h]:mm\"))","v":"+0:00"},null,null,null,{"$f":"N64-L64","v":0}]
[]
[null,{"$f":"Code_LG3 & \" \" & Titel_LG3","v":"C) Besondere Aufgaben (Schulpool)"},null,null,null,null,null,null,null,null,"Stunden",{"$f":"Pensendefinition!N96","v":0},null,{"$f":"SUM_HABEN_C","v":0},null,{"$f":"IF(T66>=0,\"+\" & TEXT(T66,\"[h]:mm\"),\"-\"& TEXT(ABS(T66), \"[h]:mm\"))","v":"+0:00"},null,null,null,{"$f":"N66-L66","v":0}]
[]
[null,{"$f":"Code_LG4 & \" \" & Titel_LG4","v":"D) Tagesstrukturen"},null,null,null,null,null,null,null,null,"Stunden",{"$f":"Pensendefinition!N98","v":0},null,{"$f":"SUM_HABEN_D","v":0},null,{"$f":"IF(T68>=0,\"+\" & TEXT(T68,\"[h]:mm\"),\"-\"& TEXT(ABS(T68), \"[h]:mm\"))","v":"+0:00"},null,null,null,{"$f":"N68-L68","v":0}]
[]
[null,{"$f":"Code_LG5 & \" \" & Titel_LG5","v":"E) Weitere Funktionen in 42 h/Wo"},null,null,null,null,null,null,null,null,"Stunden",{"$f":"Pensendefinition!N100","v":0},null,{"$f":"SUM_HABEN_E","v":0},null,{"$f":"IF(T70>=0,\"+\" & TEXT(T70,\"[h]:mm\"),\"-\"& TEXT(ABS(T70), \"[h]:mm\"))","v":"+0:00"},null,null,null,{"$f":"N70-L70","v":0}]
[]
[null,"Abwesenheiten",null,null,null,null,null,null,null,null,null,null,null,{"$f":"SUM(N73:N77)","v":0}]
[null,"Krankheit (KR)",null,null,null,null,null,null,null,null,null,null,null,{"$f":"DSUM(_xlnm.Database,\"GSAbesend\",INDIRECT(\"Filterkriterium_Abw_Krankheit\"))","v":0}]
[null,"Militär (MI)",null,null,null,null,null,null,null,null,null,null,null,{"$f":"DSUM(_xlnm.Database,\"GSAbesend\",INDIRECT(\"Filterkriterium_Abw_Militär\"))","v":0}]
[null,"Unfall (UN)",null,null,null,null,null,null,null,null,null,null,null,{"$f":"DSUM(_xlnm.Database,\"GSAbesend\",INDIRECT(\"Filterkriterium_Abw_Unfall\"))","v":0}]
[null,"Urlaub (UR)",null,null,null,null,null,null,null,null,null,null,null,{"$f":"DSUM(_xlnm.Database,\"GSAbesend\",INDIRECT(\"Filterkriterium_Abw_Urlaub\"))","v":0}]
[null,"Urlaub unbezahlter (UU)",null,null,null,null,null,null,null,null,null,null,null,{"$f":"DSUM(_xlnm.Database,\"GSAbesend\",INDIRECT(\"Filterkriterium_Abw_KOMPENSATION\"))","v":0}]
[]
[null,"Total",null,null,null,null,null,null,null,null,null,{"$f":"SUM(L56+L62+L66+L68+L70)","v":0},null,{"$f":"N56+N62+N66+N68+N70+SUM(N73:N77)","v":0},null,{"$f":"IF(T79>=0,\"+\" & TEXT(T79,\"[h]:mm\"),\"-\"& TEXT(ABS(T79), \"[h]:mm\"))","v":"+0:00"},null,null,null,{"$f":"N79-L79","v":0}]

{"sheet":"Auswertungsbasis","index":2,"n_rows":56,"n_cols":11,"rows_kept":56,"cut":false,"hidden":true,"merged":[[2,2,2,3],[2,9,2,10]]}
[null,{"$f":"\"Auswertung \" &TEXT(Jahresbezeichnung,\"\")","v":"Auswertung 2023/2024"}]
[]
[null,"Lehrperson:",{"$f":"TRIM(Pensendefinition!D7 & \" \" & Pensendefinition!D5)","v":""},null,null,null,null,"Schule:",null,{"$f":"Pensendefinition!D9","v":0}]
[]
[null,"Arbeitszeit"]
[]
[null,"Haben bis",null,"2014-07-31",{"$f":"SUMIF(Zeiterfassung!C8:C371,\"<\" &D7,Zeiterfassung!X8:X371)*24","v":0}]
[]
[null,"Soll bis",null,{"$f":"D7","v":"2014-07-31"},{"$f":"SUMIF(Zeiterfassung!C8:C371,\"<\" &D9,Zeiterfassung!Z8:Z371)*24","v":0}]
[]
[]
[]
[]
[]
[]
[]
[]
[]
[]
[]
[null,null,"Unterricht","Lernende","Schule","Lehrperson","Klassen-\nlehrperson","Besondere\nAufgaben","Tages-\nstrukturen","Klassenhilfe/-assistenz"]
[null,null,"A1","A2","A3","A4","B","C","D","E","Total"]
[null,null,"Unterricht","Lernende","Schule","Lehrperson","KLP","BA","MT","KH"]
[null,"August",{"$f":"DSUM(_xlnm.Database,C$23,INDIRECT(\"Filterkriterium_\"&TEXT($B24,)))","v":0},0,0,0,0,0,0,0,{"$f":"SUM(C24:J24)","v":0}]
[null,"September",{"$f":"DSUM(_xlnm.Database,C$23,INDIRECT(\"Filterkriterium_\"&TEXT($B25,)))","v":0},0,0,0,0,0,0,0,0]
[null,"Oktober",{"$f":"DSUM(_xlnm.Database,C$23,INDIRECT(\"Filterkriterium_\"&TEXT($B26,)))","v":0},0,0,0,0,0,0,0,0]
[null,"November",{"$f":"DSUM(_xlnm.Database,C$23,INDIRECT(\"Filterkriterium_\"&TEXT($B27,)))","v":0},0,0,0,0,0,0,0,0]
[null,"Dezember",{"$f":"DSUM(_xlnm.Database,C$23,INDIRECT(\"Filterkriterium_\"&TEXT($B28,)))","v":0},0,0,0,0,0,0,0,0]
[null,"Januar",{"$f":"DSUM(_xlnm.Database,C$23,INDIRECT(\"Filterkriterium_\"&TEXT($B29,)))","v":0},0,0,0,0,0,0,0,0]
[null,"Februar",{"$f":"DSUM(_xlnm.Database,C$23,INDIRECT(\"Filterkriterium_\"&TEXT($B30,)))","v":0},0,0,0,0,0,0,0,0]
[null,"März",{"$f":"DSUM(_xlnm.Database,C$23,INDIRECT(\"Filterkriterium_\"&TEXT($B31,)))","v":0},0,0,0,0,0,0,0,0]
[null,"April",{"$f":"DSUM(_xlnm.Database,C$23,INDIRECT(\"Filterkriterium_\"&TEXT($B32,)))","v":0},0,0,0,0,0,0,0,0]
[null,"Mai",{"$f":"DSUM(_xlnm.Database,C$23,INDIRECT(\"Filterkriterium_\"&TEXT($B33,)))","v":0},0,0,0,0,0,0,0,0]
[null,"Juni",{"$f":"DSUM(_xlnm.Database,C$23,INDIRECT(\"Filterkriterium_\"&TEXT($B34,)))","v":0},0,0,0,0,0,0,0,0]
[null,"Juli",{"$f":"DSUM(_xlnm.Database,C$23,INDIRECT(\"Filterkriterium_\"&TEXT($B35,)))","v":0},0,0,0,0,0,0,0,0]
[]
[null,"Haben",{"$f":"SUM(C24,C25,C26,C27,C28,C29,C30,C31,C32,C33,C34,C35)","v":0},0,0,0,0,0,{"$f":"SUM(I24,I25,I26,I27,I28,I29,I30,I31,I32,I33,I34,I35)","v":0},0,{"$f":"SUM(C37:J37)","v":0}]
[null,"Soll",{"$f":"SUM_SOLL_A1/24","v":0},{"$f":"SUM_SOLL_A2/24","v":0},{"$f":"SUM_SOLL_A3/24","v":0},{"$f":"SUM_SOLL_A4/24","v":0},{"$f":"SUM_SOLL_B/24","v":0},{"$f":"SUM_SOLL_C/24","v":0},{"$f":"SUM_SOLL_D/24","v":0},{"$f":"SUM_SOLL_D/24","v":0},{"$f":"SUM(C38:J38)","v":0}]
[]
[null,null,{"$f":"C37-C38","v":0},0,0,0,0,0,{"$f":"I37-I38","v":0},0,0]
[]
[null,"Differnz",{"$f":"IF(C40<0,\"-\"&TEXT(ABS(C40),\"[H]:mm     \"),IF(C40=0,\"0:00     \",TEXT(C40,\"[h]:mm     \")))","v":"0:00     "},{"$f":"IF(D40<0,\"-\"&TEXT(ABS(D40),\"[H]:mm     \"),IF(D40=0,\"0:00     \",TEXT(D40,\"[h]:mm     \")))","v":"0:00     "},"0:00     ","0:00     ","0:00     ","0:00     ",{"$f":"IF(I40<0,\"-\"&TEXT(ABS(I40),\"[H]:mm     \"),IF(I40=0,\"0:00     \",TEXT(I40,\"[h]:mm     \")))","v":"0:00     "},"0:00     ","0:00     "]
[]
[]
[]
[null,"Ferien"]
[]
[null,"Tage",null,{"$f":"JAZ_Pensum_oF","v":1881.6000000000004}]
[null,"Stunden p. Tag",null,{"$f":"TagesSoll","v":0.35000000000000003}]
[null,"Ferienstunden p. Jahr",null,{"$f":"D49*20","v":7.0000000000000009}]
[]
[null,"Anteil Jahrespensum",null,{"$f":"Jahreskalender!R5/Jahreskalender!Q5","v":{"$error":"#DIV/0!"}}]
[null,"Ferienstunden gem PL",null,{"$f":"D50*D52","v":{"$error":"#DIV/0!"}}]
[]
[null,"Pensum",null,{"$f":"Pensum1","v":0}]
[null,"Ferienanteil",null,{"$f":"D53*D55","v":{"$error":"#DIV/0!"}}]

{"sheet":"Pensendefinition","index":3,"n_rows":139,"n_cols":33,"rows_kept":139,"cut":false,"hidden":false,"merged":[[4,3,4,5],[6,3,6,5],[12,3,12,5],[8,3,8,5],[51,2,53,2],[4,1,4,2],[6,1,6,2],[8,1,8,2],[12,1,12,2],[26,1,26,2],[28,1,28,2],[51,3,51,5],[43,1,43,4],[31,1,31,4],[132,3,132,5],[104,1,104,2],[82,1,82,2],[61,2,63,2],[42,1,42,2],[126,1,126,2],[130,3,130,5],[51,1,53,1],[77,1,77,2],[79,1,79,2],[47,1,47,2],[61,1,63,1],[63,3,63,5],[61,3,61,5],[59,2,59,4],[55,2,55,4],[57,2,57,4],[40,1,40,2],[33,1,33,4],[35,1,35,4],[37,1,37,4],[39,1,39,4],[49,2,49,4],[53,3,53,5],[41,1,41,4],[45,1,45,4],[99,2,99,4],[90,2,90,4],[95,2,95,4],[97,2,97,4],[84,2,84,4],[91,2,91,4],[92,2,92,4]]}
[{"$f":"\"  Pensendefinition \" &TEXT(Jahresbezeichnung,\"\")","v":"  Pensendefinition 2023/2024"}]
[]
[]
[]
[null,"Name"]
[]
[null,"Vorname"]
[]
[null,"Schule"]
[]
[null,"Geburtsdatum"]
[null,null,null,null,null,null,null,null,null,{"$f":"J11*TagesSoll*24","v":0}]
[null,"Klasse",null,"4KA"]
[]
[null,null,null,"Tage",null,"Std./Tag"]
[null,"Tage",null,{"$f":"AnzahlTage","v":366}]
[null,"Wochenendtage",null,{"$f":"AnzahlWochenendtage","v":104}]
[]
[null,null,null,"Tage",null,null,null,"In Stunden"]
[null,"Werktage",null,{"$f":"AnzahlWerktage","v":262},null,{"$f":"TagesSoll*24","v":8.4},null,{"$f":"D20*F20","v":2200.8000000000002}]
[null,"Feiertage",null,{"$f":"AnzahlFeiertage","v":13},null,{"$f":"TagesSoll*24","v":8.4},null,{"$f":"D21*F21","v":109.2}]
[]
[null,"Arbeitstage inkl. Ferien",null,{"$f":"D20-D21","v":249},null,null,null,{"$f":"H20-H21","v":2091.6000000000004}]
[]
[null,"Ferientage fix",null,25,null,{"$f":"TagesSoll*24","v":8.4},null,{"$f":"D25*F25","v":210}]
[null,"Arbeitstage",null,{"$f":"D23-D25","v":224},null,null,null,{"$f":"H23-H25","v":1881.6000000000004}]
[null,"Von",null,"2023-08-01"]
[]
[null,"Bis",null,"2024-07-31"]
[]
[]
[null,"Ferienanspruch in Stunden",null,null,null,null,null,{"$f":"Ferienanspruch_Stunden","v":210},null,"s. Register Kennzahlen"]
[]
[null,"Anzahl Arbeitstage im Schuljahr",null,null,null,null,null,{"$f":"AnzahlArbeitstage","v":249}]
[]
[null,"Anzahl Arbeitstage im defierten Zeitraum",null,null,null,null,null,{"$f":"AnzahlArbeitstage_PE1","v":249}]
[]
[null,"Anteil Jahrespensum",null,null,null,null,null,{"$f":"H36/H34","v":1}]
[]
[null,{"$f":"\"Sollsarbeitszeit im Schuljahr \" &TEXT(Jahresbezeichnung,\"\")& \" bei 100%\"","v":"Sollsarbeitszeit im Schuljahr 2023/2024 bei 100%"},null,null,null,null,null,{"$f":"JAZ_o_Ferien","v":1881.6000000000004}]
[]
[null,{"$f":"\"Sollarbeitszeit im Schuljahr \" &TEXT(Jahresbezeichnung,\"\")& \" bei 100%\"","v":"Sollarbeitszeit im Schuljahr 2023/2024 bei 100%"},null,null,null,null,null,{"$f":"H40/24","v":78.40000000000002}]
[]
[null,"Sollarbeitszeit dieses Pensums",null,null,null,null,null,{"$f":"H40*H38","v":1881.6000000000004}]
[]
[null,"Sollarbeitszeit dieses Pensums inkl. Ferientage",null,null,null,null,null,{"$f":"H23*Pensum1_Anteil_Jahrespensum","v":2091.6000000000004}]
[null,null,null,null,null,null,null,null,null,null,null,null,null,null,null,null,null,null,null,null,null,null,null,null,"JAZ",null,"JAZ",null,"JAZ",null,"JAZ m. Ferien"]
[null,"Pensum in …",null,null,null,null,null,"Lektionen",null,"Lektionen",null,"Lektionen",null,"Stunden",null,null,null,null,null,null,null,null,null,null,{"$f":"JAZ_Pensum_oF","v":1881.6000000000004},null,{"$f":"JAZ_Pensum_oF","v":1881.6000000000004},null,{"$f":"JAZ_Pensum_oF","v":1881.6000000000004},null,{"$f":"JAZ_Pensum_oF_mit_Ferien","v":2091.6000000000004},null,"Sollstunden"]
[null,null,null,null,null,null,null,28,null,29,null,30,null,42,null,null,{"$f":"H49","v":28},null,{"$f":"J49","v":29},null,{"$f":"L49","v":30},null,{"$f":"N49","v":42},null,{"$f":"H49","v":28},null,{"$f":"J49","v":29},null,{"$f":"L49","v":30},null,{"$f":"N49","v":42}]
[null,{"$f":"Code_LG1","v":"A)"},{"$f":"Titel_LG1","v":"Ressourcen für Kernauftrag (4 Arbeitsfelder)"},null,null,null,null,0,null,0,null,0,null,null,null,null,{"$f":"H50/H$49","v":0},null,{"$f":"J50/J$49","v":0},null,{"$f":"L50/L$49","v":0},null,{"$f":"N50/N$49","v":0},null,{"$f":"Y$48*Q50","v":0},null,{"$f":"AA$48*S50","v":0},null,{"$f":"AC$48*U50","v":0},null,{"$f":"AE$48*W50-Ferienanspruch_Stunden*W50","v":0},null,{"$f":"SUM(Y50:AE50)","v":0}]
[]
[null,{"$f":"Code_LG2","v":"B)"},{"$f":"Titel_LG2","v":"Ressourcen für die Klassenlehrperson"},"Entlastung Funktion Klassenlehrperson",null,null,null,0,null,0,null,0,null,null,null,null,{"$f":"H52/H$49","v":0},null,{"$f":"J52/J$49","v":0},null,{"$f":"L52/L$49","v":0},null,{"$f":"N52/N$49","v":0},null,{"$f":"Y$48*Q52","v":0},null,{"$f":"AA$48*S52","v":0},null,{"$f":"AC$48*U52","v":0},null,{"$f":"AE$48*W52-Ferienanspruch_Stunden*W52","v":0},null,{"$f":"SUM(Y52:AE52)","v":0}]
[]
[null,null,null,"Entlastung Integrative Sonderschulung",null,null,null,0,null,0,null,0,null,null,null,null,{"$f":"H54/H$49","v":0},null,{"$f":"J54/J$49","v":0},null,{"$f":"L54/L$49","v":0},null,{"$f":"N54/N$49","v":0},null,{"$f":"Y$48*Q54","v":0},null,{"$f":"AA$48*S54","v":0},null,{"$f":"AC$48*U54","v":0},null,{"$f":"AE$48*W54-Ferienanspruch_Stunden*W54","v":0},null,{"$f":"SUM(Y54:AE54)","v":0}]
[]
[null,{"$f":"Code_LG3","v":"C)"},{"$f":"Titel_LG3","v":"Besondere Aufgaben (Schulpool)"},null,null,null,null,0,null,0,null,0,null,0,null,null,{"$f":"H56/H$49","v":0},null,{"$f":"J56/J$49","v":0},null,{"$f":"L56/L$49","v":0},null,{"$f":"N56/N$49","v":0},null,{"$f":"Y$48*Q56","v":0},null,{"$f":"AA$48*S56","v":0},null,{"$f":"AC$48*U56","v":0},null,{"$f":"AE$48*W56-Ferienanspruch_Stunden*W56","v":0},null,{"$f":"SUM(Y56:AE56)","v":0}]
[]
[null,{"$f":"Code_LG4","v":"D)"},{"$f":"Titel_LG4","v":"Tagesstrukturen"},null,null,null,null,null,null,null,null,null,null,0,null,null,{"$f":"H58/H$49","v":0},null,{"$f":"J58/J$49","v":0},null,{"$f":"L58/L$49","v":0},null,{"$f":"N58/N$49","v":0},null,{"$f":"Y$48*Q58","v":0},null,{"$f":"AA$48*S58","v":0},null,{"$f":"AC$48*U58","v":0},null,{"$f":"AE$48*W58-Ferienanspruch_Stunden*W58","v":0},null,{"$f":"SUM(Y58:AE58)","v":0}]
[]
[null,{"$f":"Code_LG5","v":"E)"},{"$f":"Titel_LG5","v":"Weitere Funktionen in 42 h/Wo"},null,null,null,null,null,null,null,null,null,null,0,null,null,{"$f":"H60/H$49","v":0},null,{"$f":"J60/J$49","v":0},null,{"$f":"L60/L$49","v":0},null,{"$f":"N60/N$49","v":0},null,{"$f":"Y$48*Q60","v":0},null,{"$f":"AA$48*S60","v":0},null,{"$f":"AC$48*U60","v":0},null,{"$f":"AE$48*W60-Ferienanspruch_Stunden*W60","v":0},null,{"$f":"SUM(Y60:AE60)","v":0}]
[]
[null,"F)","Reduktionen","Bezug Altersentlastung",null,null,null,0,null,0,null,0,null,null,null,null,{"$f":"H62/H$49","v":0},null,{"$f":"J62/J$49","v":0},null,{"$f":"L62/L$49","v":0},null,{"$f":"N62/N$49","v":0},null,{"$f":"Y$48*Q62","v":0},null,{"$f":"AA$48*S62","v":0},null,{"$f":"AC$48*U62","v":0},null,{"$f":"AE$48*W62-Ferienanspruch_Stunden*W62","v":0},null,{"$f":"SUM(Y62:AE62)","v":0}]
[]
[null,null,null,"Kompensation von Mehr- oder Minderlektionen",null,null,null,0,null,0,null,0,null,0,null,null,{"$f":"H64/H$49","v":0},null,{"$f":"J64/J$49","v":0},null,{"$f":"L64/L$49","v":0},null,{"$f":"N64/N$49","v":0},null,{"$f":"Y$48*Q64","v":0},null,{"$f":"AA$48*S64","v":0},null,{"$f":"AC$48*U64","v":0},null,{"$f":"AE$48*W64-Ferienanspruch_Stunden*W64","v":0},null,{"$f":"SUM(Y64:AE64)","v":0}]
[]
[null,"Lektionen",null,null,null,{"$f":"SUM(H66:M66)","v":0},null,{"$f":"SUM(H50:H65)","v":0},null,{"$f":"SUM(J50:J65)","v":0},null,{"$f":"SUM(L50:L65)","v":0},null,{"$f":"SUM(N50:N65)","v":0},null,null,{"$f":"SUM(Q50:Q64)","v":0},null,{"$f":"SUM(S50:S64)","v":0},null,null,null,{"$f":"SUM(W50:X64)","v":0},null,{"$f":"SUM(Y50:Y60)","v":0},null,{"$f":"SUM(AA50:AA60)","v":0},null,{"$f":"SUM(AC50:AC60)","v":0},null,{"$f":"SUM(AE50:AE60)","v":0},null,{"$f":"SUM(AG50:AG64)","v":0}]
[null,"Unterrichtsverpflichtung",null,null,null,{"$f":"SUM(H67:L67)","v":0},null,{"$f":"SUM(H50:H60)","v":0},null,{"$f":"SUM(J50:J60)","v":0},null,{"$f":"SUM(L50:L60)","v":0}]
[null,"Pensum",null,null,null,{"$f":"SUM(G68:N68)","v":0},null,{"$f":"H66/H49","v":0},null,{"$f":"J66/J49","v":0},null,{"$f":"L66/L49","v":0},null,{"$f":"N66/N49","v":0}]
[]
[]
[null,"Jahresarbeitszeit (Sollarbeitszeit)",null,null,null,{"$f":"SUM(G71:N71)","v":0},null,{"$f":"Y66","v":0},null,{"$f":"AA66","v":0},null,{"$f":"AC66","v":0},null,{"$f":"AE66","v":0}]
[]
[]
[null,"Lektionen",null,null,null,null,null,{"$f":"H66","v":0},null,{"$f":"J66","v":0},null,{"$f":"L66","v":0},null,{"$f":"N66","v":0}]
[]
[null,"Besoldetes Pensum",null,null,null,null,null,null,null,null,null,null,null,{"$f":"Pensum1","v":0}]
[]
[null,"Sollarbeitszeit in Stunden",null,null,null,null,null,null,null,null,null,null,null,{"$f":"F71","v":0}]
[]
[null,"Sollarbeitszeit",null,null,null,null,null,null,null,null,null,null,null,{"$f":"N78/24","v":0}]
[]
[]
[null,"Pensum in Stunden"]
[]
[null,{"$f":"Code_LG1","v":"A)"},{"$f":"Titel_LG1","v":"Ressourcen für Kernauftrag (4 Arbeitsfelder)"},null,null,null,null,null,null,{"$f":"SUM(J86:J89)","v":1},null,"Stunden",{"$f":"SUM_SOLL_A/$N$78*24","v":{"$error":"#DIV/0!"}},{"$f":"SOLL_A/24","v":0}]
[null,null,"davon im Arbeitsfeld 1:",{"$f":"Titel_ULG1","v":"Unterricht"},null,null,null,null,null,0.875,null,"Stunden",{"$f":"SUM_SOLL_A1/$N$78*24","v":{"$error":"#DIV/0!"}},{"$f":"$N$85*J86","v":0}]
[null,null,"davon im Arbeitsfeld 2: ",{"$f":"Titel_ULG2","v":"Lernende"},null,null,null,null,null,0.05,null,"Stunden",{"$f":"SUM_SOLL_A2/$N$78*24","v":{"$error":"#DIV/0!"}},{"$f":"$N$85*J87","v":0}]
[null,null,"davon im Arbeitsfeld 3: ",{"$f":"Titel_ULG3","v":"Schule"},null,null,null,null,null,0.05,null,"Stunden",{"$f":"SUM_SOLL_A3/$N$78*24","v":{"$error":"#DIV/0!"}},{"$f":"$N$85*J88","v":0}]
[null,null,"davon im Arbeitsfeld 4:",{"$f":"Titel_ULG4","v":"Lehrperson"},null,null,null,null,null,2.5000000000000001E-2,null,"Stunden",{"$f":"SUM_SOLL_A4/$N$78*24","v":{"$error":"#DIV/0!"}},{"$f":"$N$85*J89","v":0}]
[]
[null,{"$f":"Code_LG2","v":"B)"},{"$f":"Titel_LG2","v":"Ressourcen für die Klassenlehrperson"},null,null,null,null,null,null,null,null,"Stunden",{"$f":"SUM_SOLL_B/$N$78*24","v":{"$error":"#DIV/0!"}},{"$f":"SUM(N92:N93)","v":0}]
[null,null,"davon Entlastung Funktion Klassenlehrperson",null,null,null,null,null,null,null,null,"Stunden",{"$f":"SUM_SOLL_B1/$N$78*24","v":{"$error":"#DIV/0!"}},{"$f":"SOLL_B1/24","v":0}]
[null,null,"davon Entlastung Integrative Sonderschulung",null,null,null,null,null,null,null,null,"Stunden",{"$f":"SUM_SOLL_B2/$N$78*24","v":{"$error":"#DIV/0!"}},{"$f":"SOLL_B2/24","v":0}]
[]
[]
[null,{"$f":"Code_LG3","v":"C)"},{"$f":"Titel_LG3","v":"Besondere Aufgaben (Schulpool)"},null,null,null,null,null,null,null,null,"Stunden",{"$f":"SUM_SOLL_C/$N$78*24","v":{"$error":"#DIV/0!"}},{"$f":"SOLL_C/24","v":0}]
[]
[null,{"$f":"Code_LG4","v":"D)"},{"$f":"Titel_LG4","v":"Tagesstrukturen"},null,null,null,null,null,null,null,null,"Stunden",{"$f":"SUM_SOLL_D/$N$78*24","v":{"$error":"#DIV/0!"}},{"$f":"SOLL_D/24","v":0}]
[]
[null,{"$f":"Code_LG5","v":"E)"},{"$f":"Titel_LG5","v":"Weitere Funktionen in 42 h/Wo"},null,null,null,null,null,null,null,null,"Stunden",{"$f":"SUM_SOLL_E/$N$78*24","v":{"$error":"#DIV/0!"}},{"$f":"SOLL_E/24","v":0}]
[]
[null,"Sollarbeitszeit",null,null,null,null,null,null,null,null,null,null,null,{"$f":"N85+N91+N96+N98+N100","v":0}]
[]
[]
[null,"Sollarbeitszeiten",null,"Ungewichtet",null,"Schulzeit",null,"Ferienzeit"]
[]
[null,null,null,null,null,null,null,null,null,null,null,null,null,null,null,null,null,null,43.25,null,{"$f":"S107/5","v":8.65},null,{"$f":"U107/24","v":0.36041666666666666}]
[null,"Tagessoll bei 100.0%",null,0.35000000000000003,null,{"$f":"F71/AnzahlArbeitstage_PE1/24","v":0}]
[null,"Wochensoll bei 100%",null,{"$f":"TagesSoll*5","v":1.7500000000000002},{"$f":"WochenSoll*24","v":42.000000000000007}]
[]
[null,{"$f":"\"Tagessoll bei \" & TEXT(F68,\"0.0%\") & \" ohne Ferien\"","v":"Tagessoll bei 0.0% ohne Ferien"},null,{"$f":"F108","v":0}]
[null,{"$f":"\"Wochensoll bei \" & TEXT(F68,\"0.0%\") & \" ohne Ferien\"","v":"Wochensoll bei 0.0% ohne Ferien"},null,{"$f":"TagesSoll_PA*5","v":0}]
[null,null,null,null,1.10238095238095]
[null,null,null,null,null,{"$f":"IF(N138<=0.1,1,E113)","v":1.10238095238095},null,{"$f":"IF(H138=0,0,IF(FaktorSZ=1,1,J114))","v":1},null,{"$f":"IF(ISERROR(((D139-F139)/H138/24/D125)),1,(D139-F139)/H138/24/D125)","v":1}]
[null,"Sollzeiten pro Tag",null,"Ungewichtet",null,"Schulzeit",null,"Ferienzeit"]
[null,"Montag",null,{"$f":"D111","v":0},null,{"$f":"RAZ_1WT*FaktorSZ","v":0},null,{"$f":"RAZ_1WT*FaktorFZ","v":0}]
[null,"Dienstag",null,{"$f":"D111","v":0},null,{"$f":"RAZ_2WT*FaktorSZ","v":0},null,{"$f":"RAZ_2WT*FaktorFZ","v":0}]
[null,"Mittwoch",null,{"$f":"D111","v":0},null,{"$f":"RAZ_3WT*FaktorSZ","v":0},null,{"$f":"RAZ_3WT*FaktorFZ","v":0}]
[null,"Donnerstag",null,{"$f":"D111","v":0},null,{"$f":"RAZ_4WT*FaktorSZ","v":0},null,{"$f":"RAZ_4WT*FaktorFZ","v":0}]
[null,"Freitag",null,{"$f":"D111","v":0},null,{"$f":"RAZ_5WT*FaktorSZ","v":0},null,{"$f":"RAZ_5WT*FaktorFZ","v":0}]
[null,"Samstag",null,0,null,{"$f":"RAZ_6WT*FaktorSZ","v":0},null,{"$f":"RAZ_6WT*FaktorFZ","v":0}]
[null,"Sonntag",null,0,null,{"$f":"RAZ_7WT*FaktorSZ","v":0},null,{"$f":"RAZ_7WT*FaktorFZ","v":0}]
[null,"Arbeitszeit pro Woche",null,{"$f":"SUM(D116:D122)","v":0},null,{"$f":"SUM(F116:F122)","v":0},null,{"$f":"SUM(H116:H122)","v":0}]
[]
[null,"Arbeitszeit pro Tag",null,{"$f":"D123/5","v":0},null,{"$f":"F123/5","v":0},null,{"$f":"H123/5","v":0}]
[]
[null,"Tagespensum"]
[]
[null,"Sollarbeitszeit pro Tag",null,"durchschnittlich pro Arbeitstag ",null,null,null,null,null,null,null,null,null,{"$f":"Tagessoll_ungewichtet","v":0}]
[]
[null,null,null,"während der Schulzeit (SZ)",null,null,null,null,null,null,null,null,null,{"$f":"Tagessoll_gewichtet_SZ","v":0}]
[]
[null,null,null,"während der Schulferienzeit (SFZ)",null,null,null,null,null,null,null,null,null,{"$f":"Tagessoll_gewichtet_SFZ","v":0}]
[]
[]
[]
[null,null,{"$f":"IF(MINUTE(D137)=0,\"\",\"Regelarbeitszeit prüfen\")","v":""}]
[null,null,"Anzahl Arbeitstage ",{"$f":"F138+H138","v":249},null,{"$f":"AnzahlTage_PE1_SZ","v":184},null,{"$f":"AnzahlTage_PE1_FZ","v":65},null,null,null,null,null,{"$f":"IF(ISERROR(H138/F138),0,H138/F138)","v":0.35326086956521741}]
[null,null,"Anzahl Arbeitsstunden",{"$f":"D138*D125*24","v":0},null,{"$f":"F138*F125*24","v":0},null,{"$f":"H138*H125*24","v":0},null,null,null,null,null,{"$f":"F139+H139","v":0}]

{"sheet":"Pensenvereinbarung","index":4,"n_rows":144,"n_cols":14,"rows_kept":144,"cut":false,"hidden":false,"merged":[[12,1,12,2],[12,3,12,5],[26,1,26,2],[28,1,28,2],[4,1,4,2],[4,3,4,5],[6,1,6,2],[6,3,6,5],[8,1,8,2],[8,3,8,5],[31,1,31,2],[33,2,33,4],[35,1,37,1],[35,2,37,2],[35,3,35,5],[37,3,37,5],[65,2,65,4],[39,2,39,4],[41,2,41,4],[43,2,43,4],[45,1,47,1],[45,2,47,2],[45,3,45,5],[47,3,47,5],[56,1,56,2],[58,2,58,4],[64,2,64,4],[100,1,100,2],[66,2,66,4],[69,2,69,4],[71,2,71,4],[73,2,73,4],[77,1,77,2]]}
[{"$f":"\"  Pensenvereinbarung \" &TEXT(Jahresbezeichnung,\"\")","v":"  Pensenvereinbarung 2023/2024"}]
[]
[]
[]
[null,"Name",null,{"$f":"UserName","v":0}]
[]
[null,"Vorname",null,{"$f":"UserVorname","v":0}]
[]
[null,"Schule",null,{"$f":"UserSchule","v":0}]
[]
[null,"Geburtsdatum",null,{"$f":"Geburtsdatum","v":"00:00:00"}]
[null,null,null,null,null,null,null,null,null,{"$f":"J11*TagesSoll*24","v":0}]
[null,"Klasse",null,"4KA"]
[]
[null,null,null,"Tage",null,"Std./Tag"]
[null,"Tage",null,{"$f":"AnzahlTage","v":366}]
[null,"Wochenendtage",null,{"$f":"AnzahlWochenendtage","v":104}]
[]
[null,null,null,"Tage",null,null,null,"In Stunden"]
[null,"Werktage",null,{"$f":"AnzahlWerktage","v":262},null,{"$f":"TagesSoll*24","v":8.4},null,{"$f":"D20*F20","v":2200.8000000000002}]
[null,"Feiertage",null,{"$f":"AnzahlFeiertage","v":13},null,{"$f":"TagesSoll*24","v":8.4},null,{"$f":"D21*F21","v":109.2}]
[]
[null,"Arbeitstage inkl. Ferien",null,{"$f":"D20-D21","v":249},null,null,null,{"$f":"H20-H21","v":2091.6000000000004}]
[]
[null,"Ferientage fix",null,25,null,{"$f":"TagesSoll*24","v":8.4},null,{"$f":"D25*F25","v":210}]
[null,"Arbeitstage",null,{"$f":"D23-D25","v":224},null,null,null,{"$f":"H23-H25","v":1881.6000000000004}]
[null,"Von",null,{"$f":"Pensum1_Start","v":"2023-08-01"}]
[]
[null,"Bis",null,{"$f":"Pensum1_Ende","v":"2024-07-31"}]
[]
[]
[null,"Pensum in …",null,null,null,null,null,"Lektionen",null,"Lektionen",null,"Lektionen",null,"Stunden"]
[null,null,null,null,null,null,null,28,null,29,null,30,null,42]
[null,{"$f":"Code_LG1","v":"A)"},{"$f":"Titel_LG1","v":"Ressourcen für Kernauftrag (4 Arbeitsfelder)"},null,null,null,null,{"$f":"Pensendefinition!H50","v":0},null,{"$f":"Pensendefinition!J50","v":0},{"$f":"Pensendefinition!K50","v":0},{"$f":"Pensendefinition!L50","v":0},{"$f":"Pensendefinition!M50","v":0},{"$f":"Pensendefinition!N50","v":0}]
[]
[null,{"$f":"Code_LG2","v":"B)"},{"$f":"Titel_LG2","v":"Ressourcen für die Klassenlehrperson"},"Entlastung Funktion Klassenlehrperson",null,null,null,{"$f":"Pensendefinition!H52","v":0},null,{"$f":"Pensendefinition!J52","v":0},{"$f":"Pensendefinition!K52","v":0},{"$f":"Pensendefinition!L52","v":0},{"$f":"Pensendefinition!M52","v":0}]
[]
[null,null,null,"Entlastung Integrative Sonderschulung",null,null,null,{"$f":"Pensendefinition!H54","v":0},null,{"$f":"Pensendefinition!J54","v":0},{"$f":"Pensendefinition!K54","v":0},{"$f":"Pensendefinition!L54","v":0},{"$f":"Pensendefinition!M54","v":0}]
[]
[null,{"$f":"Code_LG3","v":"C)"},{"$f":"Titel_LG3","v":"Besondere Aufgaben (Schulpool)"},null,null,null,null,{"$f":"Pensendefinition!H56","v":0},null,{"$f":"Pensendefinition!J56","v":0},{"$f":"Pensendefinition!K56","v":0},{"$f":"Pensendefinition!L56","v":0},{"$f":"Pensendefinition!M56","v":0},{"$f":"Pensendefinition!N56","v":0}]
[]
[null,{"$f":"Code_LG4","v":"D)"},{"$f":"Titel_LG4","v":"Tagesstrukturen"},null,null,null,null,null,null,null,null,null,{"$f":"Pensendefinition!M58","v":0},{"$f":"Pensendefinition!N58","v":0}]
[]
[null,{"$f":"Code_LG5","v":"E)"},{"$f":"Titel_LG5","v":"Weitere Funktionen in 42 h/Wo"},null,null,null,null,null,null,null,null,null,{"$f":"Pensendefinition!M60","v":0},{"$f":"Pensendefinition!N60","v":0}]
[]
[null,"F)","Reduktionen","Bezug Altersentlastung",null,null,null,{"$f":"Pensendefinition!H62","v":0},null,{"$f":"Pensendefinition!J62","v":0},{"$f":"Pensendefinition!K62","v":0},{"$f":"Pensendefinition!L62","v":0},{"$f":"Pensendefinition!M62","v":0}]
[]
[null,null,null,"Kompensation von Mehr- oder Minderlektionen",null,null,null,{"$f":"Pensendefinition!H64","v":0},null,{"$f":"Pensendefinition!J64","v":0},{"$f":"Pensendefinition!K64","v":0},{"$f":"Pensendefinition!L64","v":0},{"$f":"Pensendefinition!M64","v":0},{"$f":"Pensendefinition!N64","v":0}]
[]
[]
[null,"Lektionen",null,null,null,null,null,{"$f":"Pensendefinition!H74","v":0},null,{"$f":"Pensendefinition!J74","v":0},{"$f":"Pensendefinition!K74","v":0},{"$f":"Pensendefinition!L74","v":0},{"$f":"Pensendefinition!M74","v":0},{"$f":"Pensendefinition!N74","v":0}]
[null,null,null,null,null,null,null,null,null,null,null,null,{"$f":"Pensendefinition!M75","v":0}]
[null,"Besoldetes Pensum",null,null,null,null,null,null,null,null,null,null,{"$f":"Pensendefinition!M76","v":0},{"$f":"Pensendefinition!N76","v":0}]
[null,null,null,null,null,null,null,null,null,null,null,null,{"$f":"Pensendefinition!M77","v":0}]
[null,"Sollarbeitszeit",null,null,null,null,null,null,null,null,null,null,{"$f":"Pensendefinition!M80","v":0},{"$f":"Pensendefinition!N80","v":0}]
[]
[null,"Pensum in Stunden"]
[]
[null,{"$f":"Code_LG1","v":"A)"},{"$f":"Titel_LG1","v":"Ressourcen für Kernauftrag (4 Arbeitsfelder)"},null,null,null,null,null,null,{"$f":"SUM(J60:J63)","v":1},null,"Stunden",null,{"$f":"SOLL_A/24","v":0}]
[null,null,"davon im Arbeitsfeld 1:",{"$f":"Titel_ULG1","v":"Unterricht"},null,null,null,null,null,{"$f":"Anteil_A1","v":0.875},null,"Stunden",null,{"$f":"$N$59*J60","v":0}]
[null,null,"davon im Arbeitsfeld 2: ",{"$f":"Titel_ULG2","v":"Lernende"},null,null,null,null,null,{"$f":"Anteil_A2","v":0.05},null,"Stunden",null,{"$f":"$N$59*J61","v":0}]
[null,null,"davon im Arbeitsfeld 3: ",{"$f":"Titel_ULG3","v":"Schule"},null,null,null,null,null,{"$f":"Anteil_A3","v":0.05},null,"Stunden",null,{"$f":"$N$59*J62","v":0}]
[null,null,"davon im Arbeitsfeld 4:",{"$f":"Titel_ULG4","v":"Lehrperson"},null,null,null,null,null,{"$f":"Anteil_A4","v":2.5000000000000001E-2},null,"Stunden",null,{"$f":"$N$59*J63","v":0}]
[]
[null,{"$f":"Code_LG2","v":"B)"},{"$f":"Titel_LG2","v":"Ressourcen für die Klassenlehrperson"},null,null,null,null,null,null,null,null,"Stunden",null,{"$f":"SUM(N66:N67)","v":0}]
[null,null,"davon Entlastung Funktion Klassenlehrperson",null,null,null,null,null,null,null,null,"Stunden",null,{"$f":"SOLL_B1/24","v":0}]
[null,null,"davon Entlastung Integrative Sonderschulung",null,null,null,null,null,null,null,null,"Stunden",null,{"$f":"SOLL_B2/24","v":0}]
[]
[]
[null,{"$f":"Code_LG3","v":"C)"},{"$f":"Titel_LG3","v":"Besondere Aufgaben (Schulpool)"},null,null,null,null,null,null,null,null,"Stunden",null,{"$f":"SOLL_C/24","v":0}]
[]
[null,{"$f":"Code_LG4","v":"D)"},{"$f":"Titel_LG4","v":"Tagesstrukturen"},null,null,null,null,null,null,null,null,"Stunden",null,{"$f":"SOLL_D/24","v":0}]
[]
[null,{"$f":"Code_LG5","v":"E)"},{"$f":"Titel_LG5","v":"Weitere Funktionen in 42 h/Wo"},null,null,null,null,null,null,null,null,"Stunden",null,{"$f":"SOLL_E/24","v":0}]
[]
[null,"Sollarbeitszeit",null,null,null,null,null,null,null,null,null,null,null,{"$f":"N59+N65+N70+N72+N74","v":0}]
[]
[null,"Unterschriften"]
[]
[null,"Ort und Datum"]
[]
[null,"Unterschrift Schulleitung",null,null,null,null,null,"Unterschrift Lehrperson/Fachperson"]
[]
[null,"__________________________________",null,null,null,null,null,"__________________________________"]
[]
[]
[]
[]
[]
[]
[]
[]
[]
[]
[]
[]
[]
[]
[]
[]
[null,"Weitere Vereinbarungen"]
[]
[]
[null,"A) Kernauftrag (4 Arbeitsfelder)"]
[]
[]
[]
[]
[]
[]
[]
[null,"B) Ressourcen für die Klassenlehrperson"]
[]
[]
[]
[]
[]
[]
[]
[null,"C) Ressourcen für besondere Aufgaben (Schulpool)"]
[]
[]
[]
[]
[]
[]
[]
[null,"D) Tagesstrukturen"]
[]
[]
[]
[]
[]
[]
[]
[null,"E) Klassenassistenz I und II"]
[]
[]
[]
[]
[]
[]
[]
[null,"F) Reduktionen"]

{"sheet":"Jahreskalender","index":5,"n_rows":373,"n_cols":22,"rows_kept":373,"cut":false,"hidden":false,"merged":[[129,1,159,1],[7,1,37,1],[38,1,67,1],[68,1,98,1],[99,1,128,1],[312,1,341,1],[342,1,372,1],[160,1,190,1],[191,1,219,1],[220,1,250,1],[251,1,280,1],[281,1,311,1]]}
[null,{"$f":"\"Jahreskalender \" &TEXT(Jahresbezeichnung,\"\")","v":"Jahreskalender 2023/2024"}]
[]
[]
[]
[null,null,{"$f":"COUNT(Spalte_TG)","v":366},null,null,null,{"$f":"SUM(Spalte_WT)","v":262},{"$f":"SUM(Spalte_WE)","v":104},{"$f":"SUM(Spalte_FT)","v":13},{"$f":"SUM(Spalte_AT)","v":249},{"$f":"SUM(Spalte_AT_1HJ)","v":103},{"$f":"SUM(Spalte_AT_2HJ)","v":146},{"$f":"SUM(Spalte_PE)","v":249},{"$f":"SUM(Spalte_Arbeitstage_PE1_1HJ)","v":103},{"$f":"SUM(Spalte_Arbeitstage_PE1_2HJ)","v":146},null,{"$f":"SUM(Spalte_JAZ_PA)","v":0},{"$f":"SUM(R8:R373)","v":0},null,{"$f":"SUM(Spalte_PE1_SZ)","v":184},{"$f":"SUM(Spalte_PE1_FZ)","v":65},{"$f":"SUM(V8:V373)","v":0}]
[null,null,"Datum",null,null,null,null,null,null,null,null,null,null,null,null,"Feiertag",null,null,"Definition",null,null,"Tagessoll"]
[null,"MT","TG","Datum","M","KW","WT","WE","FT","AT",null,null,"PE",null,null,"Feiertag","JAZ_VZ","RAZ","Typ","PE1_SZ","PE1_FZ","Soll"]
[null,{"$f":"C8","v":"2023-08-01"},{"$f":"JahresKalenderStartdatum","v":"2023-08-01"},{"$f":"C8","v":"2023-08-01"},{"$f":"MONTH(C8)","v":8},{"$f":"WEEKNUM(C8,2)","v":32},{"$f":"IF(WEEKDAY(C8,2)>5,0,1)","v":1},{"$f":"IF(WEEKDAY(C8,2)>5,1,0)","v":0},{"$f":"IF(ISERROR(VLOOKUP(C8,tabFeiertage,2,FALSE)),0,VLOOKUP(C8,tabFeiertage,3,FALSE))*G8","v":1},{"$f":"G8-I8","v":0},{"$f":"J8","v":0},null,{"$f":"IF(AND(C8>=Pensum1_Start,C8<=Pensum1_Ende),1,0)*J8","v":0},{"$f":"M8","v":0},null,{"$f":"IF(ISERROR(VLOOKUP(C8,tabFeiertage,2,FALSE)),\"\",VLOOKUP(C8,tabFeiertage,2,FALSE))","v":"Nationalfeiertag"},{"$f":"INDIRECT(\"RAZ_\"& TEXT(WEEKDAY(C8,2),0) & \"WT\")*J8","v":0},{"$f":"INDIRECT(\"RAZ_\"& TEXT(WEEKDAY(C8,2),0) & \"WT\")*J8*IF(M8>0,1,0)","v":0},"SFZ",{"$f":"IF(UPPER(S8)=\"SZ\",1,0)*J8*M8","v":0},{"$f":"IF(UPPER(S8)=\"SFZ\",1,0)*J8*IF(M8>0,1,0)","v":0},{"$f":"R8*IF(S8=\"SFZ\",FaktorFZ,IF(S8=\"SZ\",FaktorSZ,IF(S8=\"KT\",0,1)))","v":0}]
[null,null,{"$f":"C8+1","v":"2023-08-02"},"2023-08-02",8,32,1,0,0,1,{"$f":"J9","v":1},null,1,{"$f":"M9","v":1},null,"",{"$f":"INDIRECT(\"RAZ_\"& TEXT(WEEKDAY(C9,2),0) & \"WT\")*J9","v":0},0,"SFZ",0,1,0]
[null,null,{"$f":"C9+1","v":"2023-08-03"},"2023-08-03",8,32,1,0,0,1,1,null,1,1,null,"",0,0,"SFZ",0,1,0]
[null,null,"2023-08-04","2023-08-04",8,32,1,0,0,1,1,null,1,1,null,"",0,0,"SFZ",0,1,0]
[null,null,"2023-08-05","2023-08-05",8,32,0,1,0,0,0,null,0,0,null,"",0,0,"SFZ",0,0,0]
[null,null,"2023-08-06","2023-08-06",8,32,0,1,0,0,0,null,0,0,null,"",0,0,"SFZ",0,0,0]
[null,null,"2023-08-07","2023-08-07",8,33,1,0,0,1,1,null,1,1,null,"",0,0,"SFZ",0,1,0]
[null,null,"2023-08-08","2023-08-08",8,33,1,0,0,1,1,null,1,1,null,"",0,0,"SFZ",0,1,0]
[null,null,"2023-08-09",{"$f":"C16","v":"2023-08-09"},{"$f":"MONTH(C16)","v":8},{"$f":"WEEKNUM(C16,2)","v":33},{"$f":"IF(WEEKDAY(C16,2)>5,0,1)","v":1},{"$f":"IF(WEEKDAY(C16,2)>5,1,0)","v":0},{"$f":"IF(ISERROR(VLOOKUP(C16,tabFeiertage,2,FALSE)),0,VLOOKUP(C16,tabFeiertage,3,FALSE))*G16","v":0},{"$f":"G16-I16","v":1},1,null,{"$f":"IF(AND(C16>=Pensum1_Start,C16<=Pensum1_Ende),1,0)*J16","v":1},1,null,{"$f":"IF(ISERROR(VLOOKUP(C16,tabFeiertage,2,FALSE)),\"\",VLOOKUP(C16,tabFeiertage,2,FALSE))","v":""},{"$f":"INDIRECT(\"RAZ_\"& TEXT(WEEKDAY(C16,2),0) & \"WT\")*J16","v":0},{"$f":"INDIRECT(\"RAZ_\"& TEXT(WEEKDAY(C16,2),0) & \"WT\")*J16*IF(M16>0,1,0)","v":0},"SFZ",{"$f":"IF(UPPER(S16)=\"SZ\",1,0)*J16*M16","v":0},{"$f":"IF(UPPER(S16)=\"SFZ\",1,0)*J16*IF(M16>0,1,0)","v":1},{"$f":"R16*IF(S16=\"SFZ\",FaktorFZ,IF(S16=\"SZ\",FaktorSZ,IF(S16=\"KT\",0,1)))","v":0}]
[null,null,"2023-08-10","2023-08-10",8,33,1,0,0,1,1,null,1,1,null,"",0,0,"SFZ",0,1,0]
[null,null,"2023-08-11","2023-08-11",8,33,1,0,0,1,1,null,1,1,null,"",0,0,"SFZ",0,1,0]
[null,null,"2023-08-12","2023-08-12",8,33,0,1,0,0,0,null,0,0,null,"",0,0,"SFZ",0,0,0]
[null,null,"2023-08-13","2023-08-13",8,33,0,1,0,0,0,null,0,0,null,"",0,0,"SFZ",0,0,0]
[null,null,"2023-08-14","2023-08-14",8,34,1,0,0,1,1,null,1,1,null,"",0,0,"SFZ",0,1,0]
[null,null,"2023-08-15","2023-08-15",8,34,1,0,1,0,0,null,0,0,null,"Maria Himmelfahrt",0,0,"SFZ",0,0,0]
[null,null,"2023-08-16","2023-08-16",8,34,1,0,0,1,1,null,1,1,null,"",0,0,"SFZ",0,1,0]
[null,null,"2023-08-17","2023-08-17",8,34,1,0,0,1,1,null,1,1,null,"",0,0,"SFZ",0,1,0]
[null,null,"2023-08-18","2023-08-18",8,34,1,0,0,1,1,null,1,1,null,"",0,0,"SFZ",0,1,0]
[null,null,"2023-08-19","2023-08-19",8,34,0,1,0,0,0,null,0,0,null,"",0,0,"SFZ",0,0,0]
[null,null,"2023-08-20","2023-08-20",8,34,0,1,0,0,0,null,0,0,null,"",0,0,"SFZ",0,0,0]
[null,null,"2023-08-21","2023-08-21",8,35,1,0,0,1,1,null,1,1,null,"",0,0,"SZ",1,0,0]
[null,null,"2023-08-22","2023-08-22",8,35,1,0,0,1,1,null,1,1,null,"",0,0,"SZ",1,0,0]
[null,null,"2023-08-23","2023-08-23",8,35,1,0,0,1,1,null,1,1,null,"",0,0,"SZ",1,0,0]
[null,null,"2023-08-24","2023-08-24",8,35,1,0,0,1,1,null,1,1,null,"",0,0,"SZ",1,0,0]
[null,null,"2023-08-25","2023-08-25",8,35,1,0,0,1,1,null,1,1,null,"",0,0,"SZ",1,0,0]
[null,null,"2023-08-26","2023-08-26",8,35,0,1,0,0,0,null,0,0,null,"",0,0,"SZ",0,0,0]
[null,null,"2023-08-27","2023-08-27",8,35,0,1,0,0,0,null,0,0,null,"",0,0,"SZ",0,0,0]
[null,null,"2023-08-28","2023-08-28",8,36,1,0,0,1,1,null,1,1,null,"",0,0,"SZ",1,0,0]
[null,null,"2023-08-29","2023-08-29",8,36,1,0,0,1,1,null,1,1,null,"",0,0,"SZ",1,0,0]
[null,null,"2023-08-30","2023-08-30",8,36,1,0,0,1,1,null,1,1,null,"",0,0,"SZ",1,0,0]
[null,null,"2023-08-31","2023-08-31",8,36,1,0,0,1,1,null,1,1,null,"",0,0,"SZ",1,0,0]
[null,{"$f":"C39","v":"2023-09-01"},"2023-09-01","2023-09-01",9,36,1,0,0,1,1,null,1,1,null,"",0,0,"SZ",1,0,0]
[null,null,"2023-09-02","2023-09-02",9,36,0,1,0,0,0,null,0,0,null,"",0,0,"SZ",0,0,0]
[null,null,"2023-09-03","2023-09-03",9,36,0,1,0,0,0,null,0,0,null,"",0,0,"SZ",0,0,0]
[null,null,"2023-09-04","2023-09-04",9,37,1,0,0,1,1,null,1,1,null,"",0,0,"SZ",1,0,0]
[null,null,"2023-09-05","2023-09-05",9,37,1,0,0,1,1,null,1,1,null,"",0,0,"SZ",1,0,0]
[null,null,"2023-09-06","2023-09-06",9,37,1,0,0,1,1,null,1,1,null,"",0,0,"SZ",1,0,0]
[null,null,"2023-09-07","2023-09-07",9,37,1,0,0,1,1,null,1,1,null,"",0,0,"SZ",1,0,0]
[null,null,"2023-09-08","2023-09-08",9,37,1,0,0,1,1,null,1,1,null,"",0,0,"SZ",1,0,0]
[null,null,"2023-09-09","2023-09-09",9,37,0,1,0,0,0,null,0,0,null,"",0,0,"SZ",0,0,0]
[null,null,"2023-09-10","2023-09-10",9,37,0,1,0,0,0,null,0,0,null,"",0,0,"SZ",0,0,0]
[null,null,"2023-09-11","2023-09-11",9,38,1,0,0,1,1,null,1,1,null,"",0,0,"SZ",1,0,0]
[null,null,"2023-09-12","2023-09-12",9,38,1,0,0,1,1,null,1,1,null,"",0,0,"SZ",1,0,0]
[null,null,"2023-09-13","2023-09-13",9,38,1,0,0,1,1,null,1,1,null,"",0,0,"SZ",1,0,0]
[null,null,"2023-09-14","2023-09-14",9,38,1,0,0,1,1,null,1,1,null,"",0,0,"SZ",1,0,0]
[null,null,"2023-09-15","2023-09-15",9,38,1,0,0,1,1,null,1,1,null,"",0,0,"SZ",1,0,0]
[null,null,"2023-09-16","2023-09-16",9,38,0,1,0,0,0,null,0,0,null,"",0,0,"SZ",0,0,0]
[null,null,"2023-09-17","2023-09-17",9,38,0,1,0,0,0,null,0,0,null,"",0,0,"SZ",0,0,0]
[null,null,"2023-09-18","2023-09-18",9,39,1,0,0,1,1,null,1,1,null,"",0,0,"SZ",1,0,0]
[null,null,"2023-09-19","2023-09-19",9,39,1,0,0,1,1,null,1,1,null,"",0,0,"SZ",1,0,0]
[null,null,"2023-09-20","2023-09-20",9,39,1,0,0,1,1,null,1,1,null,"",0,0,"SZ",1,0,0]
[null,null,"2023-09-21","2023-09-21",9,39,1,0,0,1,1,null,1,1,null,"",0,0,"SZ",1,0,0]
[null,null,"2023-09-22","2023-09-22",9,39,1,0,0,1,1,null,1,1,null,"",0,0,"SZ",1,0,0]
[null,null,"2023-09-23","2023-09-23",9,39,0,1,0,0,0,null,0,0,null,"",0,0,"SZ",0,0,0]
[null,null,"2023-09-24","2023-09-24",9,39,0,1,0,0,0,null,0,0,null,"",0,0,"SZ",0,0,0]
[null,null,"2023-09-25","2023-09-25",9,40,1,0,0,1,1,null,1,1,null,"",0,0,"SZ",1,0,0]
[null,null,"2023-09-26","2023-09-26",9,40,1,0,0,1,1,null,1,1,null,"",0,0,"SZ",1,0,0]
[null,null,"2023-09-27","2023-09-27",9,40,1,0,0,1,1,null,1,1,null,"",0,0,"SZ",1,0,0]
[null,null,"2023-09-28","2023-09-28",9,40,1,0,0,1,1,null,1,1,null,"",0,0,"SZ",1,0,0]
[null,null,"2023-09-29","2023-09-29",9,40,1,0,0,1,1,null,1,1,null,"",0,0,"SZ",1,0,0]
[null,null,"2023-09-30","2023-09-30",9,40,0,1,0,0,0,null,0,0,null,"",0,0,"SFZ",0,0,0]
[null,{"$f":"C69","v":"2023-10-01"},"2023-10-01","2023-10-01",10,40,0,1,0,0,0,null,0,0,null,"",0,0,"SFZ",0,0,0]
[null,null,"2023-10-02","2023-10-02",10,41,1,0,0,1,1,null,1,1,null,"",0,0,"SFZ",0,1,0]
[null,null,"2023-10-03","2023-10-03",10,41,1,0,0,1,1,null,1,1,null,"",0,0,"SFZ",0,1,0]
[null,null,"2023-10-04","2023-10-04",10,41,1,0,0,1,1,null,1,1,null,"",0,0,"SFZ",0,1,0]
[null,null,"2023-10-05","2023-10-05",10,41,1,0,0,1,{"$f":"J73","v":1},null,1,{"$f":"M73","v":1},null,"",0,0,"SFZ",0,1,0]
[null,null,{"$f":"C73+1","v":"2023-10-06"},"2023-10-06",10,41,1,0,0,1,1,null,1,1,null,"",0,0,"SFZ",0,1,0]
[null,null,"2023-10-07","2023-10-07",10,41,0,1,0,0,0,null,0,0,null,"",0,0,"SFZ",0,0,0]
[null,null,"2023-10-08","2023-10-08",10,41,0,1,0,0,0,null,0,0,null,"",0,0,"SFZ",0,0,0]
[null,null,"2023-10-09","2023-10-09",10,42,1,0,0,1,1,null,1,1,null,"",0,0,"SFZ",0,1,0]
[null,null,"2023-10-10","2023-10-10",10,42,1,0,0,1,1,null,1,1,null,"",0,0,"SFZ",0,1,0]
[null,null,"2023-10-11","2023-10-11",10,42,1,0,0,1,1,null,1,1,null,"",0,0,"SFZ",0,1,0]
[null,null,"2023-10-12",{"$f":"C80","v":"2023-10-12"},{"$f":"MONTH(C80)","v":10},{"$f":"WEEKNUM(C80,2)","v":42},{"$f":"IF(WEEKDAY(C80,2)>5,0,1)","v":1},{"$f":"IF(WEEKDAY(C80,2)>5,1,0)","v":0},{"$f":"IF(ISERROR(VLOOKUP(C80,tabFeiertage,2,FALSE)),0,VLOOKUP(C80,tabFeiertage,3,FALSE))*G80","v":0},{"$f":"G80-I80","v":1},1,null,{"$f":"IF(AND(C80>=Pensum1_Start,C80<=Pensum1_Ende),1,0)*J80","v":1},1,null,{"$f":"IF(ISERROR(VLOOKUP(C80,tabFeiertage,2,FALSE)),\"\",VLOOKUP(C80,tabFeiertage,2,FALSE))","v":""},{"$f":"INDIRECT(\"RAZ_\"& TEXT(WEEKDAY(C80,2),0) & \"WT\")*J80","v":0},{"$f":"INDIRECT(\"RAZ_\"& TEXT(WEEKDAY(C80,2),0) & \"WT\")*J80*IF(M80>0,1,0)","v":0},"SFZ",{"$f":"IF(UPPER(S80)=\"SZ\",1,0)*J80*M80","v":0},{"$f":"IF(UPPER(S80)=\"SFZ\",1,0)*J80*IF(M80>0,1,0)","v":1},{"$f":"R80*IF(S80=\"SFZ\",FaktorFZ,IF(S80=\"SZ\",FaktorSZ,IF(S80=\"KT\",0,1)))","v":0}]
[null,null,"2023-10-13","2023-10-13",10,42,1,0,0,1,1,null,1,1,null,"",0,0,"SFZ",0,1,0]
[null,null,"2023-10-14","2023-10-14",10,42,0,1,0,0,0,null,0,0,null,"",0,0,"SFZ",0,0,0]
[null,null,"2023-10-15","2023-10-15",10,42,0,1,0,0,0,null,0,0,null,"",0,0,"SFZ",0,0,0]
[null,null,"2023-10-16","2023-10-16",10,43,1,0,0,1,1,null,1,1,null,"",0,0,"SZ",1,0,0]
[null,null,"2023-10-17","2023-10-17",10,43,1,0,0,1,1,null,1,1,null,"",0,0,"SZ",1,0,0]
[null,null,"2023-10-18","2023-10-18",10,43,1,0,0,1,1,null,1,1,null,"",0,0,"SZ",1,0,0]
[null,null,"2023-10-19","2023-10-19",10,43,1,0,0,1,1,null,1,1,null,"",0,0,"SZ",1,0,0]
[null,null,"2023-10-20","2023-10-20",10,43,1,0,0,1,1,null,1,1,null,"",0,0,"SZ",1,0,0]
[null,null,"2023-10-21","2023-10-21",10,43,0,1,0,0,0,null,0,0,null,"",0,0,"SZ",0,0,0]
[null,null,"2023-10-22","2023-10-22",10,43,0,1,0,0,0,null,0,0,null,"",0,0,"SZ",0,0,0]
[null,null,"2023-10-23","2023-10-23",10,44,1,0,0,1,1,null,1,1,null,"",0,0,"SZ",1,0,0]
[null,null,"2023-10-24","2023-10-24",10,44,1,0,0,1,1,null,1,1,null,"",0,0,"SZ",1,0,0]
[null,null,"2023-10-25","2023-10-25",10,44,1,0,0,1,1,null,1,1,null,"",0,0,"SZ",1,0,0]
[null,null,"2023-10-26","2023-10-26",10,44,1,0,0,1,1,null,1,1,null,"",0,0,"SZ",1,0,0]
[null,null,"2023-10-27","2023-10-27",10,44,1,0,0,1,1,null,1,1,null,"",0,0,"SZ",1,0,0]
[null,null,"2023-10-28","2023-10-28",10,44,0,1,0,0,0,null,0,0,null,"",0,0,"SZ",0,0,0]
[null,null,"2023-10-29","2023-10-29",10,44,0,1,0,0,0,null,0,0,null,"",0,0,"SZ",0,0,0]
[null,null,"2023-10-30","2023-10-30",10,45,1,0,0,1,1,null,1,1,null,"",0,0,"SZ",1,0,0]
[null,null,"2023-10-31","2023-10-31",10,45,1,0,0,1,1,null,1,1,null,"",0,0,"SZ",1,0,0]
[null,{"$f":"C100","v":"2023-11-01"},"2023-11-01","2023-11-01",11,45,1,0,1,0,0,null,0,0,null,"Allerheiligen",0,0,"SZ",0,0,0]
[null,null,"2023-11-02","2023-11-02",11,45,1,0,0,1,1,null,1,1,null,"",0,0,"SZ",1,0,0]
[null,null,"2023-11-03","2023-11-03",11,45,1,0,0,1,1,null,1,1,null,"",0,0,"SZ",1,0,0]
[null,null,"2023-11-04","2023-11-04",11,45,0,1,0,0,0,null,0,0,null,"",0,0,"SZ",0,0,0]
[null,null,"2023-11-05","2023-11-05",11,45,0,1,0,0,0,null,0,0,null,"",0,0,"SZ",0,0,0]
[null,null,"2023-11-06","2023-11-06",11,46,1,0,0,1,1,null,1,1,null,"",0,0,"SZ",1,0,0]
[null,null,"2023-11-07","2023-11-07",11,46,1,0,0,1,1,null,1,1,null,"",0,0,"SZ",1,0,0]
[null,null,"2023-11-08","2023-11-08",11,46,1,0,0,1,1,null,1,1,null,"",0,0,"SZ",1,0,0]
[null,null,"2023-11-09","2023-11-09",11,46,1,0,0,1,1,null,1,1,null,"",0,0,"SZ",1,0,0]
[null,null,"2023-11-10","2023-11-10",11,46,1,0,0,1,1,null,1,1,null,"",0,0,"SZ",1,0,0]
[null,null,"2023-11-11","2023-11-11",11,46,0,1,0,0,0,null,0,0,null,"",0,0,"SZ",0,0,0]
[null,null,"2023-11-12","2023-11-12",11,46,0,1,0,0,0,null,0,0,null,"",0,0,"SZ",0,0,0]
[null,null,"2023-11-13","2023-11-13",11,47,1,0,0,1,1,null,1,1,null,"",0,0,"SZ",1,0,0]
[null,null,"2023-11-14","2023-11-14",11,47,1,0,0,1,1,null,1,1,null,"",0,0,"SZ",1,0,0]
[null,null,"2023-11-15","2023-11-15",11,47,1,0,0,1,1,null,1,1,null,"",0,0,"SZ",1,0,0]
[null,null,"2023-11-16","2023-11-16",11,47,1,0,0,1,1,null,1,1,null,"",0,0,"SZ",1,0,0]
[null,null,"2023-11-17","2023-11-17",11,47,1,0,0,1,1,null,1,1,null,"",0,0,"SZ",1,0,0]
[null,null,"2023-11-18","2023-11-18",11,47,0,1,0,0,0,null,0,0,null,"",0,0,"SZ",0,0,0]
[null,null,"2023-11-19","2023-11-19",11,47,0,1,0,0,0,null,0,0,null,"",0,0,"SZ",0,0,0]
[null,null,"2023-11-20","2023-11-20",11,48,1,0,0,1,1,null,1,1,null,"",0,0,"SZ",1,0,0]
[null,null,"2023-11-21","2023-11-21",11,48,1,0,0,1,1,null,1,1,null,"",0,0,"SZ",1,0,0]
[null,null,"2023-11-22","2023-11-22",11,48,1,0,0,1,1,null,1,1,null,"",0,0,"SZ",1,0,0]
[null,null,"2023-11-23","2023-11-23",11,48,1,0,0,1,1,null,1,1,null,"",0,0,"SZ",1,0,0]
[null,null,"2023-11-24","2023-11-24",11,48,1,0,0,1,1,null,1,1,null,"",0,0,"SZ",1,0,0]
[null,null,"2023-11-25","2023-11-25",11,48,0,1,0,0,0,null,0,0,null,"",0,0,"SZ",0,0,0]
[null,null,"2023-11-26","2023-11-26",11,48,0,1,0,0,0,null,0,0,null,"",0,0,"SZ",0,0,0]
[null,null,"2023-11-27","2023-11-27",11,49,1,0,0,1,1,null,1,1,null,"",0,0,"SZ",1,0,0]
[null,null,"2023-11-28","2023-11-28",11,49,1,0,0,1,1,null,1,1,null,"",0,0,"SZ",1,0,0]
[null,null,"2023-11-29","2023-11-29",11,49,1,0,0,1,1,null,1,1,null,"",0,0,"SZ",1,0,0]
[null,null,"2023-11-30","2023-11-30",11,49,1,0,0,1,1,null,1,1,null,"",0,0,"SZ",1,0,0]
[null,{"$f":"C130","v":"2023-12-01"},"2023-12-01","2023-12-01",12,49,1,0,0,1,1,null,1,1,null,"",0,0,"SZ",1,0,0]
[null,null,"2023-12-02","2023-12-02",12,49,0,1,0,0,0,null,0,0,null,"",0,0,"SZ",0,0,0]
[null,null,"2023-12-03","2023-12-03",12,49,0,1,0,0,0,null,0,0,null,"",0,0,"SZ",0,0,0]
[null,null,"2023-12-04","2023-12-04",12,50,1,0,0,1,1,null,1,1,null,"",0,0,"SZ",1,0,0]
[null,null,"2023-12-05","2023-12-05",12,50,1,0,0,1,1,null,1,1,null,"",0,0,"SZ",1,0,0]
[null,null,"2023-12-06","2023-12-06",12,50,1,0,0,1,1,null,1,1,null,"",0,0,"SZ",1,0,0]
[null,null,"2023-12-07","2023-12-07",12,50,1,0,0,1,1,null,1,1,null,"",0,0,"SZ",1,0,0]
[null,null,"2023-12-08","2023-12-08",12,50,1,0,1,0,{"$f":"J137","v":0},null,0,{"$f":"M137","v":0},null,"Maria Empfängnis",0,0,"SZ",0,0,0]
[null,null,{"$f":"C137+1","v":"2023-12-09"},"2023-12-09",12,50,0,1,0,0,0,null,0,0,null,"",0,0,"SZ",0,0,0]
[null,null,"2023-12-10","2023-12-10",12,50,0,1,0,0,0,null,0,0,null,"",0,0,"SZ",0,0,0]
[null,null,"2023-12-11","2023-12-11",12,51,1,0,0,1,1,null,1,1,null,"",0,0,"SZ",1,0,0]
[null,null,"2023-12-12","2023-12-12",12,51,1,0,0,1,1,null,1,1,null,"",0,0,"SZ",1,0,0]
[null,null,"2023-12-13","2023-12-13",12,51,1,0,0,1,1,null,1,1,null,"",0,0,"SZ",1,0,0]
[null,null,"2023-12-14","2023-12-14",12,51,1,0,0,1,1,null,1,1,null,"",0,0,"SZ",1,0,0]
[null,null,"2023-12-15",{"$f":"C144","v":"2023-12-15"},{"$f":"MONTH(C144)","v":12},{"$f":"WEEKNUM(C144,2)","v":51},{"$f":"IF(WEEKDAY(C144,2)>5,0,1)","v":1},{"$f":"IF(WEEKDAY(C144,2)>5,1,0)","v":0},{"$f":"IF(ISERROR(VLOOKUP(C144,tabFeiertage,2,FALSE)),0,VLOOKUP(C144,tabFeiertage,3,FALSE))*G144","v":0},{"$f":"G144-I144","v":1},1,null,{"$f":"IF(AND(C144>=Pensum1_Start,C144<=Pensum1_Ende),1,0)*J144","v":1},1,null,{"$f":"IF(ISERROR(VLOOKUP(C144,tabFeiertage,2,FALSE)),\"\",VLOOKUP(C144,tabFeiertage,2,FALSE))","v":""},{"$f":"INDIRECT(\"RAZ_\"& TEXT(WEEKDAY(C144,2),0) & \"WT\")*J144","v":0},{"$f":"INDIRECT(\"RAZ_\"& TEXT(WEEKDAY(C144,2),0) & \"WT\")*J144*IF(M144>0,1,0)","v":0},"SZ",{"$f":"IF(UPPER(S144)=\"SZ\",1,0)*J144*M144","v":1},{"$f":"IF(UPPER(S144)=\"SFZ\",1,0)*J144*IF(M144>0,1,0)","v":0},{"$f":"R144*IF(S144=\"SFZ\",FaktorFZ,IF(S144=\"SZ\",FaktorSZ,IF(S144=\"KT\",0,1)))","v":0}]
[null,null,"2023-12-16","2023-12-16",12,51,0,1,0,0,0,null,0,0,null,"",0,0,"SZ",0,0,0]
[null,null,"2023-12-17","2023-12-17",12,51,0,1,0,0,0,null,0,0,null,"",0,0,"SZ",0,0,0]
[null,null,"2023-12-18","2023-12-18",12,52,1,0,0,1,1,null,1,1,null,"",0,0,"SZ",1,0,0]
[null,null,"2023-12-19","2023-12-19",12,52,1,0,0,1,1,null,1,1,null,"",0,0,"SZ",1,0,0]
[null,null,"2023-12-20","2023-12-20",12,52,1,0,0,1,1,null,1,1,null,"",0,0,"SZ",1,0,0]
[null,null,"2023-12-21","2023-12-21",12,52,1,0,0,1,1,null,1,1,null,"",0,0,"SZ",1,0,0]
[null,null,"2023-12-22","2023-12-22",12,52,1,0,0,1,1,null,1,1,null,"",0,0,"SZ",1,0,0]
[null,null,"2023-12-23","2023-12-23",12,52,0,1,0,0,0,null,0,0,null,"",0,0,"SFZ",0,0,0]
[null,null,"2023-12-24","2023-12-24",12,52,0,1,0,0,0,null,0,0,null,"Heiligabend",0,0,"SFZ",0,0,0]
[null,null,"2023-12-25","2023-12-25",12,53,1,0,1,0,0,null,0,0,null,"Weihnachtstag",0,0,"SFZ",0,0,0]
[null,null,"2023-12-26","2023-12-26",12,53,1,0,1,0,0,null,0,0,null,"Stephanstag",0,0,"SFZ",0,0,0]
[null,null,"2023-12-27","2023-12-27",12,53,1,0,0,1,1,null,1,1,null,"",0,0,"SFZ",0,1,0]
[null,null,"2023-12-28","2023-12-28",12,53,1,0,0,1,1,null,1,1,null,"",0,0,"SFZ",0,1,0]
[null,null,"2023-12-29","2023-12-29",12,53,1,0,0,1,1,null,1,1,null,"",0,0,"SFZ",0,1,0]
[null,null,"2023-12-30","2023-12-30",12,53,0,1,0,0,0,null,0,0,null,"",0,0,"SFZ",0,0,0]
[null,null,"2023-12-31","2023-12-31",12,53,0,1,0,0,0,null,0,0,null,"Silvester",0,0,"SFZ",0,0,0]
[null,{"$f":"C161","v":"2024-01-01"},"2024-01-01","2024-01-01",1,1,1,0,1,0,null,{"$f":"J161","v":0},0,null,{"$f":"M161","v":0},"Neujahr",0,0,"SFZ",0,0,0]
[null,null,"2024-01-02","2024-01-02",1,1,1,0,1,0,null,{"$f":"J162","v":0},0,null,{"$f":"M162","v":0},"Berchtoldstag",0,0,"SFZ",0,0,0]
[null,null,"2024-01-03","2024-01-03",1,1,1,0,0,1,null,1,1,null,1,"",0,0,"SFZ",0,1,0]
[null,null,"2024-01-04","2024-01-04",1,1,1,0,0,1,null,1,1,null,1,"",0,0,"SFZ",0,1,0]
[null,null,"2024-01-05","2024-01-05",1,1,1,0,0,1,null,1,1,null,1,"",0,0,"SFZ",0,1,0]
[null,null,"2024-01-06","2024-01-06",1,1,0,1,0,0,null,0,0,null,0,"",0,0,"SFZ",0,0,0]
[null,null,"2024-01-07","2024-01-07",1,1,0,1,0,0,null,0,0,null,0,"",0,0,"SFZ",0,0,0]
[null,null,"2024-01-08","2024-01-08",1,2,1,0,0,1,null,1,1,null,1,"",0,0,"SZ",1,0,0]
[null,null,"2024-01-09","2024-01-09",1,2,1,0,0,1,null,1,1,null,1,"",0,0,"SZ",1,0,0]
[null,null,"2024-01-10","2024-01-10",1,2,1,0,0,1,null,1,1,null,1,"",0,0,"SZ",1,0,0]
[null,null,"2024-01-11","2024-01-11",1,2,1,0,0,1,null,1,1,null,1,"",0,0,"SZ",1,0,0]
[null,null,"2024-01-12","2024-01-12",1,2,1,0,0,1,null,1,1,null,1,"",0,0,"SZ",1,0,0]
[null,null,"2024-01-13","2024-01-13",1,2,0,1,0,0,null,0,0,null,0,"",0,0,"SZ",0,0,0]
[null,null,"2024-01-14","2024-01-14",1,2,0,1,0,0,null,0,0,null,0,"",0,0,"SZ",0,0,0]
[null,null,"2024-01-15","2024-01-15",1,3,1,0,0,1,null,1,1,null,1,"",0,0,"SZ",1,0,0]
[null,null,"2024-01-16","2024-01-16",1,3,1,0,0,1,null,1,1,null,1,"",0,0,"SZ",1,0,0]
[null,null,"2024-01-17","2024-01-17",1,3,1,0,0,1,null,1,1,null,1,"",0,0,"SZ",1,0,0]
[null,null,"2024-01-18","2024-01-18",1,3,1,0,0,1,null,1,1,null,1,"",0,0,"SZ",1,0,0]
[null,null,"2024-01-19","2024-01-19",1,3,1,0,0,1,null,1,1,null,1,"",0,0,"SZ",1,0,0]
[null,null,"2024-01-20","2024-01-20",1,3,0,1,0,0,null,0,0,null,0,"",0,0,"SZ",0,0,0]
[null,null,"2024-01-21","2024-01-21",1,3,0,1,0,0,null,0,0,null,0,"",0,0,"SZ",0,0,0]
[null,null,"2024-01-22","2024-01-22",1,4,1,0,0,1,null,1,1,null,1,"",0,0,"SZ",1,0,0]
[null,null,"2024-01-23","2024-01-23",1,4,1,0,0,1,null,1,1,null,1,"",0,0,"SZ",1,0,0]
[null,null,"2024-01-24","2024-01-24",1,4,1,0,0,1,null,1,1,null,1,"",0,0,"SZ",1,0,0]
[null,null,"2024-01-25","2024-01-25",1,4,1,0,0,1,null,1,1,null,1,"",0,0,"SZ",1,0,0]
[null,null,"2024-01-26","2024-01-26",1,4,1,0,0,1,null,1,1,null,1,"",0,0,"SZ",1,0,0]
[null,null,"2024-01-27","2024-01-27",1,4,0,1,0,0,null,0,0,null,0,"",0,0,"SZ",0,0,0]
[null,null,"2024-01-28","2024-01-28",1,4,0,1,0,0,null,0,0,null,0,"",0,0,"SZ",0,0,0]
[null,null,"2024-01-29","2024-01-29",1,5,1,0,0,1,null,1,1,null,1,"",0,0,"SZ",1,0,0]
[null,null,"2024-01-30","2024-01-30",1,5,1,0,0,1,null,1,1,null,1,"",0,0,"SZ",1,0,0]
[null,null,"2024-01-31","2024-01-31",1,5,1,0,0,1,null,1,1,null,1,"",0,0,"SZ",1,0,0]
[null,{"$f":"C192","v":"2024-02-01"},"2024-02-01","2024-02-01",2,5,1,0,0,1,null,1,1,null,1,"",0,0,"SZ",1,0,0]
[null,null,"2024-02-02","2024-02-02",2,5,1,0,0,1,null,1,1,null,1,"",0,0,"SZ",1,0,0]
[null,null,"2024-02-03","2024-02-03",2,5,0,1,0,0,null,0,0,null,0,"",0,0,"SFZ",0,0,0]
[null,null,"2024-02-04","2024-02-04",2,5,0,1,0,0,null,0,0,null,0,"",0,0,"SFZ",0,0,0]
[null,null,"2024-02-05","2024-02-05",2,6,1,0,0,1,null,1,1,null,1,"",0,0,"SFZ",0,1,0]
[null,null,"2024-02-06","2024-02-06",2,6,1,0,0,1,null,1,1,null,1,"",0,0,"SFZ",0,1,0]
[null,null,"2024-02-07","2024-02-07",2,6,1,0,0,1,null,1,1,null,1,"",0,0,"SFZ",0,1,0]
[null,null,"2024-02-08","2024-02-08",2,6,1,0,0,1,null,1,1,null,1,"",0,0,"SFZ",0,1,0]
[null,null,"2024-02-09","2024-02-09",2,6,1,0,0,1,null,1,1,null,1,"",0,0,"SFZ",0,1,0]
[null,null,"2024-02-10","2024-02-10",2,6,0,1,0,0,null,0,0,null,0,"",0,0,"SFZ",0,0,0]
[null,null,{"$f":"C201+1","v":"2024-02-11"},"2024-02-11",2,6,0,1,0,0,null,0,0,null,0,"",0,0,"SFZ",0,0,0]
[null,null,"2024-02-12","2024-02-12",2,7,1,0,0,1,null,1,1,null,1,"",0,0,"SFZ",0,1,0]
[null,null,"2024-02-13","2024-02-13",2,7,1,0,0,1,null,1,1,null,1,"",0,0,"SFZ",0,1,0]
[null,null,"2024-02-14","2024-02-14",2,7,1,0,0,1,null,1,1,null,1,"",0,0,"SFZ",0,1,0]
[null,null,"2024-02-15","2024-02-15",2,7,1,0,0,1,null,1,1,null,1,"",0,0,"SFZ",0,1,0]
[null,null,"2024-02-16","2024-02-16",2,7,1,0,0,1,null,1,1,null,1,"",0,0,"SFZ",0,1,0]
[null,null,"2024-02-17",{"$f":"C208","v":"2024-02-17"},{"$f":"MONTH(C208)","v":2},{"$f":"WEEKNUM(C208,2)","v":7},{"$f":"IF(WEEKDAY(C208,2)>5,0,1)","v":0},{"$f":"IF(WEEKDAY(C208,2)>5,1,0)","v":1},{"$f":"IF(ISERROR(VLOOKUP(C208,tabFeiertage,2,FALSE)),0,VLOOKUP(C208,tabFeiertage,3,FALSE))*G208","v":0},{"$f":"G208-I208","v":0},null,0,{"$f":"IF(AND(C208>=Pensum1_Start,C208<=Pensum1_Ende),1,0)*J208","v":0},null,0,{"$f":"IF(ISERROR(VLOOKUP(C208,tabFeiertage,2,FALSE)),\"\",VLOOKUP(C208,tabFeiertage,2,FALSE))","v":""},{"$f":"INDIRECT(\"RAZ_\"& TEXT(WEEKDAY(C208,2),0) & \"WT\")*J208","v":0},{"$f":"INDIRECT(\"RAZ_\"& TEXT(WEEKDAY(C208,2),0) & \"WT\")*J208*IF(M208>0,1,0)","v":0},"SFZ",{"$f":"IF(UPPER(S208)=\"SZ\",1,0)*J208*M208","v":0},{"$f":"IF(UPPER(S208)=\"SFZ\",1,0)*J208*IF(M208>0,1,0)","v":0},{"$f":"R208*IF(S208=\"SFZ\",FaktorFZ,IF(S208=\"SZ\",FaktorSZ,IF(S208=\"KT\",0,1)))","v":0}]
[null,null,"2024-02-18","2024-02-18",2,7,0,1,0,0,null,0,0,null,0,"",0,0,"SFZ",0,0,0]
[null,null,"2024-02-19","2024-02-19",2,8,1,0,0,1,null,1,1,null,1,"",0,0,"SZ",1,0,0]
[null,null,"2024-02-20","2024-02-20",2,8,1,0,0,1,null,1,1,null,1,"",0,0,"SZ",1,0,0]
[null,null,"2024-02-21","2024-02-21",2,8,1,0,0,1,null,1,1,null,1,"",0,0,"SZ",1,0,0]
[null,null,"2024-02-22","2024-02-22",2,8,1,0,0,1,null,1,1,null,1,"",0,0,"SZ",1,0,0]
[null,null,"2024-02-23","2024-02-23",2,8,1,0,0,1,null,1,1,null,1,"",0,0,"SZ",1,0,0]
[null,null,"2024-02-24","2024-02-24",2,8,0,1,0,0,null,0,0,null,0,"",0,0,"SZ",0,0,0]
[null,null,"2024-02-25","2024-02-25",2,8,0,1,0,0,null,0,0,null,0,"",0,0,"SZ",0,0,0]
[null,null,"2024-02-26","2024-02-26",2,9,1,0,0,1,null,1,1,null,1,"",0,0,"SZ",1,0,0]
[null,null,"2024-02-27","2024-02-27",2,9,1,0,0,1,null,1,1,null,1,"",0,0,"SZ",1,0,0]
[null,null,"2024-02-28",{"$f":"C219","v":"2024-02-28"},{"$f":"MONTH(C219)","v":2},{"$f":"WEEKNUM(C219,2)","v":9},{"$f":"IF(WEEKDAY(C219,2)>5,0,1)","v":1},{"$f":"IF(WEEKDAY(C219,2)>5,1,0)","v":0},{"$f":"IF(ISERROR(VLOOKUP(C219,tabFeiertage,2,FALSE)),0,VLOOKUP(C219,tabFeiertage,3,FALSE))*G219","v":0},{"$f":"G219-I219","v":1},null,1,{"$f":"IF(AND(C219>=Pensum1_Start,C219<=Pensum1_Ende),1,0)*J219","v":1},null,1,{"$f":"IF(ISERROR(VLOOKUP(C219,tabFeiertage,2,FALSE)),\"\",VLOOKUP(C219,tabFeiertage,2,FALSE))","v":""},{"$f":"INDIRECT(\"RAZ_\"& TEXT(WEEKDAY(C219,2),0) & \"WT\")*J219","v":0},{"$f":"INDIRECT(\"RAZ_\"& TEXT(WEEKDAY(C219,2),0) & \"WT\")*J219*IF(M219>0,1,0)","v":0},"SZ",{"$f":"IF(UPPER(S219)=\"SZ\",1,0)*J219*M219","v":1},{"$f":"IF(UPPER(S219)=\"SFZ\",1,0)*J219*IF(M219>0,1,0)","v":0},{"$f":"R219*IF(S219=\"SFZ\",FaktorFZ,IF(S219=\"SZ\",FaktorSZ,IF(S219=\"KT\",0,1)))","v":0}]
[null,null,"2024-02-29","2024-02-29",2,9,1,0,0,1,null,1,1,null,1,"",0,0,"SZ",1,0,0]
[null,{"$f":"C221","v":"2024-03-01"},"2024-03-01","2024-03-01",3,9,1,0,0,1,null,1,1,null,1,"",0,0,"SZ",1,0,0]
[null,null,"2024-03-02","2024-03-02",3,9,0,1,0,0,null,0,0,null,0,"",0,0,"SZ",0,0,0]
[null,null,"2024-03-03","2024-03-03",3,9,0,1,0,0,null,0,0,null,0,"",0,0,"SZ",0,0,0]
[null,null,"2024-03-04","2024-03-04",3,10,1,0,0,1,null,1,1,null,1,"",0,0,"SZ",1,0,0]
[null,null,"2024-03-05","2024-03-05",3,10,1,0,0,1,null,{"$f":"J225","v":1},1,null,{"$f":"M225","v":1},"",0,0,"SZ",1,0,0]
[null,null,"2024-03-06","2024-03-06",3,10,1,0,0,1,null,1,1,null,1,"",0,0,"SZ",1,0,0]
[null,null,"2024-03-07","2024-03-07",3,10,1,0,0,1,null,1,1,null,1,"",0,0,"SZ",1,0,0]
[null,null,"2024-03-08","2024-03-08",3,10,1,0,0,1,null,1,1,null,1,"",0,0,"SZ",1,0,0]
[null,null,"2024-03-09","2024-03-09",3,10,0,1,0,0,null,0,0,null,0,"",0,0,"SZ",0,0,0]
[null,null,"2024-03-10","2024-03-10",3,10,0,1,0,0,null,0,0,null,0,"",0,0,"SZ",0,0,0]
[null,null,"2024-03-11","2024-03-11",3,11,1,0,0,1,null,1,1,null,1,"",0,0,"SZ",1,0,0]
[null,null,"2024-03-12","2024-03-12",3,11,1,0,0,1,null,1,1,null,1,"",0,0,"SZ",1,0,0]
[null,null,"2024-03-13","2024-03-13",3,11,1,0,0,1,null,1,1,null,1,"",0,0,"SZ",1,0,0]
[null,null,"2024-03-14","2024-03-14",3,11,1,0,0,1,null,1,1,null,1,"",0,0,"SZ",1,0,0]
[null,null,"2024-03-15","2024-03-15",3,11,1,0,0,1,null,1,1,null,1,"",0,0,"SZ",1,0,0]
[null,null,"2024-03-16","2024-03-16",3,11,0,1,0,0,null,0,0,null,0,"",0,0,"SZ",0,0,0]
[null,null,"2024-03-17","2024-03-17",3,11,0,1,0,0,null,0,0,null,0,"",0,0,"SZ",0,0,0]
[null,null,"2024-03-18","2024-03-18",3,12,1,0,0,1,null,1,1,null,1,"",0,0,"SZ",1,0,0]
[null,null,"2024-03-19","2024-03-19",3,12,1,0,0,1,null,1,1,null,1,"",0,0,"SZ",1,0,0]
[null,null,"2024-03-20","2024-03-20",3,12,1,0,0,1,null,1,1,null,1,"",0,0,"SZ",1,0,0]
[null,null,"2024-03-21","2024-03-21",3,12,1,0,0,1,null,1,1,null,1,"",0,0,"SZ",1,0,0]
[null,null,"2024-03-22","2024-03-22",3,12,1,0,0,1,null,1,1,null,1,"",0,0,"SZ",1,0,0]
[null,null,"2024-03-23","2024-03-23",3,12,0,1,0,0,null,0,0,null,0,"",0,0,"SZ",0,0,0]
[null,null,"2024-03-24","2024-03-24",3,12,0,1,0,0,null,0,0,null,0,"",0,0,"SZ",0,0,0]
[null,null,"2024-03-25","2024-03-25",3,13,1,0,0,1,null,1,1,null,1,"",0,0,"SZ",1,0,0]
[null,null,"2024-03-26","2024-03-26",3,13,1,0,0,1,null,1,1,null,1,"",0,0,"SZ",1,0,0]
[null,null,"2024-03-27","2024-03-27",3,13,1,0,0,1,null,1,1,null,1,"",0,0,"SZ",1,0,0]
[null,null,"2024-03-28","2024-03-28",3,13,1,0,0,1,null,1,1,null,1,"",0,0,"SZ",1,0,0]
[null,null,"2024-03-29","2024-03-29",3,13,1,0,1,0,null,0,0,null,0,"Karfreitag",0,0,"SFZ",0,0,0]
[null,null,"2024-03-30","2024-03-30",3,13,0,1,0,0,null,0,0,null,0,"",0,0,"SFZ",0,0,{"$f":"R250*IF(S250=\"SFZ\",FaktorFZ,IF(S250=\"SZ\",FaktorSZ,IF(S250=\"KT\",0,1)))","v":0}]
[null,null,"2024-03-31","2024-03-31",3,13,0,1,0,0,null,0,0,null,0,"",0,0,"SFZ",0,0,0]
[null,{"$f":"C252","v":"2024-04-01"},"2024-04-01","2024-04-01",4,14,1,0,1,0,null,0,0,null,0,"Ostermontag",0,0,"SFZ",0,0,0]
[null,null,"2024-04-02","2024-04-02",4,14,1,0,0,1,null,1,1,null,1,"",0,0,"SFZ",0,1,0]
[null,null,"2024-04-03","2024-04-03",4,14,1,0,0,1,null,1,1,null,1,"",0,0,"SFZ",0,1,0]
[null,null,"2024-04-04","2024-04-04",4,14,1,0,0,1,null,1,1,null,1,"",0,0,"SFZ",0,1,0]
[null,null,"2024-04-05","2024-04-05",4,14,1,0,0,1,null,1,1,null,1,"",0,0,"SFZ",0,1,0]
[null,null,"2024-04-06","2024-04-06",4,14,0,1,0,0,null,0,0,null,0,"",0,0,"SFZ",0,0,0]
[null,null,"2024-04-07","2024-04-07",4,14,0,1,0,0,null,0,0,null,0,"",0,0,"SFZ",0,0,0]
[null,null,"2024-04-08","2024-04-08",4,15,1,0,0,1,null,1,1,null,1,"",0,0,"SFZ",0,1,0]
[null,null,"2024-04-09","2024-04-09",4,15,1,0,0,1,null,1,1,null,1,"",0,0,"SFZ",0,1,0]
[null,null,"2024-04-10","2024-04-10",4,15,1,0,0,1,null,1,1,null,1,"",0,0,"SFZ",0,1,0]
[null,null,"2024-04-11","2024-04-11",4,15,1,0,0,1,null,1,1,null,1,"",0,0,"SFZ",0,1,0]
[null,null,"2024-04-12","2024-04-12",4,15,1,0,0,1,null,1,1,null,1,"",0,0,"SFZ",0,1,0]
[null,null,"2024-04-13","2024-04-13",4,15,0,1,0,0,null,0,0,null,0,"",0,0,"SFZ",0,0,0]
[null,null,"2024-04-14","2024-04-14",4,15,0,1,0,0,null,0,0,null,0,"",0,0,"SFZ",0,0,0]
[null,null,{"$f":"C265+1","v":"2024-04-15"},"2024-04-15",4,16,1,0,0,1,null,1,1,null,1,"",0,0,"SZ",1,0,0]
[null,null,"2024-04-16","2024-04-16",4,16,1,0,0,1,null,1,1,null,1,"",0,0,"SZ",1,0,0]
[null,null,"2024-04-17","2024-04-17",4,16,1,0,0,1,null,1,1,null,1,"",0,0,"SZ",1,0,0]
[null,null,"2024-04-18","2024-04-18",4,16,1,0,0,1,null,1,1,null,1,"",0,0,"SZ",1,0,0]
[null,null,"2024-04-19","2024-04-19",4,16,1,0,0,1,null,1,1,null,1,"",0,0,"SZ",1,0,0]
[null,null,"2024-04-20","2024-04-20",4,16,0,1,0,0,null,0,0,null,0,"",0,0,"SZ",0,0,0]
[null,null,"2024-04-21",{"$f":"C272","v":"2024-04-21"},{"$f":"MONTH(C272)","v":4},{"$f":"WEEKNUM(C272,2)","v":16},{"$f":"IF(WEEKDAY(C272,2)>5,0,1)","v":0},{"$f":"IF(WEEKDAY(C272,2)>5,1,0)","v":1},{"$f":"IF(ISERROR(VLOOKUP(C272,tabFeiertage,2,FALSE)),0,VLOOKUP(C272,tabFeiertage,3,FALSE))*G272","v":0},{"$f":"G272-I272","v":0},null,0,{"$f":"IF(AND(C272>=Pensum1_Start,C272<=Pensum1_Ende),1,0)*J272","v":0},null,0,{"$f":"IF(ISERROR(VLOOKUP(C272,tabFeiertage,2,FALSE)),\"\",VLOOKUP(C272,tabFeiertage,2,FALSE))","v":""},{"$f":"INDIRECT(\"RAZ_\"& TEXT(WEEKDAY(C272,2),0) & \"WT\")*J272","v":0},{"$f":"INDIRECT(\"RAZ_\"& TEXT(WEEKDAY(C272,2),0) & \"WT\")*J272*IF(M272>0,1,0)","v":0},"SZ",{"$f":"IF(UPPER(S272)=\"SZ\",1,0)*J272*M272","v":0},{"$f":"IF(UPPER(S272)=\"SFZ\",1,0)*J272*IF(M272>0,1,0)","v":0},{"$f":"R272*IF(S272=\"SFZ\",FaktorFZ,IF(S272=\"SZ\",FaktorSZ,IF(S272=\"KT\",0,1)))","v":0}]
[null,null,"2024-04-22","2024-04-22",4,17,1,0,0,1,null,1,1,null,1,"",0,0,"SZ",1,0,0]
[null,null,"2024-04-23","2024-04-23",4,17,1,0,0,1,null,1,1,null,1,"",0,0,"SZ",1,0,0]
[null,null,"2024-04-24","2024-04-24",4,17,1,0,0,1,null,1,1,null,1,"",0,0,"SZ",1,0,0]
[null,null,"2024-04-25","2024-04-25",4,17,1,0,0,1,null,1,1,null,1,"",0,0,"SZ",1,0,0]
[null,null,"2024-04-26","2024-04-26",4,17,1,0,0,1,null,1,1,null,1,"",0,0,"SZ",1,0,0]
[null,null,"2024-04-27","2024-04-27",4,17,0,1,0,0,null,0,0,null,0,"",0,0,"SZ",0,0,0]
[null,null,"2024-04-28","2024-04-28",4,17,0,1,0,0,null,0,0,null,0,"",0,0,"SZ",0,0,0]
[null,null,"2024-04-29","2024-04-29",4,18,1,0,0,1,null,1,1,null,1,"",0,0,"SZ",1,0,0]
[null,null,"2024-04-30","2024-04-30",4,18,1,0,0,1,null,1,1,null,1,"",0,0,"SZ",1,0,0]
[null,{"$f":"C282","v":"2024-05-01"},"2024-05-01","2024-05-01",5,18,1,0,0,1,null,1,1,null,1,"",0,0,"SZ",1,0,0]
[null,null,"2024-05-02","2024-05-02",5,18,1,0,0,1,null,1,1,null,1,"",0,0,"SZ",1,0,0]
[null,null,"2024-05-03","2024-05-03",5,18,1,0,0,1,null,1,1,null,1,"",0,0,"SZ",1,0,0]
[null,null,"2024-05-04","2024-05-04",5,18,0,1,0,0,null,0,0,null,0,"",0,0,"SZ",0,0,0]
[null,null,"2024-05-05","2024-05-05",5,18,0,1,0,0,null,0,0,null,0,"",0,0,"SZ",0,0,0]
[null,null,"2024-05-06","2024-05-06",5,19,1,0,0,1,null,1,1,null,1,"",0,0,"SZ",1,0,0]
[null,null,"2024-05-07","2024-05-07",5,19,1,0,0,1,null,1,1,null,1,"",0,0,"SZ",1,0,0]
[null,null,"2024-05-08","2024-05-08",5,19,1,0,0,1,null,{"$f":"J289","v":1},1,null,{"$f":"M289","v":1},"",0,0,"SZ",1,0,0]
[null,null,"2024-05-09","2024-05-09",5,19,1,0,1,0,null,0,0,null,0,"Auffahrt",0,0,"SZ",0,0,0]
[null,null,"2024-05-10","2024-05-10",5,19,1,0,0,1,null,1,1,null,1,"",0,0,"SZ",1,0,0]
[null,null,"2024-05-11","2024-05-11",5,19,0,1,0,0,null,0,0,null,0,"",0,0,"SZ",0,0,0]
[null,null,"2024-05-12","2024-05-12",5,19,0,1,0,0,null,0,0,null,0,"",0,0,"SZ",0,0,0]
[null,null,"2024-05-13","2024-05-13",5,20,1,0,0,1,null,1,1,null,1,"",0,0,"SZ",1,0,0]
[null,null,"2024-05-14","2024-05-14",5,20,1,0,0,1,null,1,1,null,1,"",0,0,"SZ",1,0,0]
[null,null,"2024-05-15","2024-05-15",5,20,1,0,0,1,null,1,1,null,1,"",0,0,"SZ",1,0,0]
[null,null,"2024-05-16","2024-05-16",5,20,1,0,0,1,null,1,1,null,1,"",0,0,"SZ",1,0,0]
[null,null,"2024-05-17","2024-05-17",5,20,1,0,0,1,null,1,1,null,1,"",0,0,"SZ",1,0,0]
[null,null,"2024-05-18","2024-05-18",5,20,0,1,0,0,null,0,0,null,0,"",0,0,"SZ",0,0,0]
[null,null,"2024-05-19","2024-05-19",5,20,0,1,0,0,null,0,0,null,0,"",0,0,"SZ",0,0,0]
[null,null,"2024-05-20","2024-05-20",5,21,1,0,1,0,null,0,0,null,0,"Pfingstmontag",0,0,"SZ",0,0,0]
[null,null,"2024-05-21","2024-05-21",5,21,1,0,0,1,null,1,1,null,1,"",0,0,"SZ",1,0,0]
[null,null,"2024-05-22","2024-05-22",5,21,1,0,0,1,null,1,1,null,1,"",0,0,"SZ",1,0,0]
[null,null,"2024-05-23","2024-05-23",5,21,1,0,0,1,null,1,1,null,1,"",0,0,"SZ",1,0,0]
[null,null,"2024-05-24","2024-05-24",5,21,1,0,0,1,null,1,1,null,1,"",0,0,"SZ",1,0,0]
[null,null,"2024-05-25","2024-05-25",5,21,0,1,0,0,null,0,0,null,0,"",0,0,"SZ",0,0,0]
[null,null,"2024-05-26","2024-05-26",5,21,0,1,0,0,null,0,0,null,0,"",0,0,"SZ",0,0,0]
[null,null,"2024-05-27","2024-05-27",5,22,1,0,0,1,null,1,1,null,1,"",0,0,"SZ",1,0,0]
[null,null,"2024-05-28","2024-05-28",5,22,1,0,0,1,null,1,1,null,1,"",0,0,"SZ",1,0,0]
[null,null,"2024-05-29","2024-05-29",5,22,1,0,0,1,null,1,1,null,1,"",0,0,"SZ",1,0,0]
[null,null,"2024-05-30","2024-05-30",5,22,1,0,1,0,null,0,0,null,0,"Fronleichnam",0,0,"SZ",0,0,0]
[null,null,"2024-05-31","2024-05-31",5,22,1,0,0,1,null,1,1,null,1,"",0,0,"SZ",1,0,0]
[null,{"$f":"C313","v":"2024-06-01"},"2024-06-01","2024-06-01",6,22,0,1,0,0,null,0,0,null,0,"",0,0,"SZ",0,0,0]
[null,null,"2024-06-02","2024-06-02",6,22,0,1,0,0,null,0,0,null,0,"",0,0,"SZ",0,0,0]
[null,null,"2024-06-03","2024-06-03",6,23,1,0,0,1,null,1,1,null,1,"",0,0,"SZ",1,0,0]
[null,null,"2024-06-04","2024-06-04",6,23,1,0,0,1,null,1,1,null,1,"",0,0,"SZ",1,0,0]
[null,null,"2024-06-05","2024-06-05",6,23,1,0,0,1,null,1,1,null,1,"",0,0,"SZ",1,0,0]
[null,null,"2024-06-06","2024-06-06",6,23,1,0,0,1,null,1,1,null,1,"",0,0,"SZ",1,0,0]
[null,null,"2024-06-07","2024-06-07",6,23,1,0,0,1,null,1,1,null,1,"",0,0,"SZ",1,0,0]
[null,null,"2024-06-08","2024-06-08",6,23,0,1,0,0,null,0,0,null,0,"",0,0,"SZ",0,0,0]
[null,null,"2024-06-09","2024-06-09",6,23,0,1,0,0,null,0,0,null,0,"",0,0,"SZ",0,0,0]
[null,null,"2024-06-10","2024-06-10",6,24,1,0,0,1,null,1,1,null,1,"",0,0,"SZ",1,0,0]
[null,null,"2024-06-11","2024-06-11",6,24,1,0,0,1,null,1,1,null,1,"",0,0,"SZ",1,0,0]
[null,null,"2024-06-12","2024-06-12",6,24,1,0,0,1,null,1,1,null,1,"",0,0,"SZ",1,0,0]
[null,null,"2024-06-13","2024-06-13",6,24,1,0,0,1,null,1,1,null,1,"",0,0,"SZ",1,0,0]
[null,null,"2024-06-14","2024-06-14",6,24,1,0,0,1,null,1,1,null,1,"",0,0,"SZ",1,0,0]
[null,null,"2024-06-15","2024-06-15",6,24,0,1,0,0,null,0,0,null,0,"",0,0,"SZ",0,0,0]
[null,null,"2024-06-16","2024-06-16",6,24,0,1,0,0,null,0,0,null,0,"",0,0,"SZ",0,0,0]
[null,null,"2024-06-17","2024-06-17",6,25,1,0,0,1,null,1,1,null,1,"",0,0,"SZ",1,0,0]
[null,null,{"$f":"C329+1","v":"2024-06-18"},"2024-06-18",6,25,1,0,0,1,null,1,1,null,1,"",0,0,"SZ",1,0,0]
[null,null,"2024-06-19","2024-06-19",6,25,1,0,0,1,null,1,1,null,1,"",0,0,"SZ",1,0,0]
[null,null,"2024-06-20","2024-06-20",6,25,1,0,0,1,null,1,1,null,1,"",0,0,"SZ",1,0,0]
[null,null,"2024-06-21","2024-06-21",6,25,1,0,0,1,null,1,1,null,1,"",0,0,"SZ",1,0,0]
[null,null,"2024-06-22","2024-06-22",6,25,0,1,0,0,null,0,0,null,0,"",0,0,"SZ",0,0,0]
[null,null,"2024-06-23","2024-06-23",6,25,0,1,0,0,null,0,0,null,0,"",0,0,"SZ",0,0,0]
[null,null,"2024-06-24",{"$f":"C336","v":"2024-06-24"},{"$f":"MONTH(C336)","v":6},{"$f":"WEEKNUM(C336,2)","v":26},{"$f":"IF(WEEKDAY(C336,2)>5,0,1)","v":1},{"$f":"IF(WEEKDAY(C336,2)>5,1,0)","v":0},{"$f":"IF(ISERROR(VLOOKUP(C336,tabFeiertage,2,FALSE)),0,VLOOKUP(C336,tabFeiertage,3,FALSE))*G336","v":0},{"$f":"G336-I336","v":1},null,1,{"$f":"IF(AND(C336>=Pensum1_Start,C336<=Pensum1_Ende),1,0)*J336","v":1},null,1,{"$f":"IF(ISERROR(VLOOKUP(C336,tabFeiertage,2,FALSE)),\"\",VLOOKUP(C336,tabFeiertage,2,FALSE))","v":""},{"$f":"INDIRECT(\"RAZ_\"& TEXT(WEEKDAY(C336,2),0) & \"WT\")*J336","v":0},{"$f":"INDIRECT(\"RAZ_\"& TEXT(WEEKDAY(C336,2),0) & \"WT\")*J336*IF(M336>0,1,0)","v":0},"SZ",{"$f":"IF(UPPER(S336)=\"SZ\",1,0)*J336*M336","v":1},{"$f":"IF(UPPER(S336)=\"SFZ\",1,0)*J336*IF(M336>0,1,0)","v":0},{"$f":"R336*IF(S336=\"SFZ\",FaktorFZ,IF(S336=\"SZ\",FaktorSZ,IF(S336=\"KT\",0,1)))","v":0}]
[null,null,"2024-06-25","2024-06-25",6,26,1,0,0,1,null,1,1,null,1,"",0,0,"SZ",1,0,0]
[null,null,"2024-06-26","2024-06-26",6,26,1,0,0,1,null,1,1,null,1,"",0,0,"SZ",1,0,0]
[null,null,"2024-06-27","2024-06-27",6,26,1,0,0,1,null,1,1,null,1,"",0,0,"SZ",1,0,0]
[null,null,"2024-06-28","2024-06-28",6,26,1,0,0,1,null,1,1,null,1,"",0,0,"SZ",1,0,0]
[null,null,"2024-06-29","2024-06-29",6,26,0,1,0,0,null,0,0,null,0,"",0,0,"SZ",0,0,0]
[null,null,"2024-06-30","2024-06-30",6,26,0,1,0,0,null,0,0,null,0,"",0,0,"SZ",0,0,0]
[null,{"$f":"C343","v":"2024-07-01"},"2024-07-01","2024-07-01",7,27,1,0,0,1,null,1,1,null,1,"",0,0,"SZ",1,0,0]
[null,null,"2024-07-02","2024-07-02",7,27,1,0,0,1,null,1,1,null,1,"",0,0,"SZ",1,0,0]
[null,null,"2024-07-03","2024-07-03",7,27,1,0,0,1,null,1,1,null,1,"",0,0,"SZ",1,0,0]
[null,null,"2024-07-04","2024-07-04",7,27,1,0,0,1,null,1,1,null,1,"",0,0,"SZ",1,0,0]
[null,null,"2024-07-05","2024-07-05",7,27,1,0,0,1,null,1,1,null,1,"",0,0,"SZ",1,0,0]
[null,null,"2024-07-06","2024-07-06",7,27,0,1,0,0,null,0,0,null,0,"",0,0,"SFZ",0,0,0]
[null,null,"2024-07-07","2024-07-07",7,27,0,1,0,0,null,0,0,null,0,"",0,0,"SFZ",0,0,0]
[null,null,"2024-07-08","2024-07-08",7,28,1,0,0,1,null,1,1,null,1,"",0,0,"SFZ",0,1,0]
[null,null,"2024-07-09","2024-07-09",7,28,1,0,0,1,null,1,1,null,1,"",0,0,"SFZ",0,1,0]
[null,null,"2024-07-10","2024-07-10",7,28,1,0,0,1,null,1,1,null,1,"",0,0,"SFZ",0,1,0]
[null,null,"2024-07-11","2024-07-11",7,28,1,0,0,1,null,{"$f":"J353","v":1},1,null,{"$f":"M353","v":1},"",0,0,"SFZ",0,1,0]
[null,null,"2024-07-12","2024-07-12",7,28,1,0,0,1,null,1,1,null,1,"",0,0,"SFZ",0,1,0]
[null,null,"2024-07-13","2024-07-13",7,28,0,1,0,0,null,0,0,null,0,"",0,0,"SFZ",0,0,0]
[null,null,"2024-07-14","2024-07-14",7,28,0,1,0,0,null,0,0,null,0,"",0,0,"SFZ",0,0,0]
[null,null,"2024-07-15","2024-07-15",7,29,1,0,0,1,null,1,1,null,1,"",0,0,"SFZ",0,1,0]
[null,null,"2024-07-16","2024-07-16",7,29,1,0,0,1,null,1,1,null,1,"",0,0,"SFZ",0,1,0]
[null,null,"2024-07-17","2024-07-17",7,29,1,0,0,1,null,1,1,null,1,"",0,0,"SFZ",0,1,0]
[null,null,"2024-07-18","2024-07-18",7,29,1,0,0,1,null,1,1,null,1,"",0,0,"SFZ",0,1,0]
[null,null,"2024-07-19","2024-07-19",7,29,1,0,0,1,null,1,1,null,1,"",0,0,"SFZ",0,1,0]
[null,null,"2024-07-20","2024-07-20",7,29,0,1,0,0,null,0,0,null,0,"",0,0,"SFZ",0,0,0]
[null,null,"2024-07-21","2024-07-21",7,29,0,1,0,0,null,0,0,null,0,"",0,0,"SFZ",0,0,0]
[null,null,"2024-07-22","2024-07-22",7,30,1,0,0,1,null,1,1,null,1,"",0,0,"SFZ",0,1,0]
[null,null,"2024-07-23","2024-07-23",7,30,1,0,0,1,null,1,1,null,1,"",0,0,"SFZ",0,1,0]
[null,null,"2024-07-24","2024-07-24",7,30,1,0,0,1,null,1,1,null,1,"",0,0,"SFZ",0,1,0]
[null,null,"2024-07-25","2024-07-25",7,30,1,0,0,1,null,1,1,null,1,"",0,0,"SFZ",0,1,0]
[null,null,"2024-07-26","2024-07-26",7,30,1,0,0,1,null,1,1,null,1,"",0,0,"SFZ",0,1,0]
[null,null,"2024-07-27","2024-07-27",7,30,0,1,0,0,null,0,0,null,0,"",0,0,"SFZ",0,0,0]
[null,null,"2024-07-28",{"$f":"C370","v":"2024-07-28"},7,30,0,1,0,0,null,0,0,null,0,"",0,0,"SFZ",0,0,0]
[null,null,"2024-07-29","2024-07-29",7,31,1,0,0,1,null,1,1,null,1,"",0,0,"SFZ",0,1,0]
[null,null,"2024-07-30",{"$f":"C372","v":"2024-07-30"},{"$f":"MONTH(C372)","v":7},{"$f":"WEEKNUM(C372,2)","v":31},{"$f":"IF(WEEKDAY(C372,2)>5,0,1)","v":1},{"$f":"IF(WEEKDAY(C372,2)>5,1,0)","v":0},{"$f":"IF(ISERROR(VLOOKUP(C372,tabFeiertage,2,FALSE)),0,VLOOKUP(C372,tabFeiertage,3,FALSE))*G372","v":0},{"$f":"G372-I372","v":1},null,{"$f":"J372","v":1},{"$f":"IF(AND(C372>=Pensum1_Start,C372<=Pensum1_Ende),1,0)*J372","v":1},null,{"$f":"M372","v":1},{"$f":"IF(ISERROR(VLOOKUP(C372,tabFeiertage,2,FALSE)),\"\",VLOOKUP(C372,tabFeiertage,2,FALSE))","v":""},{"$f":"INDIRECT(\"RAZ_\"& TEXT(WEEKDAY(C372,2),0) & \"WT\")*J372","v":0},{"$f":"INDIRECT(\"RAZ_\"& TEXT(WEEKDAY(C372,2),0) & \"WT\")*J372*IF(M372>0,1,0)","v":0},"SFZ",{"$f":"IF(UPPER(S372)=\"SZ\",1,0)*J372*M372","v":0},{"$f":"IF(UPPER(S372)=\"SFZ\",1,0)*J372*IF(M372>0,1,0)","v":1},{"$f":"R372*IF(S372=\"SFZ\",FaktorFZ,IF(S372=\"SZ\",FaktorSZ,IF(S372=\"KT\",0,1)))","v":0}]
[null,null,"2024-07-31","2024-07-31",7,31,1,0,0,1,null,1,1,null,1,"",0,0,"SFZ",0,1,0]

{"sheet":"Feiertage","index":6,"n_rows":27,"n_cols":9,"rows_kept":27,"cut":false,"hidden":false,"merged":[]}
[null,{"$f":"\"Feiertage \" &TEXT(Jahresbezeichnung,\"\")","v":"Feiertage 2023/2024"}]
[]
[]
[]
[null,"Datum","Bezeichnung","Tagesanteil ",{"$f":"SUM(E6:E27)","v":0},{"$f":"SUM(F6:F27)","v":0}]
[null,{"$f":"DATE(StartJahr,8,1)","v":"2023-08-01"},"Nationalfeiertag",1,{"$f":"INDIRECT(\"RAZ_\"& TEXT(WEEKDAY(B6,2),0) & \"WT\")*D6","v":0},{"$f":"IF(E6=0,0,D6)","v":0}]
[null,{"$f":"DATE(StartJahr,8,15)","v":"2023-08-15"},"Maria Himmelfahrt",1,{"$f":"INDIRECT(\"RAZ_\"& TEXT(WEEKDAY(B7,2),0) & \"WT\")*D7","v":0},{"$f":"IF(E7=0,0,D7)","v":0}]
[null,{"$f":"DATE(StartJahr,11,1)","v":"2023-11-01"},"Allerheiligen",1,0,0]
[null,{"$f":"DATE(StartJahr,12,8)","v":"2023-12-08"},"Maria Empfängnis",1,{"$f":"INDIRECT(\"RAZ_\"& TEXT(WEEKDAY(B9,2),0) & \"WT\")*D9","v":0},{"$f":"IF(E9=0,0,D9)","v":0}]
[null,{"$f":"DATE(StartJahr,12,24)","v":"2023-12-24"},"Heiligabend",0.5,0,0]
[null,{"$f":"DATE(StartJahr,12,25)","v":"2023-12-25"},"Weihnachtstag",1,0,0]
[null,{"$f":"DATE(StartJahr,12,26)","v":"2023-12-26"},"Stephanstag",1,0,0]
[null,{"$f":"DATE(StartJahr,12,31)","v":"2023-12-31"},"Silvester",0.5,0,0]
[null,{"$f":"DATE(EndJahr,1,1)","v":"2024-01-01"},"Neujahr",1,0,0]
[null,{"$f":"DATE(EndJahr,1,2)","v":"2024-01-02"},"Berchtoldstag",1,0,0]
[null,{"$f":"DOLLAR((DAY(MINUTE(EndJahr/38)/2+55)&\".4.\"&EndJahr)/7,)*7-8","v":"2024-03-29"},"Karfreitag",1,0,0]
[null,{"$f":"B16+3","v":"2024-04-01"},"Ostermontag",1,0,0]
[null,{"$f":"B17+38","v":"2024-05-09"},"Auffahrt",1,0,0]
[null,{"$f":"B18+11","v":"2024-05-20"},"Pfingstmontag",1,0,0]
[null,{"$f":"B19+10","v":"2024-05-30"},"Fronleichnam",1,0,0]
[]
[null,null,"Weiterer Feiertag",null,{"$f":"INDIRECT(\"RAZ_\"& TEXT(WEEKDAY(B22,2),0) & \"WT\")*D22","v":0},{"$f":"IF(E22=0,0,D22)","v":0},{"$f":"DCOUNT($B$5:$D$27,\"Datum\",Filter!A21:A22)","v":0},null,{"$f":"IF(G22>1,\"Achtung: dieses Datum ist bereits belegt\",\"\")","v":""}]
[null,null,"Weiterer Feiertag",null,0,0,{"$f":"DCOUNT($B$5:$D$27,\"Datum\",Filter!B21:B22)","v":0},null,{"$f":"IF(G23>1,\"Achtung: dieses Datum ist bereits belegt\",\"\")","v":""}]
[null,null,"Weiterer Feiertag",null,0,0,{"$f":"DCOUNT($B$5:$D$27,\"Datum\",Filter!C21:C22)","v":0},null,{"$f":"IF(G24>1,\"Achtung: dieses Datum ist bereits belegt\",\"\")","v":""}]
[null,null,"Weiterer Feiertag",null,0,0,{"$f":"DCOUNT($B$5:$D$27,\"Datum\",Filter!D21:D22)","v":0},null,{"$f":"IF(G25>1,\"Achtung: dieses Datum ist bereits belegt\",\"\")","v":""}]
[null,null,"Weiterer Feiertag",null,0,0,{"$f":"DCOUNT($B$5:$D$27,\"Datum\",Filter!E21:E22)","v":0},null,{"$f":"IF(G26>1,\"Achtung: dieses Datum ist bereits belegt\",\"\")","v":""}]
[null,null,"Weiterer Feiertag",null,0,0,{"$f":"DCOUNT($B$5:$D$27,\"Datum\",Filter!F21:F22)","v":0},null,{"$f":"IF(G27>1,\"Achtung: das Datum ist bereits belegt\",\"\")","v":""}]

{"sheet":"Filter","index":7,"n_rows":22,"n_cols":12,"rows_kept":22,"cut":false,"hidden":true,"merged":[]}
[]
[]
[]
[]
["Abwesend","Abwesend","Abwesend","Abwesend","Abwesend","Abwesend"]
[{"$f":"\"=FE\"","v":"=FE"},{"$f":"\"=KR\"","v":"=KR"},{"$f":"\"=MI\"","v":"=MI"},{"$f":"\"=UN\"","v":"=UN"},{"$f":"\"=UR\"","v":"=UR"},{"$f":"\"=UU\"","v":"=UU"}]
[]
[]
[]
["Typ","Typ","Typ"]
[{"$f":"\"=SFZ\"","v":"=SFZ"},{"$f":"\"=SZ\"","v":"=SZ"},{"$f":"\"=KT\"","v":"=KT"}]
[]
[]
[]
[]
["M","M","M","M","M","M","M","M","M","M","M","M"]
[8,9,10,11,12,1,2,3,4,5,6,7]
[]
[]
[]
["Datum","Datum","Datum","Datum","Datum","Datum"]
[{"$f":"Feiertage!B22","v":"00:00:00"},{"$f":"Feiertage!B23","v":"00:00:00"},{"$f":"Feiertage!B24","v":"00:00:00"},{"$f":"Feiertage!B25","v":"00:00:00"},{"$f":"Feiertage!B26","v":"00:00:00"},{"$f":"Feiertage!B27","v":"00:00:00"}]

{"sheet":"Listen","index":8,"n_rows":19,"n_cols":3,"rows_kept":19,"cut":false,"hidden":true,"merged":[]}
[null,"Listen"]
[]
[null,"Liste_TagesTyp"]
[null,"SFZ","Schulferienzeit"]
[null,"SZ","Schulzeit"]
[]
[]
[]
[null,"Liste_Abwesenheiten"]
[null,"KR","Krankheit"]
[null,"MI","Militär"]
[null,"UN","Unfall"]
[null,"UR","Urlaub"]
[null,"UU","Urlaub unbesoldet"]
[]
[]
[null,"Liste_Feiertagsanteil"]
[null,1]
[null,0.5]

{"sheet":"Anleitung","index":9,"n_rows":40,"n_cols":8,"rows_kept":40,"cut":false,"hidden":false,"merged":[[27,1,27,7],[36,2,37,7],[31,3,31,7],[29,3,29,7],[28,3,28,7],[33,3,33,7],[32,3,32,7],[34,3,34,7],[30,3,30,7],[26,1,26,7],[1,1,1,8],[4,1,6,7],[7,1,9,7],[19,1,20,7],[23,1,23,7],[10,1,12,2],[24,1,24,7],[25,1,25,7]]}
[null,"Anleitung"]
[null,"Allgemeine Information"]
[]
[null,"Berufsauftrag als Grundlage "]
[null,"Der Berufsauftrag bildet die Grundlage für die Ausgestaltung der Arbeit einer Lehrperson. Er be-schreibt die unterschiedlichen Arbeitsfelder und die zeitliche Verteilung der Arbeiten über ein Schuljahr (vgl. Broschüre „Berufsauftrag für Lehrpersonen – Arbeitszeit und Arbeitsfelder“)."]
[]
[]
[null,"Die jährliche Gesamtarbeitszeit der Lehrpersonen entspricht jener der Angestellten in der öffentli-chen Verwaltung. Dabei werden von der Bruttojahresarbeitszeit mindestens fünf Ferienwochen sowie die Feiertage abgezogen. Dementsprechend berechnet sich die Nettoarbeitszeit für ein 100%-Pensum für das aktuelle Schuljahr wie folgt:"]
[]
[]
[null,"Bruttoarbeitszeit",null,{"$f":"AnzahlWerktage/5","v":52.4},{"$f":"\"Wochen à \" & WochenSoll*24 & \" Std.\"","v":"Wochen à 42 Std."}]
[null,null,null,null,"oder",null,null,{"$f":"D13*TagesSoll*24","v":2200.8000000000002}]
[null,null,null,{"$f":"AnzahlWerktage","v":262},{"$f":"\"Tage à \" & TagesSoll *24 & \" Std.\"","v":"Tage à 8.4 Std."}]
[null,"Abzüglich Feiertage",null,{"$f":"AnzahlFeiertage","v":13},{"$f":"\"Tage à \" & TagesSoll *24 & \" Std.\"","v":"Tage à 8.4 Std."},null,null,{"$f":"-D14*TagesSoll*24","v":-109.20000000000002}]
[]
[null,"Jahresarbeitszeit",null,null,null,null,null,{"$f":"H12+H14","v":2091.6000000000004}]
[null,"Abzüglich Ferienanspruch ",null,25,{"$f":"\"Tage à \" & TagesSoll *24 & \" Std.\"","v":"Tage à 8.4 Std."},null,null,{"$f":"-D17*TagesSoll*24","v":-210}]
[null,"Nettoarbeitszeit",null,null,null,null,null,{"$f":"H16+H17","v":1881.6000000000004}]
[]
[null,"Die Dienststelle Personal berechnet für jedes Schuljahr die Nettoarbeitszeit neu, da sich diese von Jahr zu Jahr je nach Lage der Feiertage ändert.    "]
[]
[]
[null,"Informationen zum Programm"]
[null,"myALIS ist ein Zeiterfassungsinstrument insbesondere für Lehrpersonen, das auf den Berufsauftrag abgestimmt ist. Fachpersonen der Schuldienste verwenden das spezielle Zeiterfassungstool für Schuldienste, für Klassenassisenz existiert ebenfalls ein besser geeignetes Erfassungstool. myALIS kann auf allen Computern verwendet werden, die über das Programm MS Excel verfügen. myALIS ist jeweils für ein Jahr gültig. Nach einem Jahr müssen Sie die neue Version mit der angepassten Nettoarbeitszeit von der Homepage der Dienststelle Volksschulbildung herunterladen.\n"]
[null,{"$f":"\"Achtung: Bei den Jahrgängen \" & YEAR(MIN(Zeiterfassung!C8:C373))-60+1 & \" und \" & YEAR(MIN(Zeiterfassung!C8:C373))-50+1 & \"  ist eine Differenz der berechneten Jahresarbeitszeit von Anstellungen in 42 h möglich im Vergleich zu der berechneten Arbeitszeit gemäss Pensenvereinbarung im Pensenmeldeformular der Dienststelle Personal (DPE). \"","v":"Achtung: Bei den Jahrgängen 1964 und 1974  ist eine Differenz der berechneten Jahresarbeitszeit von Anstellungen in 42 h möglich im Vergleich zu der berechneten Arbeitszeit gemäss Pensenvereinbarung im Pensenmeldeformular der Dienststelle Personal (DPE). "}]
[null,"MyALIS rechnet die zusätzlichen Ferientage im Alter 50 bzw. 60 genauer aus, bei der Pensenvereinbarung im Formular der DPE ist dies nicht möglich. Korrekt berechnet sind die Zahlen von myALIS. Deshalb ist es nun auch möglich eine Pensenvereinbarung über myALIS zu erstellen. Verwenden Sie insbesondere bei diesen Jahrgängen die Vereinbarung in myALIS."]
[]
[null,"Im Programm stehen Ihnen folgende Bereiche (Register) zur Verfügung:"]
[null,"Zeiterfassung",null,"Hier erfassen Sie Ihre täglich geleistete Arbeitszeit und weisen diese den entsprechenden Berufsfeldern zu. Zusätzlich können Sie bezahlte Abwesenheiten wie Krankheit, Militär, Unfall und Urlaub erfassen."]
[null,"Übersicht",null,"Hier erhalten Sie einen Monats- und Jahresüberblick über die bereits geleistete Arbeitszeit. "]
[null,"Pensendefinition",null,"Hier müssen Sie Ihr individuelles Pensum definieren. Daraus errechnet myALIS Ihre individuelle Jahresarbeitszeit. Davon bereits abgezogen ist \nIhr Ferienanspruch. In myALIS wird nur die zu leistende Arbeitszeit erfasst. "]
[null,"Pensenvereinbarung",null,"In diesem Register kann neu die Pensenvereinbarung erstellt werden - anstelle einer Vereinbarung aus dem Pensenmeldeformular der DPE."]
[null,"Jahreskalender",null,"Im Register Jahreskalender können Sie Änderungen in der vordefinierten Verteilung von Schulzeit und Schulferienzeit erfassen. Definieren Sie die entsprechenden Wochen als Schul- oder Schulferienzeit. "]
[null,"Feiertage",null,"Im Register Feiertage sind die bezahlten kantonalen Feiertage festgelegt. Gemeindespezifische Feiertage (z.B. Patronatsfeiertage wie St. Leodegar) sind nicht bezahlte Feiertage. Sie können nicht zusätzlich erfasst und von der Jahresarbeitszeit abgezogen werden."]
[null,"Anleitung",null,"Das Register Anleitung enthält Erklärungen zu myALIS. "]
[]
[null,null,"In den Registern finden Sie jeweils in der rechten oberen Ecke ein Fragezeichen. Klicken Sie darauf, wenn Sie Fragen zum entsprechenden Register haben.  "]
[]
[]
[null,"© Dienststelle Volksschulbildung"]

{"sheet":"A2","index":10,"n_rows":33,"n_cols":3,"rows_kept":33,"cut":false,"hidden":false,"merged":[[32,1,32,7],[1,2,1,8],[3,1,5,7],[25,1,25,7],[27,1,27,7],[28,1,28,4],[30,1,30,7]]}
[null,"Anleitung (A2)"]
[null,"Register","Zeiterfassung"]
[]
[null,"Die Erfassung der Arbeitszeit und der Abwesenheiten erfolgt im Register „Zeiterfassung“. In den linken Spalten sehen Sie den Schuljahresablauf mit Werktagen, Wochenenden und Feiertagen. In der Spalte „Typ“ erkennen Sie, ob dieser Tag in die Schulzeit (SZ) oder in die Schulferienzeit (SFZ) fällt. "]
[]
[]
[]
[]
[]
[]
[]
[]
[]
[]
[]
[]
[]
[]
[]
[]
[]
[]
[]
[]
[null,"Soll-Arbeitszeit"]
[null,"Eine Besonderheit des Lehrberufs zeigt sich in der unregelmässigen Arbeitszeit: die durchschnittliche Arbeitszeit während der Schulwochen ist höher als während der Schulferienwochen. Dies wird in myALIS berücksichtigt: unterschieden werden die durchschnittliche Sollarbeitszeit,  die Sollarbeitszeit während der Schulzeit sowie die Sollarbeitszeit während der Schulferienzeit. Die Sollarbeitszeit während der Schulzeit ist höher als während der Schulferienzeit. Gesamthaft über das Jahr gleicht sich das aus. \nIm Register „Pensendefinition“ werden die durchschnittliche Sollarbeitszeit, die Sollarbeitszeit während der Schulzeit und die Sollarbeitszeit während der Schulferienzeit aufgrund Ihres Pensums ausgewiesen. "]
[null,"Arbeitszeit erfassen"]
[null,"Die geleistete Arbeit wird pro Tag in Stunden und Minuten erfasst und den einzelnen Arbeitsfeldern zugeordnet: Bitte beachten Sie, dass Sie bei der Eingabe den Doppelpunkt zur Trennung von Stunden und Minuten verwenden."]
[null,"Alternativ können Sie mit einem Doppelklick in die ent-sprechende Zelle eine Eingabemaske zur Erfassung der Zeit öffnen. "]
[null,"Ferien nicht erfassen"]
[null,"myALIS basiert auf der Nettoarbeitszeit, d.h. die Ferien und Feiertage wurden bereits von der Bruttoarbeitszeit abgezogen. Aus diesem Grund müssen im myALIS die persönlichen Ferien nicht erfasst werden. Auch Kompensationstage müssen nicht erfasst werden. Die Soll-Arbeitszeit umfasst nur die wirklich zu leistende Arbeitszeit.  "]
[null,"Abwesenheiten erfassen"]
[null,"Bezahlte Abwesenheiten erfassen\nIn der Spalte „Abw.“ wählen Sie den entsprechenden Grund für Ihre bezahlte Abwesenheit aus:\n- KR für Krankheit\n- MI für Militär\n- UN für Unfall\n- UR für besoldeter Urlaub\n- UU für unbesoldeter Urlaub\n\nDas Haben für einen Tag mit Abwesenheit entspricht der durchschnittlichen Sollarbeitszeit. Während der Schulzeit erhalten Sie also einen negativen Tagessaldo, da die Sollarbeitszeit während der Schulzeit höher ist als die durchschnittliche Sollarbeitszeit. \n"]

{"sheet":"A3","index":11,"n_rows":8,"n_cols":3,"rows_kept":8,"cut":false,"hidden":false,"merged":[[5,1,5,7],[7,1,7,7]]}
[null,"Anleitung (A3)"]
[null,"Register","Übersicht"]
[]
[null,"Im Register „Übersicht“ finden Sie eine Monats- und eine Jahresübersicht. "]
[]
[null,"In der Monatsübersicht sehen Sie Haben und Soll pro Monat aufgeteilt nach Aufgabenbereichen. Zusammenfassend sehen Sie, wie viel ihr Monats- bzw. Jahressaldo über oder unter dem Sollwert liegt. "]
[]
[null,"In der Jahresübersicht wird das Soll und Haben für alle Aufgabenbereiche ausgewiesen. Hier wird ersichtlich, ob Haben und Soll übereinstimmen."]

{"sheet":"A4","index":12,"n_rows":18,"n_cols":3,"rows_kept":18,"cut":false,"hidden":false,"merged":[[12,1,12,7],[14,1,14,7],[17,1,17,7],[1,2,1,8],[3,1,5,7],[7,1,7,7],[10,1,10,7]]}
[null,"Anleitung (A4)"]
[null,"Register","Pensendefinition"]
[]
[null,"Grundlage für die Berechnung der Soll-Arbeitszeit während der Schul- und Schulferienzeit bildet das individuelle Pensum. Als 1. Schritt muss deshalb das individuelle Pensum definiert werden. Hierfür ist es erforderlich, dass Sie die zentralen Angaben zu Ihrem Pensum erfassen."]
[]
[]
[null,"1. Schritt - Angaben zu Person"]
[null,"Geben Sie die Angaben zu Ihrer Person ein. Für die korrekte Berechnung der Anstellungen in 42stel ist zwingend die Eingabe des Geburtsdatums nötig.  Standardmässig ist myALIS für ein Jahr eingestellt. Wenn ihre Anstellung kürzer dauert, müssen Sie den Start und das Ende Ihrer Anstellung anpassen. \n"]
[]
[null,"2. Schritt - Pensendefinition"]
[null,"Danach geben Sie an wie sich Ihr Pensum zusammensetzt."]
[]
[null,"Aufgrund dieser Angaben wird automatisch berechnet, wie viele Arbeitsstunden Sie pro Arbeitsbereich zu leisten haben. "]
[]
[null,"Abschliessend wird automatisch berechnet, wie hoch die Sollarbeitszeit pro Tag ist. "]
[]
[null,"3. Schritt - Änderung des Pensums während des Schuljahres"]
[null,"myALIS kann keine Pensenänderung während des Jahres verarbeiten. Wenn sich Ihr Pensum während des Jahres ändert, müssen Sie Ihre Anstellung als befristet eingeben und myALIS dann abschliessen. Für den Zeitpunkt des Starts mit dem neuen Pensum müssen Sie mit einer leeren Version von myALIS neu starten.  "]

{"sheet":"A5","index":13,"n_rows":4,"n_cols":3,"rows_kept":4,"cut":false,"hidden":false,"merged":[[1,2,1,7],[3,1,3,7]]}
[null,"Anleitung (A5)"]
[null,"Register","Jahreskalender"]
[]
[null,"Im Register „Jahreskalender“ können Sie die für Ihre Schule gültigen Schul- und Schulferienwochen definieren. Diese Angaben werden dann automatisch im Register „Zeiterfassung“ übernommen. "]

{"sheet":"A6","index":14,"n_rows":4,"n_cols":3,"rows_kept":4,"cut":false,"hidden":false,"merged":[[1,2,1,7],[3,1,3,7]]}
[null,"Anleitung (A6)"]
[null,"Register","Feiertage"]
[]
[null,"Im Register „Feiertage“ sind die bezahlten kantonalen Feiertage erfasst. \nGemeindespezifische Feiertage sind nicht bezahlte Feiertage. Sie können nicht zusätzlich erfasst und von der Jahresarbeitszeit abgezogen werden. \n"]

{"sheet":"Kennzahlen","index":15,"n_rows":51,"n_cols":13,"rows_kept":51,"cut":false,"hidden":false,"merged":[[39,11,39,12],[39,8,39,9]]}
[null,"Kennzahlen"]
[]
[null,"Kalenderbeginn","2023-08-01"]
[null,"Startjahr",{"$f":"YEAR(JahresKalenderStartdatum)","v":2023}]
[null,"EndJahr",{"$f":"YEAR(JahresKalenderStartdatum+364)","v":2024}]
[]
[null,null,null,"Arbeitstage"]
[null,"Schuljahr",{"$f":"YEAR(MIN(Zeiterfassung!C8:C373)) & \"/\" &YEAR(MAX(Zeiterfassung!C8:C373))","v":"2023/2024"},{"$f":"AnzahlArbeitstage","v":249}]
[]
[]
[null,"Definierte Pensendauer"]
[null,"Beginn",{"$f":"Pensum1_Start","v":"2023-08-01"}]
[null,"Ende",{"$f":"Pensum1_Ende","v":"2024-07-31"},{"$f":"AnzahlArbeitstage_PE1","v":249}]
[]
[null,"Anteil am Jahrespensum",null,{"$f":"D13/D8","v":1}]
[]
[null,null,"Tage","Wochen"]
[null,"Anzahl Tage",{"$f":"AnzahlTage","v":366},{"$f":"C18/7","v":52.285714285714285}]
[null,"Anzahl Werktage",{"$f":"AnzahlWerktage","v":262},{"$f":"C19/7","v":37.428571428571431}]
[null,"Anzahl Wochenendtage",{"$f":"AnzahlWochenendtage","v":104},{"$f":"C20/7","v":14.857142857142858}]
[null,"Anzahl Feiertage",{"$f":"AnzahlFeiertage","v":13},{"$f":"C21/7","v":1.8571428571428572}]
[null,"Anzahl Arbeitstage",{"$f":"AnzahlArbeitstage","v":249},{"$f":"C22/7","v":35.571428571428569}]
[]
[null,null,"Tage","Wochen"]
[null,"Tage während der Schulzeit",{"$f":"DCOUNTA(_xlnm.Database,\"Typ\",Filter!A10:A11)","v":109},{"$f":"C25/7","v":15.571428571428571}]
[null,"Tage während der Ferienzeit",{"$f":"DCOUNTA(_xlnm.Database,\"Typ\",Filter!B10:B11)","v":255},{"$f":"C26/7","v":36.428571428571431}]
[null,"Kompensationstage",{"$f":"DCOUNTA(_xlnm.Database,\"Typ\",Filter!C10:C11)","v":0},{"$f":"C27/7","v":0}]
[]
[]
[null,"Ferienanspruch\nbei einer Anstellung in Lektionen","Soll-AT","Tagessoll","Jahressoll\n(unabhängig von Pensendauer)","Pensen-AT","Anteil","Jahressoll\n(abhängig von Pensendauer)"]
[null,"Arbeitszeit Soll (inkl. Ferien)",{"$f":"AnzahlArbeitstage","v":249},{"$f":"TagesSoll","v":0.35000000000000003},{"$f":"C31*D31","v":87.15},{"$f":"AnzahlArbeitstage_PE1","v":249},{"$f":"F31/C31","v":1},{"$f":"E31*G31","v":87.15}]
[null,"Ferienanspruch (5 Wochen)",25,{"$f":"TagesSoll","v":0.35000000000000003},{"$f":"C32*D32","v":8.75},null,null,{"$f":"E32*G31","v":8.75}]
[]
[null,"Sollarbeitszeit (100% Pensum)",null,null,{"$f":"E31-E32","v":78.400000000000006},null,null,{"$f":"H31-H32","v":78.400000000000006}]
[]
[null,{"$f":"Pensum1_Anteil_Lektionen29+Pensum1_Anteil_Lektionen30","v":0},null,null,null,null,null,{"$f":"H34*B36","v":0}]
[]
[]
[]
[null,"Ferienanspruch\nbei Anstellung in 42 Wochenstunden",null,null,{"$f":"\"Geburtstag \"&TEXT(Geburtsdatum,\"tt.MM.JJJJ\")","v":"Geburtstag 00.01.1900"},null,null,null,"Ferienanspruch im\nlaufenden Jahr",null,null,"Ferienanspruch in Relation\nzur Pensendauer"]
[null,null,"Soll-AT","Pensen-AT","Stichtag","Alter","Ferienanspruch","Verteilung","Tage","Stunden","Anteil","Tage","Stunden"]
[null,"Halbjahr 01.08. - 31.12.",{"$f":"AnzahlArbeitstage_1HJ","v":103},{"$f":"AnzahlArbeitstage_PE1_1HJ","v":103},{"$f":"DATE(YEAR(MIN(Zeiterfassung!C8:C373)),12,31)","v":"2023-12-31"},{"$f":"IF(ISBLANK(Geburtsdatum),1,INT(YEARFRAC(Geburtsdatum+1,E42)))","v":1},{"$f":"IF(F42<=49,25,IF(F42<=59,30,33))","v":25},{"$f":"C42/SUM(C42:C43)","v":0.41365461847389556},{"$f":"H42*G42","v":10.341365461847388},{"$f":"I42*TagesSoll*24","v":86.867469879518069},{"$f":"D42/C42","v":1},{"$f":"I42*K42","v":10.341365461847388},{"$f":"L42*TagesSoll*24","v":86.867469879518069}]
[null,"Halbjahr 01.01. - 31.07.",{"$f":"AnzahlArbeitstage_2HJ","v":146},{"$f":"AnzahlArbeitstage_PE1_2HJ","v":146},{"$f":"DATE(YEAR(MAX(Zeiterfassung!C8:C373)),12,31)","v":"2024-12-31"},{"$f":"IF(ISBLANK(Geburtsdatum),1,INT(YEARFRAC(Geburtsdatum+1,E43)))","v":1},{"$f":"IF(F43<=49,25,IF(F43<=59,30,33))","v":25},{"$f":"C43/SUM(C42:C43)","v":0.58634538152610438},{"$f":"H43*G43","v":14.65863453815261},{"$f":"I43*TagesSoll*24","v":123.13253012048193},{"$f":"D43/C43","v":1},{"$f":"I43*K43","v":14.65863453815261},{"$f":"L43*TagesSoll*24","v":123.13253012048193}]
[null,"Ferienanteil Total",null,{"$f":"SUM(D42:D43)","v":249},null,null,null,null,{"$f":"SUM(I42:I43)","v":25},{"$f":"I44*TagesSoll*24","v":210},null,{"$f":"SUM(L42:L43)","v":25},{"$f":"L44*TagesSoll*24","v":210}]
[]
[null,"Jahresarbeitszeit inkl. Ferien",{"$f":"JAZ_Pensum_oF_mit_Ferien","v":2091.6000000000004},{"$f":"C46/24","v":87.15000000000002}]
[null,"Ferienanspruch",{"$f":"Ferienanspruch_Stunden","v":210},{"$f":"C47/24","v":8.75}]
[]
[null,"Jahresarbeitszeit ohne Ferien (100% Pensum)",{"$f":"C46-C47","v":1881.6000000000004},78.40000000000002]
[]
[null,{"$f":"36:36","v":0},{"$f":"C49*Pensum1_Anteil_Wochenstunden","v":0},0]

{"sheet":"Leistungskatalog","index":16,"n_rows":35,"n_cols":11,"rows_kept":35,"cut":false,"hidden":true,"merged":[]}
[null,null,"Leistungskatalog"]
[]
[]
[]
[null,null,"Leistung",null,"Code",null,"Leistungsbezeichnung",null,null,null,"Kurzbezeichnung"]
[]
[]
[null,null,"Leistungsart 1",null,"A)",null,"Ressourcen für Kernauftrag (4 Arbeitsfelder)",null,null,null,"Kernauftrag"]
[]
[]
[null,null,"Teilleistung 1",null,null,null,"Unterricht",null,"Arbeitsfeld Unterricht\n• unterrichten und erziehen \n• planen, vorbereiten, auswerten des Unterrichts\n• zusammenarbeiten im Unterrichtsteam \n• erledigen von organisatorischen und \n   administrativen Aufgaben bezüglich Klasse  \nca. 87.5% (≈1’650 Std.)"]
[]
[null,null,"Teilleistung 2",null,null,null,"Lernende",null,"Arbeitsfeld Lernende\n• beraten und begleiten der Lernenden\n• zusammenarbeiten mit Erziehungsberechtigten,\n   Schuldiensten und Behörden \nca. 5% (≈94.5 Std.)"]
[]
[null,null,"Teilleistung 3",null,null,null,"Schule",null,"Arbeitsfeld Schule\n• gestalten und organisieren der eigenen Schule\n• entwickeln und evaluieren der eigenen Schule\nca. 5% (≈94.5 Std.)"]
[]
[null,null,"Teilleistung 4",null,null,null,"Lehrperson",null,"Arbeitsfeld Lehrperson\n• evaluieren der eigenen Tätigkeiten\n• sich individuell weiterbilden \nca. 2.5% (≈47 Std.)"]
[]
[]
[]
[null,null,"Leistungsart 2",null,"B)",null,"Ressourcen für die Klassenlehrperson",null,"Ressourcen für die Klassenlehrpersonen\nZusätzlich zeitliche Ressourcen für die Klassenführung. \nSpezifische Aufgabenbereiche gemäss Berufsauftrag für Lehrpersonen, Anhang 2 - Seite 16. \nHier wird auch die Arbeitszeit erfasst, die eine Klassenlehrperson für die Betreuung pro IS-Kind erhält.",null,"Klassen-lehrperson"]
[null,null,null,null,null,null,"davon Entlastung Funktion Klassenlehrperson"]
[null,null,null,null,null,null,"davon Entlastung Integrative Sonderschulung"]
[]
[]
[]
[null,null,"Leistungsart 3",null,"C)",null,"Besondere Aufgaben (Schulpool)",null,"Ressourcen für besondere Aufgaben (Schulpool)\nFür die Übernahme von besonderen Aufgaben, welche die ganze Schule betreffen, können einzelne Lehrpersonen mit Ressourcen aus dem Schulpool entschädigt werden (z. B. Verantwortliche/r für Interne Evaluation).",null,"Besondere Aufgaben"]
[]
[]
[]
[null,null,"Leistungsart 4",null,"D)",null,"Tagesstrukturen",null,"Ressourcen für die Tagesstrukturen\n• Für zusätzliche Aufgaben von Lehrpersonen in der Hausaufgabenhilfe und Lernbegleitung.  Diese Aufgaben werden zusätzlich zum Kernauftrag besoldet.\n• Hier können auch Arbeitszeiten von Mitarbeitenden  erfasst werden, welche ausschliesslich in den Tagesstrukturen tätig sind.",null,"Tages-strukturen"]
[]
[]
[]
[null,null,"Leistungsart 5",null,"E)",null,"Weitere Funktionen in 42 h/Wo",null,"Ressourcen für weitere Funktionen",null,"Weitere Funktionen"]

{"sheet":"Zeiterfassung Layout","index":17,"n_rows":374,"n_cols":22,"rows_kept":374,"cut":false,"hidden":true,"merged":[[341,1,372,1],[99,1,128,1],[129,1,159,1],[160,1,190,1],[191,1,218,1],[219,1,249,1],[250,1,279,1],[7,1,37,1],[38,1,67,1],[68,1,98,1],[280,1,310,1],[311,1,340,1]]}
[]
[]
[]
[]
[]
[]
[]
[null,{"$f":"C8","v":"2023-08-01"},{"$f":"Jahreskalender!C8","v":"2023-08-01"}]
[null,null,{"$f":"Jahreskalender!C9","v":"2023-08-02"}]
[null,null,{"$f":"Jahreskalender!C10","v":"2023-08-03"}]
[null,null,{"$f":"Jahreskalender!C11","v":"2023-08-04"}]
[null,null,{"$f":"Jahreskalender!C12","v":"2023-08-05"}]
[null,null,{"$f":"Jahreskalender!C13","v":"2023-08-06"}]
[null,null,{"$f":"Jahreskalender!C14","v":"2023-08-07"}]
[null,null,{"$f":"Jahreskalender!C15","v":"2023-08-08"}]
[null,null,{"$f":"Jahreskalender!C16","v":"2023-08-09"}]
[null,null,{"$f":"Jahreskalender!C17","v":"2023-08-10"}]
[null,null,{"$f":"Jahreskalender!C18","v":"2023-08-11"}]
[null,null,{"$f":"Jahreskalender!C19","v":"2023-08-12"}]
[null,null,{"$f":"Jahreskalender!C20","v":"2023-08-13"}]
[null,null,{"$f":"Jahreskalender!C21","v":"2023-08-14"}]
[null,null,{"$f":"Jahreskalender!C22","v":"2023-08-15"}]
[null,null,{"$f":"Jahreskalender!C23","v":"2023-08-16"}]
[null,null,{"$f":"Jahreskalender!C24","v":"2023-08-17"}]
[null,null,{"$f":"Jahreskalender!C25","v":"2023-08-18"}]
[null,null,{"$f":"Jahreskalender!C26","v":"2023-08-19"}]
[null,null,{"$f":"Jahreskalender!C27","v":"2023-08-20"}]
[null,null,{"$f":"Jahreskalender!C28","v":"2023-08-21"}]
[null,null,{"$f":"Jahreskalender!C29","v":"2023-08-22"}]
[null,null,{"$f":"Jahreskalender!C30","v":"2023-08-23"}]
[null,null,{"$f":"Jahreskalender!C31","v":"2023-08-24"}]
[null,null,{"$f":"Jahreskalender!C32","v":"2023-08-25"}]
[null,null,{"$f":"Jahreskalender!C33","v":"2023-08-26"}]
[null,null,{"$f":"Jahreskalender!C34","v":"2023-08-27"}]
[null,null,{"$f":"Jahreskalender!C35","v":"2023-08-28"}]
[null,null,{"$f":"Jahreskalender!C36","v":"2023-08-29"}]
[null,null,{"$f":"Jahreskalender!C37","v":"2023-08-30"}]
[null,null,{"$f":"Jahreskalender!C38","v":"2023-08-31"}]
[null,{"$f":"C39","v":"2023-09-01"},{"$f":"Jahreskalender!C39","v":"2023-09-01"}]
[null,null,{"$f":"Jahreskalender!C40","v":"2023-09-02"}]
[null,null,{"$f":"Jahreskalender!C41","v":"2023-09-03"}]
[null,null,{"$f":"Jahreskalender!C42","v":"2023-09-04"}]
[null,null,{"$f":"Jahreskalender!C43","v":"2023-09-05"}]
[null,null,{"$f":"Jahreskalender!C44","v":"2023-09-06"}]
[null,null,{"$f":"Jahreskalender!C45","v":"2023-09-07"}]
[null,null,{"$f":"Jahreskalender!C46","v":"2023-09-08"}]
[null,null,{"$f":"Jahreskalender!C47","v":"2023-09-09"}]
[null,null,{"$f":"Jahreskalender!C48","v":"2023-09-10"}]
[null,null,{"$f":"Jahreskalender!C49","v":"2023-09-11"}]
[null,null,{"$f":"Jahreskalender!C50","v":"2023-09-12"}]
[null,null,{"$f":"Jahreskalender!C51","v":"2023-09-13"}]
[null,null,{"$f":"Jahreskalender!C52","v":"2023-09-14"}]
[null,null,{"$f":"Jahreskalender!C53","v":"2023-09-15"}]
[null,null,{"$f":"Jahreskalender!C54","v":"2023-09-16"}]
[null,null,{"$f":"Jahreskalender!C55","v":"2023-09-17"}]
[null,null,{"$f":"Jahreskalender!C56","v":"2023-09-18"}]
[null,null,{"$f":"Jahreskalender!C57","v":"2023-09-19"}]
[null,null,{"$f":"Jahreskalender!C58","v":"2023-09-20"}]
[null,null,{"$f":"Jahreskalender!C59","v":"2023-09-21"}]
[null,null,{"$f":"Jahreskalender!C60","v":"2023-09-22"}]
[null,null,{"$f":"Jahreskalender!C61","v":"2023-09-23"}]
[null,null,{"$f":"Jahreskalender!C62","v":"2023-09-24"}]
[null,null,{"$f":"Jahreskalender!C63","v":"2023-09-25"}]
[null,null,{"$f":"Jahreskalender!C64","v":"2023-09-26"}]
[null,null,{"$f":"Jahreskalender!C65","v":"2023-09-27"}]
[null,null,{"$f":"Jahreskalender!C66","v":"2023-09-28"}]
[null,null,{"$f":"Jahreskalender!C67","v":"2023-09-29"}]
[null,null,{"$f":"Jahreskalender!C68","v":"2023-09-30"}]
[null,{"$f":"C69","v":"2023-10-01"},{"$f":"Jahreskalender!C69","v":"2023-10-01"}]
[null,null,{"$f":"Jahreskalender!C70","v":"2023-10-02"}]
[null,null,{"$f":"Jahreskalender!C71","v":"2023-10-03"}]
[null,null,{"$f":"Jahreskalender!C72","v":"2023-10-04"}]
[null,null,{"$f":"Jahreskalender!C73","v":"2023-10-05"}]
[null,null,{"$f":"Jahreskalender!C74","v":"2023-10-06"}]
[null,null,{"$f":"Jahreskalender!C75","v":"2023-10-07"}]
[null,null,{"$f":"Jahreskalender!C76","v":"2023-10-08"}]
[null,null,{"$f":"Jahreskalender!C77","v":"2023-10-09"}]
[null,null,{"$f":"Jahreskalender!C78","v":"2023-10-10"}]
[null,null,{"$f":"Jahreskalender!C79","v":"2023-10-11"}]
[null,null,{"$f":"Jahreskalender!C80","v":"2023-10-12"}]
[null,null,{"$f":"Jahreskalender!C81","v":"2023-10-13"}]
[null,null,{"$f":"Jahreskalender!C82","v":"2023-10-14"}]
[null,null,{"$f":"Jahreskalender!C83","v":"2023-10-15"}]
[null,null,{"$f":"Jahreskalender!C84","v":"2023-10-16"}]
[null,null,{"$f":"Jahreskalender!C85","v":"2023-10-17"}]
[null,null,{"$f":"Jahreskalender!C86","v":"2023-10-18"}]
[null,null,{"$f":"Jahreskalender!C87","v":"2023-10-19"}]
[null,null,{"$f":"Jahreskalender!C88","v":"2023-10-20"}]
[null,null,{"$f":"Jahreskalender!C89","v":"2023-10-21"}]
[null,null,{"$f":"Jahreskalender!C90","v":"2023-10-22"}]
[null,null,{"$f":"Jahreskalender!C91","v":"2023-10-23"}]
[null,null,{"$f":"Jahreskalender!C92","v":"2023-10-24"}]
[null,null,{"$f":"Jahreskalender!C93","v":"2023-10-25"}]
[null,null,{"$f":"Jahreskalender!C94","v":"2023-10-26"}]
[null,null,{"$f":"Jahreskalender!C95","v":"2023-10-27"}]
[null,null,{"$f":"Jahreskalender!C96","v":"2023-10-28"}]
[null,null,{"$f":"Jahreskalender!C97","v":"2023-10-29"}]
[null,null,{"$f":"Jahreskalender!C98","v":"2023-10-30"}]
[null,null,{"$f":"Jahreskalender!C99","v":"2023-10-31"}]
[null,{"$f":"C100","v":"2023-11-01"},{"$f":"Jahreskalender!C100","v":"2023-11-01"}]
[null,null,{"$f":"Jahreskalender!C101","v":"2023-11-02"}]
[null,null,{"$f":"Jahreskalender!C102","v":"2023-11-03"}]
[null,null,{"$f":"Jahreskalender!C103","v":"2023-11-04"}]
[null,null,{"$f":"Jahreskalender!C104","v":"2023-11-05"}]
[null,null,{"$f":"Jahreskalender!C105","v":"2023-11-06"}]
[null,null,{"$f":"Jahreskalender!C106","v":"2023-11-07"}]
[null,null,{"$f":"Jahreskalender!C107","v":"2023-11-08"}]
[null,null,{"$f":"Jahreskalender!C108","v":"2023-11-09"}]
[null,null,{"$f":"Jahreskalender!C109","v":"2023-11-10"}]
[null,null,{"$f":"Jahreskalender!C110","v":"2023-11-11"}]
[null,null,{"$f":"Jahreskalender!C111","v":"2023-11-12"}]
[null,null,{"$f":"Jahreskalender!C112","v":"2023-11-13"}]
[null,null,{"$f":"Jahreskalender!C113","v":"2023-11-14"}]
[null,null,{"$f":"Jahreskalender!C114","v":"2023-11-15"}]
[null,null,{"$f":"Jahreskalender!C115","v":"2023-11-16"}]
[null,null,{"$f":"Jahreskalender!C116","v":"2023-11-17"}]
[null,null,{"$f":"Jahreskalender!C117","v":"2023-11-18"}]
[null,null,{"$f":"Jahreskalender!C118","v":"2023-11-19"}]
[null,null,{"$f":"Jahreskalender!C119","v":"2023-11-20"}]
[null,null,{"$f":"Jahreskalender!C120","v":"2023-11-21"}]
[null,null,{"$f":"Jahreskalender!C121","v":"2023-11-22"}]
[null,null,{"$f":"Jahreskalender!C122","v":"2023-11-23"}]
[null,null,{"$f":"Jahreskalender!C123","v":"2023-11-24"}]
[null,null,{"$f":"Jahreskalender!C124","v":"2023-11-25"}]
[null,null,{"$f":"Jahreskalender!C125","v":"2023-11-26"}]
[null,null,{"$f":"Jahreskalender!C126","v":"2023-11-27"}]
[null,null,{"$f":"Jahreskalender!C127","v":"2023-11-28"}]
[null,null,{"$f":"Jahreskalender!C128","v":"2023-11-29"}]
[null,null,{"$f":"Jahreskalender!C129","v":"2023-11-30"}]
[null,{"$f":"C130","v":"2023-12-01"},{"$f":"Jahreskalender!C130","v":"2023-12-01"}]
[null,null,{"$f":"Jahreskalender!C131","v":"2023-12-02"}]
[null,null,{"$f":"Jahreskalender!C132","v":"2023-12-03"}]
[null,null,{"$f":"Jahreskalender!C133","v":"2023-12-04"}]
[null,null,{"$f":"Jahreskalender!C134","v":"2023-12-05"}]
[null,null,{"$f":"Jahreskalender!C135","v":"2023-12-06"}]
[null,null,{"$f":"Jahreskalender!C136","v":"2023-12-07"}]
[null,null,{"$f":"Jahreskalender!C137","v":"2023-12-08"}]
[null,null,{"$f":"Jahreskalender!C138","v":"2023-12-09"}]
[null,null,{"$f":"Jahreskalender!C139","v":"2023-12-10"}]
[null,null,{"$f":"Jahreskalender!C140","v":"2023-12-11"}]
[null,null,{"$f":"Jahreskalender!C141","v":"2023-12-12"}]
[null,null,{"$f":"Jahreskalender!C142","v":"2023-12-13"}]
[null,null,{"$f":"Jahreskalender!C143","v":"2023-12-14"}]
[null,null,{"$f":"Jahreskalender!C144","v":"2023-12-15"}]
[null,null,{"$f":"Jahreskalender!C145","v":"2023-12-16"}]
[null,null,{"$f":"Jahreskalender!C146","v":"2023-12-17"}]
[null,null,{"$f":"Jahreskalender!C147","v":"2023-12-18"}]
[null,null,{"$f":"Jahreskalender!C148","v":"2023-12-19"}]
[null,null,{"$f":"Jahreskalender!C149","v":"2023-12-20"}]
[null,null,{"$f":"Jahreskalender!C150","v":"2023-12-21"}]
[null,null,{"$f":"Jahreskalender!C151","v":"2023-12-22"}]
[null,null,{"$f":"Jahreskalender!C152","v":"2023-12-23"}]
[null,null,{"$f":"Jahreskalender!C153","v":"2023-12-24"}]
[null,null,{"$f":"Jahreskalender!C154","v":"2023-12-25"}]
[null,null,{"$f":"Jahreskalender!C155","v":"2023-12-26"}]
[null,null,{"$f":"Jahreskalender!C156","v":"2023-12-27"}]
[null,null,{"$f":"Jahreskalender!C157","v":"2023-12-28"}]
[null,null,{"$f":"Jahreskalender!C158","v":"2023-12-29"}]
[null,null,{"$f":"Jahreskalender!C159","v":"2023-12-30"}]
[null,null,{"$f":"Jahreskalender!C160","v":"2023-12-31"}]
[null,{"$f":"C161","v":"2024-01-01"},{"$f":"Jahreskalender!C161","v":"2024-01-01"}]
[null,null,{"$f":"Jahreskalender!C162","v":"2024-01-02"}]
[null,null,{"$f":"Jahreskalender!C163","v":"2024-01-03"}]
[null,null,{"$f":"Jahreskalender!C164","v":"2024-01-04"}]
[null,null,{"$f":"Jahreskalender!C165","v":"2024-01-05"}]
[null,null,{"$f":"Jahreskalender!C166","v":"2024-01-06"}]
[null,null,{"$f":"Jahreskalender!C167","v":"2024-01-07"}]
[null,null,{"$f":"Jahreskalender!C168","v":"2024-01-08"}]
[null,null,{"$f":"Jahreskalender!C169","v":"2024-01-09"}]
[null,null,{"$f":"Jahreskalender!C170","v":"2024-01-10"}]
[null,null,{"$f":"Jahreskalender!C171","v":"2024-01-11"}]
[null,null,{"$f":"Jahreskalender!C172","v":"2024-01-12"}]
[null,null,{"$f":"Jahreskalender!C173","v":"2024-01-13"}]
[null,null,{"$f":"Jahreskalender!C174","v":"2024-01-14"}]
[null,null,{"$f":"Jahreskalender!C175","v":"2024-01-15"}]
[null,null,{"$f":"Jahreskalender!C176","v":"2024-01-16"}]
[null,null,{"$f":"Jahreskalender!C177","v":"2024-01-17"}]
[null,null,{"$f":"Jahreskalender!C178","v":"2024-01-18"}]
[null,null,{"$f":"Jahreskalender!C179","v":"2024-01-19"}]
[null,null,{"$f":"Jahreskalender!C180","v":"2024-01-20"}]
[null,null,{"$f":"Jahreskalender!C181","v":"2024-01-21"}]
[null,null,{"$f":"Jahreskalender!C182","v":"2024-01-22"}]
[null,null,{"$f":"Jahreskalender!C183","v":"2024-01-23"}]
[null,null,{"$f":"Jahreskalender!C184","v":"2024-01-24"}]
[null,null,{"$f":"Jahreskalender!C185","v":"2024-01-25"}]
[null,null,{"$f":"Jahreskalender!C186","v":"2024-01-26"}]
[null,null,{"$f":"Jahreskalender!C187","v":"2024-01-27"}]
[null,null,{"$f":"Jahreskalender!C188","v":"2024-01-28"}]
[null,null,{"$f":"Jahreskalender!C189","v":"2024-01-29"}]
[null,null,{"$f":"Jahreskalender!C190","v":"2024-01-30"}]
[null,null,{"$f":"Jahreskalender!C191","v":"2024-01-31"}]
[null,{"$f":"C192","v":"2024-02-01"},{"$f":"Jahreskalender!C192","v":"2024-02-01"}]
[null,null,{"$f":"Jahreskalender!C193","v":"2024-02-02"}]
[null,null,{"$f":"Jahreskalender!C194","v":"2024-02-03"}]
[null,null,{"$f":"Jahreskalender!C195","v":"2024-02-04"}]
[null,null,{"$f":"Jahreskalender!C196","v":"2024-02-05"}]
[null,null,{"$f":"Jahreskalender!C197","v":"2024-02-06"}]
[null,null,{"$f":"Jahreskalender!C198","v":"2024-02-07"}]
[null,null,{"$f":"Jahreskalender!C199","v":"2024-02-08"}]
[null,null,{"$f":"Jahreskalender!C200","v":"2024-02-09"}]
[null,null,{"$f":"Jahreskalender!C201","v":"2024-02-10"}]
[null,null,{"$f":"Jahreskalender!C202","v":"2024-02-11"}]
[null,null,{"$f":"Jahreskalender!C203","v":"2024-02-12"}]
[null,null,{"$f":"Jahreskalender!C204","v":"2024-02-13"}]
[null,null,{"$f":"Jahreskalender!C205","v":"2024-02-14"}]
[null,null,{"$f":"Jahreskalender!C206","v":"2024-02-15"}]
[null,null,{"$f":"Jahreskalender!C207","v":"2024-02-16"}]
[null,null,{"$f":"Jahreskalender!C208","v":"2024-02-17"}]
[null,null,{"$f":"Jahreskalender!C209","v":"2024-02-18"}]
[null,null,{"$f":"Jahreskalender!C210","v":"2024-02-19"}]
[null,null,{"$f":"Jahreskalender!C211","v":"2024-02-20"}]
[null,null,{"$f":"Jahreskalender!C212","v":"2024-02-21"}]
[null,null,{"$f":"Jahreskalender!C213","v":"2024-02-22"}]
[null,null,{"$f":"Jahreskalender!C214","v":"2024-02-23"}]
[null,null,{"$f":"Jahreskalender!C215","v":"2024-02-24"}]
[null,null,{"$f":"Jahreskalender!C216","v":"2024-02-25"}]
[null,null,{"$f":"Jahreskalender!C217","v":"2024-02-26"}]
[null,null,{"$f":"Jahreskalender!C218","v":"2024-02-27"}]
[null,null,{"$f":"Jahreskalender!C219","v":"2024-02-28"}]
[null,{"$f":"C220","v":"2024-02-29"},{"$f":"Jahreskalender!C220","v":"2024-02-29"}]
[null,null,{"$f":"Jahreskalender!C221","v":"2024-03-01"}]
[null,null,{"$f":"Jahreskalender!C222","v":"2024-03-02"}]
[null,null,{"$f":"Jahreskalender!C223","v":"2024-03-03"}]
[null,null,{"$f":"Jahreskalender!C224","v":"2024-03-04"}]
[null,null,{"$f":"Jahreskalender!C225","v":"2024-03-05"}]
[null,null,{"$f":"Jahreskalender!C226","v":"2024-03-06"}]
[null,null,{"$f":"Jahreskalender!C227","v":"2024-03-07"}]
[null,null,{"$f":"Jahreskalender!C228","v":"2024-03-08"}]
[null,null,{"$f":"Jahreskalender!C229","v":"2024-03-09"}]
[null,null,{"$f":"Jahreskalender!C230","v":"2024-03-10"}]
[null,null,{"$f":"Jahreskalender!C231","v":"2024-03-11"}]
[null,null,{"$f":"Jahreskalender!C232","v":"2024-03-12"}]
[null,null,{"$f":"Jahreskalender!C233","v":"2024-03-13"}]
[null,null,{"$f":"Jahreskalender!C234","v":"2024-03-14"}]
[null,null,{"$f":"Jahreskalender!C235","v":"2024-03-15"}]
[null,null,{"$f":"Jahreskalender!C236","v":"2024-03-16"}]
[null,null,{"$f":"Jahreskalender!C237","v":"2024-03-17"}]
[null,null,{"$f":"Jahreskalender!C238","v":"2024-03-18"}]
[null,null,{"$f":"Jahreskalender!C239","v":"2024-03-19"}]
[null,null,{"$f":"Jahreskalender!C240","v":"2024-03-20"}]
[null,null,{"$f":"Jahreskalender!C241","v":"2024-03-21"}]
[null,null,{"$f":"Jahreskalender!C242","v":"2024-03-22"}]
[null,null,{"$f":"Jahreskalender!C243","v":"2024-03-23"}]
[null,null,{"$f":"Jahreskalender!C244","v":"2024-03-24"}]
[null,null,{"$f":"Jahreskalender!C245","v":"2024-03-25"}]
[null,null,{"$f":"Jahreskalender!C246","v":"2024-03-26"}]
[null,null,{"$f":"Jahreskalender!C247","v":"2024-03-27"}]
[null,null,{"$f":"Jahreskalender!C248","v":"2024-03-28"}]
[null,null,{"$f":"Jahreskalender!C249","v":"2024-03-29"}]
[null,null,{"$f":"Jahreskalender!C250","v":"2024-03-30"}]
[null,{"$f":"C251","v":"2024-03-31"},{"$f":"Jahreskalender!C251","v":"2024-03-31"}]
[null,null,{"$f":"Jahreskalender!C252","v":"2024-04-01"}]
[null,null,{"$f":"Jahreskalender!C253","v":"2024-04-02"}]
[null,null,{"$f":"Jahreskalender!C254","v":"2024-04-03"}]
[null,null,{"$f":"Jahreskalender!C255","v":"2024-04-04"}]
[null,null,{"$f":"Jahreskalender!C256","v":"2024-04-05"}]
[null,null,{"$f":"Jahreskalender!C257","v":"2024-04-06"}]
[null,null,{"$f":"Jahreskalender!C258","v":"2024-04-07"}]
[null,null,{"$f":"Jahreskalender!C259","v":"2024-04-08"}]
[null,null,{"$f":"Jahreskalender!C260","v":"2024-04-09"}]
[null,null,{"$f":"Jahreskalender!C261","v":"2024-04-10"}]
[null,null,{"$f":"Jahreskalender!C262","v":"2024-04-11"}]
[null,null,{"$f":"Jahreskalender!C263","v":"2024-04-12"}]
[null,null,{"$f":"Jahreskalender!C264","v":"2024-04-13"}]
[null,null,{"$f":"Jahreskalender!C265","v":"2024-04-14"}]
[null,null,{"$f":"Jahreskalender!C266","v":"2024-04-15"}]
[null,null,{"$f":"Jahreskalender!C267","v":"2024-04-16"}]
[null,null,{"$f":"Jahreskalender!C268","v":"2024-04-17"}]
[null,null,{"$f":"Jahreskalender!C269","v":"2024-04-18"}]
[null,null,{"$f":"Jahreskalender!C270","v":"2024-04-19"}]
[null,null,{"$f":"Jahreskalender!C271","v":"2024-04-20"}]
[null,null,{"$f":"Jahreskalender!C272","v":"2024-04-21"}]
[null,null,{"$f":"Jahreskalender!C273","v":"2024-04-22"}]
[null,null,{"$f":"Jahreskalender!C274","v":"2024-04-23"}]
[null,null,{"$f":"Jahreskalender!C275","v":"2024-04-24"}]
[null,null,{"$f":"Jahreskalender!C276","v":"2024-04-25"}]
[null,null,{"$f":"Jahreskalender!C277","v":"2024-04-26"}]
[null,null,{"$f":"Jahreskalender!C278","v":"2024-04-27"}]
[null,null,{"$f":"Jahreskalender!C279","v":"2024-04-28"}]
[null,null,{"$f":"Jahreskalender!C280","v":"2024-04-29"}]
[null,{"$f":"C281","v":"2024-04-30"},{"$f":"Jahreskalender!C281","v":"2024-04-30"}]
[null,null,{"$f":"Jahreskalender!C282","v":"2024-05-01"}]
[null,null,{"$f":"Jahreskalender!C283","v":"2024-05-02"}]
[null,null,{"$f":"Jahreskalender!C284","v":"2024-05-03"}]
[null,null,{"$f":"Jahreskalender!C285","v":"2024-05-04"}]
[null,null,{"$f":"Jahreskalender!C286","v":"2024-05-05"}]
[null,null,{"$f":"Jahreskalender!C287","v":"2024-05-06"}]
[null,null,{"$f":"Jahreskalender!C288","v":"2024-05-07"}]
[null,null,{"$f":"Jahreskalender!C289","v":"2024-05-08"}]
[null,null,{"$f":"Jahreskalender!C290","v":"2024-05-09"}]
[null,null,{"$f":"Jahreskalender!C291","v":"2024-05-10"}]
[null,null,{"$f":"Jahreskalender!C292","v":"2024-05-11"}]
[null,null,{"$f":"Jahreskalender!C293","v":"2024-05-12"}]
[null,null,{"$f":"Jahreskalender!C294","v":"2024-05-13"}]
[null,null,{"$f":"Jahreskalender!C295","v":"2024-05-14"}]
[null,null,{"$f":"Jahreskalender!C296","v":"2024-05-15"}]
[null,null,{"$f":"Jahreskalender!C297","v":"2024-05-16"}]
[null,null,{"$f":"Jahreskalender!C298","v":"2024-05-17"}]
[null,null,{"$f":"Jahreskalender!C299","v":"2024-05-18"}]
[null,null,{"$f":"Jahreskalender!C300","v":"2024-05-19"}]
[null,null,{"$f":"Jahreskalender!C301","v":"2024-05-20"}]
[null,null,{"$f":"Jahreskalender!C302","v":"2024-05-21"}]
[null,null,{"$f":"Jahreskalender!C303","v":"2024-05-22"}]
[null,null,{"$f":"Jahreskalender!C304","v":"2024-05-23"}]
[null,null,{"$f":"Jahreskalender!C305","v":"2024-05-24"}]
[null,null,{"$f":"Jahreskalender!C306","v":"2024-05-25"}]
[null,null,{"$f":"Jahreskalender!C307","v":"2024-05-26"}]
[null,null,{"$f":"Jahreskalender!C308","v":"2024-05-27"}]
[null,null,{"$f":"Jahreskalender!C309","v":"2024-05-28"}]
[null,null,{"$f":"Jahreskalender!C310","v":"2024-05-29"}]
[null,null,{"$f":"Jahreskalender!C311","v":"2024-05-30"}]
[null,{"$f":"C312","v":"2024-05-31"},{"$f":"Jahreskalender!C312","v":"2024-05-31"}]
[null,null,{"$f":"Jahreskalender!C313","v":"2024-06-01"}]
[null,null,{"$f":"Jahreskalender!C314","v":"2024-06-02"}]
[null,null,{"$f":"Jahreskalender!C315","v":"2024-06-03"}]
[null,null,{"$f":"Jahreskalender!C316","v":"2024-06-04"}]
[null,null,{"$f":"Jahreskalender!C317","v":"2024-06-05"}]
[null,null,{"$f":"Jahreskalender!C318","v":"2024-06-06"}]
[null,null,{"$f":"Jahreskalender!C319","v":"2024-06-07"}]
[null,null,{"$f":"Jahreskalender!C320","v":"2024-06-08"}]
[null,null,{"$f":"Jahreskalender!C321","v":"2024-06-09"}]
[null,null,{"$f":"Jahreskalender!C322","v":"2024-06-10"}]
[null,null,{"$f":"Jahreskalender!C323","v":"2024-06-11"}]
[null,null,{"$f":"Jahreskalender!C324","v":"2024-06-12"}]
[null,null,{"$f":"Jahreskalender!C325","v":"2024-06-13"}]
[null,null,{"$f":"Jahreskalender!C326","v":"2024-06-14"}]
[null,null,{"$f":"Jahreskalender!C327","v":"2024-06-15"}]
[null,null,{"$f":"Jahreskalender!C328","v":"2024-06-16"}]
[null,null,{"$f":"Jahreskalender!C329","v":"2024-06-17"}]
[null,null,{"$f":"Jahreskalender!C330","v":"2024-06-18"}]
[null,null,{"$f":"Jahreskalender!C331","v":"2024-06-19"}]
[null,null,{"$f":"Jahreskalender!C332","v":"2024-06-20"}]
[null,null,{"$f":"Jahreskalender!C333","v":"2024-06-21"}]
[null,null,{"$f":"Jahreskalender!C334","v":"2024-06-22"}]
[null,null,{"$f":"Jahreskalender!C335","v":"2024-06-23"}]
[null,null,{"$f":"Jahreskalender!C336","v":"2024-06-24"}]
[null,null,{"$f":"Jahreskalender!C337","v":"2024-06-25"}]
[null,null,{"$f":"Jahreskalender!C338","v":"2024-06-26"}]
[null,null,{"$f":"Jahreskalender!C339","v":"2024-06-27"}]
[null,null,{"$f":"Jahreskalender!C340","v":"2024-06-28"}]
[null,null,{"$f":"Jahreskalender!C341","v":"2024-06-29"}]
[null,{"$f":"C342","v":"2024-06-30"},{"$f":"Jahreskalender!C342","v":"2024-06-30"}]
[null,null,{"$f":"Jahreskalender!C343","v":"2024-07-01"}]
[null,null,{"$f":"Jahreskalender!C344","v":"2024-07-02"}]
[null,null,{"$f":"Jahreskalender!C345","v":"2024-07-03"}]
[null,null,{"$f":"Jahreskalender!C346","v":"2024-07-04"}]
[null,null,{"$f":"Jahreskalender!C347","v":"2024-07-05"}]
[null,null,{"$f":"Jahreskalender!C348","v":"2024-07-06"}]
[null,null,{"$f":"Jahreskalender!C349","v":"2024-07-07"}]
[null,null,{"$f":"Jahreskalender!C350","v":"2024-07-08"}]
[null,null,{"$f":"Jahreskalender!C351","v":"2024-07-09"}]
[null,null,{"$f":"Jahreskalender!C352","v":"2024-07-10"}]
[null,null,{"$f":"Jahreskalender!C353","v":"2024-07-11"}]
[null,null,{"$f":"Jahreskalender!C354","v":"2024-07-12"}]
[null,null,{"$f":"Jahreskalender!C355","v":"2024-07-13"}]
[null,null,{"$f":"Jahreskalender!C356","v":"2024-07-14"}]
[null,null,{"$f":"Jahreskalender!C357","v":"2024-07-15"}]
[null,null,{"$f":"Jahreskalender!C358","v":"2024-07-16"}]
[null,null,{"$f":"Jahreskalender!C359","v":"2024-07-17"}]
[null,null,{"$f":"Jahreskalender!C360","v":"2024-07-18"}]
[null,null,{"$f":"Jahreskalender!C361","v":"2024-07-19"}]
[null,null,{"$f":"Jahreskalender!C362","v":"2024-07-20"}]
[null,null,{"$f":"Jahreskalender!C363","v":"2024-07-21"}]
[null,null,{"$f":"Jahreskalender!C364","v":"2024-07-22"}]
[null,null,{"$f":"Jahreskalender!C365","v":"2024-07-23"}]
[null,null,{"$f":"Jahreskalender!C366","v":"2024-07-24"}]
[null,null,{"$f":"Jahreskalender!C367","v":"2024-07-25"}]
[null,null,{"$f":"Jahreskalender!C368","v":"2024-07-26"}]
[null,null,{"$f":"Jahreskalender!C369","v":"2024-07-27"}]
[null,null,{"$f":"Jahreskalender!C370","v":"2024-07-28"}]
[null,null,{"$f":"Jahreskalender!C371","v":"2024-07-29"}]
[null,null,{"$f":"Jahreskalender!C372","v":"2024-07-30"}]
[null,null,{"$f":"Jahreskalender!C373","v":"2024-07-31"}]
[null," "," ",null,null,null,null,null,null,null,null,null,null," "," "," "," "," "," ",null," "," "]

{"sheet":"Umstellung","index":18,"n_rows":20,"n_cols":1,"rows_kept":20,"cut":false,"hidden":true,"merged":[]}
["Umstellung auf neues Schuljahr"]
[]
["1. Register <Kennzahlen> auswählen und entsperren"]
["2. Gliederung einblenden (Datei / Optionen  / Erweitert)"]
["3. Alle Gliederungsebenen anzeigen"]
["4. Kalenderbeginn setzen: 1.8.202."]
[]
["5. Register <Jahreskalender> auswählen und entsperren"]
["6. Gliederung einblenden (Datei / Optionen  / Erweitert)"]
[]
["6. SZ (Schulzeit) und SFZ (Schulfreie Zeit) entsprechend den kantonalen Ferienvorgaben anpassen."]
[]
[]
["7. Register <Zeiterfassung> auswählen und entsperren"]
["8. Gliederung einblenden (Datei / Optionen  / Erweitert)"]
["9. Markos im Register <Zeiterfassung> desaktivieren (Kommentar ' bei Exit Sub entfernen)"]
["10. Register <Zeiterfassung> Wochenendformate anpassen"]
[]
["11. Wochenendformatierungen bereinigen."]
["12. Markos im Register <Zeiterfassung> deaktivieren (Kommentar ' bei Exit Sub setzen"]